Workbook

Sheet ReadMe
A2: This is the master file (type I: work sheet per indicator) behind the Cedefop statistical overviews (2017 update).
A3: The file describes 36 indicators in 33 countries and in the EU28.
A5: The file contains one work sheet per indicator.
A6: The name of the work sheet consists of a prefix ("Ind") and the number of the indicator.
B7: There are three additional work sheets, named
C8: IndData,
C9: IndList,
C10: IndSources.
B11: These three serve as inputs to the work sheets describing the indicators.
B12: They are not meant for direct consultation.
A14: The description of an indicator consists of four parts:
B15: 1 | C15: "Description"
D16: Number, label, short description, group (one of three) and source (general) of the indicator.
B17: 2 | C17: "Indicator values and flags"
D18: This is a table with the indicator values and flags.
D19: The columns cover the time interval 2010 to 2016.
D20: There are 34 rows: one for the EU28 data and one for each of the 33 countries involved in the statistical overviews.
D21: In some cases the indicator values and flags have been copied directly from a single source.
D22: In the other cases some calculations have been involved, combining data from different sources and / or deriving an EU28 value from country data.
B23: 3 | C23: "References to sources"
D24: This is a list of the data sources from which the indicator values and flags have been derived.
D25: "Source number" refers to a work sheet (with the same name) in a separate Excel file.
D26: The work sheet contains the raw data and a complete description of the download process.
D27: "Eurostat table" refers to the Eurostat table code (when applicable).
D28: "Download date" is the date the raw data have been downloaded (or, in some cases received via e-mail).
B29: 4 | C29: "Further specification"
D30: This part is only present when country values or EU28 values have been calculated.
D31: It specifies the details of the calculation.
A33: The following table is a list of the 36 indicators. The column "Link" contains hyperlinks to the work sheets.
A35: Link | B35: No | C35: Label | D35: Short description and general indication of the source | E35: Baseline year | F35: Last available year
A36: ="Ind"&B36 -> Ind1010 | B36: =IndList!K3 -> 1010 | C36: =IndList!L3 -> IVET students as % of all upper secondary students | D36: =IndList!M3 -> Number of students in upper secondary IVET (ISCED 3) as a percentage of all upper secondary students. (Cedefop calculations based on Eurostat, UOE) (b) | E36: =IndList!N3 -> 2010 | F36: =IndList!O3 -> 2015
A37: ="Ind"&B37 -> Ind1020 | B37: =IndList!K4 -> 1020 | C37: =IndList!L4 -> IVET work-based students as % of all upper secondary IVET | D37: =IndList!M4 -> Number of students in combined work- and school-based upper secondary IVET (ISCED 3) as a percentage of all students in upper secondary IVET. (Cedefop calculations based on Eurostat, UOE) (b) | E37: =IndList!N4 -> 2010 | F37: =IndList!O4 -> 2015
A38: ="Ind"&B38 -> Ind1025 | B38: =IndList!K5 -> 1025 | C38: =IndList!L5 -> IVET students with direct access to tertiary education as % of all upper secondary IVET | D38: =IndList!M5 -> Number of students in upper secondary IVET (ISCED 3) enrolled in programmes giving direct access to tertiary education as a percentage of all students in upper secondary IVET. (Cedefop calculations based on Eurostat, UOE) (b) | E38: =IndList!N5 -> 2010 | F38: =IndList!O5 -> 2015
A39: ="Ind"&B39 -> Ind1030 | B39: =IndList!K6 -> 1030 | C39: =IndList!L6 -> Employees participating in CVT courses (%) | D39: =IndList!M6 -> Number of employees who have participated in employer-sponsored CVT courses during the reference calendar year (12 months) as a percentage of all employees in all enterprises surveyed. (Eurostat, CVTS) | E39: =IndList!N6 -> 2010 | F39: =IndList!O6 -> 2010
A40: ="Ind"&B40 -> Ind1040 | B40: =IndList!K7 -> 1040 | C40: =IndList!L7 -> Employees participating in on-the-job training (%) | D40: =IndList!M7 -> Number of employees who have participated in employer-sponsored on-the-job training during the reference calendar year (12 months) as a percentage of all employees in all enterprises surveyed. (Eurostat, CVTS) | E40: =IndList!N7 -> 2010 | F40: =IndList!O7 -> 2010
A41: ="Ind"&B41 -> Ind1050 | B41: =IndList!K8 -> 1050 | C41: =IndList!L8 -> Adults in lifelong learning (%) | D41: =IndList!M8 -> Percentage of the population aged 25-64 participating in education and training over the four weeks prior to the survey. (Eurostat, LFS) | E41: =IndList!N8 -> 2010 | F41: =IndList!O8 -> 2016
A42: ="Ind"&B42 -> Ind1060 | B42: =IndList!K9 -> 1060 | C42: =IndList!L9 -> Enterprises providing training (%) | D42: =IndList!M9 -> Percentage of enterprises providing any type of vocational training to their employees during the reference calendar year (12 months). (Eurostat, CVTS) | E42: =IndList!N9 -> 2010 | F42: =IndList!O9 -> 2010
A43: ="Ind"&B43 -> Ind1070 | B43: =IndList!K10 -> 1070 | C43: =IndList!L10 -> Female IVET students as % of all female upper secondary students | D43: =IndList!M10 -> Number of female students in upper secondary IVET (ISCED 3) as a percentage of all female students in upper secondary education. (Cedefop calculations based on Eurostat, UOE) (b) | E43: =IndList!N10 -> 2010 | F43: =IndList!O10 -> 2015
A44: ="Ind"&B44 -> Ind1075 | B44: =IndList!K11 -> 1075 | C44: =IndList!L11 -> Employees of small firms participating in CVT courses (%) | D44: =IndList!M11 -> Number of employees in small enterprises who have participated in employer-sponsored CVT courses during the reference calendar year (12 months) as a percentage of all employees in all small enterprises surveyed (small enterprises covered by the survey are those from 10 to 49 employees). (Eurostat, CVTS) | E44: =IndList!N11 -> 2010 | F44: =IndList!O11 -> 2010
A45: ="Ind"&B45 -> Ind1080 | B45: =IndList!K12 -> 1080 | C45: =IndList!L12 -> Young VET graduates in further education and training (%) | D45: =IndList!M12 -> Percentage of the population aged 18-24 with a medium-level vocational qualification (ISCED 3 or 4) as their highest educational attainment who participated in education and training over four weeks prior to the survey. (Eurostat calculations based on LFS) (a) | E45: =IndList!N12 -> 2010 | F45: =IndList!O12 -> 2016
...

Sheet Ind1010
A2: Description | D2: Offset | E2: =ROW(IndList!A3)-ROW(IndList!A3) -> 0
B3: Indicator number
C4: =OFFSET(IndList!B3,$E$2,0) -> IND1010
B5: Label
C6: =OFFSET(IndList!C3,$E$2,0) -> IVET students as % of all upper secondary students
B7: Description
C8: =OFFSET(IndList!D3,$E$2,0) -> Number of students in upper secondary IVET (ISCED 3) as a percentage of all upper secondary students.
B9: Group
C10: =OFFSET(IndList!E3,$E$2,0) -> Access, attractiveness and flexibility
B11: Source
C12: =OFFSET(IndList!F3,$E$2,0) -> Cedefop calculations based on Eurostat, UOE
A14: Indicator values and flags | D14: Offset | E14: =ROW(IndData!A3)-ROW(IndData!A3) -> 0
B16: Geographical unit | D16: 2010 | F16: 2011 | H16: 2012 | J16: 2013 | L16: 2014 | N16: 2015 | P16: 2016
D17: Value | E17: Flag | F17: Value | G17: Flag | H17: Value | I17: Flag | J17: Value | K17: Flag | L17: Value | M17: Flag | N17: Value | O17: Flag | P17: Value | Q17: Flag
B18: =IF(OFFSET(IndData!C3,$E$14,0)="","",OFFSET(IndData!C3,$E$14,0)) -> EU28 | C18: =IF(OFFSET(IndData!D3,$E$14,0)="","",OFFSET(IndData!D3,$E$14,0)) | D18: =IF(OFFSET(IndData!E3,$E$14,0)="","",OFFSET(IndData!E3,$E$14,0)) | E18: =IF(OFFSET(IndData!F3,$E$14,0)="","",OFFSET(IndData!F3,$E$14,0)) | F18: =IF(OFFSET(IndData!G3,$E$14,0)="","",OFFSET(IndData!G3,$E$14,0)) | G18: =IF(OFFSET(IndData!H3,$E$14,0)="","",OFFSET(IndData!H3,$E$14,0)) | H18: =IF(OFFSET(IndData!I3,$E$14,0)="","",OFFSET(IndData!I3,$E$14,0)) | I18: =IF(OFFSET(IndData!J3,$E$14,0)="","",OFFSET(IndData!J3,$E$14,0)) | ... Q18: =IF(OFFSET(IndData!R3,$E$14,0)="","",OFFSET(IndData!R3,$E$14,0))
B19: =IF(OFFSET(IndData!C4,$E$14,0)="","",OFFSET(IndData!C4,$E$14,0)) -> BE | C19: =IF(OFFSET(IndData!D4,$E$14,0)="","",OFFSET(IndData!D4,$E$14,0)) -> Belgium | D19: =IF(OFFSET(IndData!E4,$E$14,0)="","",OFFSET(IndData!E4,$E$14,0)) | E19: =IF(OFFSET(IndData!F4,$E$14,0)="","",OFFSET(IndData!F4,$E$14,0)) | F19: =IF(OFFSET(IndData!G4,$E$14,0)="","",OFFSET(IndData!G4,$E$14,0)) | G19: =IF(OFFSET(IndData!H4,$E$14,0)="","",OFFSET(IndData!H4,$E$14,0)) | H19: =IF(OFFSET(IndData!I4,$E$14,0)="","",OFFSET(IndData!I4,$E$14,0)) | I19: =IF(OFFSET(IndData!J4,$E$14,0)="","",OFFSET(IndData!J4,$E$14,0)) | ... Q19: =IF(OFFSET(IndData!R4,$E$14,0)="","",OFFSET(IndData!R4,$E$14,0))
B20: =IF(OFFSET(IndData!C5,$E$14,0)="","",OFFSET(IndData!C5,$E$14,0)) -> BG | C20: =IF(OFFSET(IndData!D5,$E$14,0)="","",OFFSET(IndData!D5,$E$14,0)) -> Bulgaria | D20: =IF(OFFSET(IndData!E5,$E$14,0)="","",OFFSET(IndData!E5,$E$14,0)) | E20: =IF(OFFSET(IndData!F5,$E$14,0)="","",OFFSET(IndData!F5,$E$14,0)) | F20: =IF(OFFSET(IndData!G5,$E$14,0)="","",OFFSET(IndData!G5,$E$14,0)) | G20: =IF(OFFSET(IndData!H5,$E$14,0)="","",OFFSET(IndData!H5,$E$14,0)) | H20: =IF(OFFSET(IndData!I5,$E$14,0)="","",OFFSET(IndData!I5,$E$14,0)) | I20: =IF(OFFSET(IndData!J5,$E$14,0)="","",OFFSET(IndData!J5,$E$14,0)) | ... Q20: =IF(OFFSET(IndData!R5,$E$14,0)="","",OFFSET(IndData!R5,$E$14,0))
B21: =IF(OFFSET(IndData!C6,$E$14,0)="","",OFFSET(IndData!C6,$E$14,0)) -> CZ | C21: =IF(OFFSET(IndData!D6,$E$14,0)="","",OFFSET(IndData!D6,$E$14,0)) -> Czech Republic | D21: =IF(OFFSET(IndData!E6,$E$14,0)="","",OFFSET(IndData!E6,$E$14,0)) | E21: =IF(OFFSET(IndData!F6,$E$14,0)="","",OFFSET(IndData!F6,$E$14,0)) | F21: =IF(OFFSET(IndData!G6,$E$14,0)="","",OFFSET(IndData!G6,$E$14,0)) | G21: =IF(OFFSET(IndData!H6,$E$14,0)="","",OFFSET(IndData!H6,$E$14,0)) | H21: =IF(OFFSET(IndData!I6,$E$14,0)="","",OFFSET(IndData!I6,$E$14,0)) | I21: =IF(OFFSET(IndData!J6,$E$14,0)="","",OFFSET(IndData!J6,$E$14,0)) | ... Q21: =IF(OFFSET(IndData!R6,$E$14,0)="","",OFFSET(IndData!R6,$E$14,0))
B22: =IF(OFFSET(IndData!C7,$E$14,0)="","",OFFSET(IndData!C7,$E$14,0)) -> DK | C22: =IF(OFFSET(IndData!D7,$E$14,0)="","",OFFSET(IndData!D7,$E$14,0)) -> Denmark | D22: =IF(OFFSET(IndData!E7,$E$14,0)="","",OFFSET(IndData!E7,$E$14,0)) | E22: =IF(OFFSET(IndData!F7,$E$14,0)="","",OFFSET(IndData!F7,$E$14,0)) | F22: =IF(OFFSET(IndData!G7,$E$14,0)="","",OFFSET(IndData!G7,$E$14,0)) | G22: =IF(OFFSET(IndData!H7,$E$14,0)="","",OFFSET(IndData!H7,$E$14,0)) | H22: =IF(OFFSET(IndData!I7,$E$14,0)="","",OFFSET(IndData!I7,$E$14,0)) | I22: =IF(OFFSET(IndData!J7,$E$14,0)="","",OFFSET(IndData!J7,$E$14,0)) | ... Q22: =IF(OFFSET(IndData!R7,$E$14,0)="","",OFFSET(IndData!R7,$E$14,0))
B23: =IF(OFFSET(IndData!C8,$E$14,0)="","",OFFSET(IndData!C8,$E$14,0)) -> DE | C23: =IF(OFFSET(IndData!D8,$E$14,0)="","",OFFSET(IndData!D8,$E$14,0)) -> Germany | D23: =IF(OFFSET(IndData!E8,$E$14,0)="","",OFFSET(IndData!E8,$E$14,0)) | E23: =IF(OFFSET(IndData!F8,$E$14,0)="","",OFFSET(IndData!F8,$E$14,0)) | F23: =IF(OFFSET(IndData!G8,$E$14,0)="","",OFFSET(IndData!G8,$E$14,0)) | G23: =IF(OFFSET(IndData!H8,$E$14,0)="","",OFFSET(IndData!H8,$E$14,0)) | H23: =IF(OFFSET(IndData!I8,$E$14,0)="","",OFFSET(IndData!I8,$E$14,0)) | I23: =IF(OFFSET(IndData!J8,$E$14,0)="","",OFFSET(IndData!J8,$E$14,0)) | ... Q23: =IF(OFFSET(IndData!R8,$E$14,0)="","",OFFSET(IndData!R8,$E$14,0))
B24: =IF(OFFSET(IndData!C9,$E$14,0)="","",OFFSET(IndData!C9,$E$14,0)) -> EE | C24: =IF(OFFSET(IndData!D9,$E$14,0)="","",OFFSET(IndData!D9,$E$14,0)) -> Estonia | D24: =IF(OFFSET(IndData!E9,$E$14,0)="","",OFFSET(IndData!E9,$E$14,0)) | E24: =IF(OFFSET(IndData!F9,$E$14,0)="","",OFFSET(IndData!F9,$E$14,0)) | F24: =IF(OFFSET(IndData!G9,$E$14,0)="","",OFFSET(IndData!G9,$E$14,0)) | G24: =IF(OFFSET(IndData!H9,$E$14,0)="","",OFFSET(IndData!H9,$E$14,0)) | H24: =IF(OFFSET(IndData!I9,$E$14,0)="","",OFFSET(IndData!I9,$E$14,0)) | I24: =IF(OFFSET(IndData!J9,$E$14,0)="","",OFFSET(IndData!J9,$E$14,0)) | ... Q24: =IF(OFFSET(IndData!R9,$E$14,0)="","",OFFSET(IndData!R9,$E$14,0))
B25: =IF(OFFSET(IndData!C10,$E$14,0)="","",OFFSET(IndData!C10,$E$14,0)) -> IE | C25: =IF(OFFSET(IndData!D10,$E$14,0)="","",OFFSET(IndData!D10,$E$14,0)) -> Ireland | D25: =IF(OFFSET(IndData!E10,$E$14,0)="","",OFFSET(IndData!E10,$E$14,0)) | E25: =IF(OFFSET(IndData!F10,$E$14,0)="","",OFFSET(IndData!F10,$E$14,0)) | F25: =IF(OFFSET(IndData!G10,$E$14,0)="","",OFFSET(IndData!G10,$E$14,0)) | G25: =IF(OFFSET(IndData!H10,$E$14,0)="","",OFFSET(IndData!H10,$E$14,0)) | H25: =IF(OFFSET(IndData!I10,$E$14,0)="","",OFFSET(IndData!I10,$E$14,0)) | I25: =IF(OFFSET(IndData!J10,$E$14,0)="","",OFFSET(IndData!J10,$E$14,0)) | ... Q25: =IF(OFFSET(IndData!R10,$E$14,0)="","",OFFSET(IndData!R10,$E$14,0))
B26: =IF(OFFSET(IndData!C11,$E$14,0)="","",OFFSET(IndData!C11,$E$14,0)) -> EL | C26: =IF(OFFSET(IndData!D11,$E$14,0)="","",OFFSET(IndData!D11,$E$14,0)) -> Greece | D26: =IF(OFFSET(IndData!E11,$E$14,0)="","",OFFSET(IndData!E11,$E$14,0)) | E26: =IF(OFFSET(IndData!F11,$E$14,0)="","",OFFSET(IndData!F11,$E$14,0)) | F26: =IF(OFFSET(IndData!G11,$E$14,0)="","",OFFSET(IndData!G11,$E$14,0)) | G26: =IF(OFFSET(IndData!H11,$E$14,0)="","",OFFSET(IndData!H11,$E$14,0)) | H26: =IF(OFFSET(IndData!I11,$E$14,0)="","",OFFSET(IndData!I11,$E$14,0)) | I26: =IF(OFFSET(IndData!J11,$E$14,0)="","",OFFSET(IndData!J11,$E$14,0)) | ... Q26: =IF(OFFSET(IndData!R11,$E$14,0)="","",OFFSET(IndData!R11,$E$14,0))
B27: =IF(OFFSET(IndData!C12,$E$14,0)="","",OFFSET(IndData!C12,$E$14,0)) -> ES | C27: =IF(OFFSET(IndData!D12,$E$14,0)="","",OFFSET(IndData!D12,$E$14,0)) -> Spain | D27: =IF(OFFSET(IndData!E12,$E$14,0)="","",OFFSET(IndData!E12,$E$14,0)) | E27: =IF(OFFSET(IndData!F12,$E$14,0)="","",OFFSET(IndData!F12,$E$14,0)) | F27: =IF(OFFSET(IndData!G12,$E$14,0)="","",OFFSET(IndData!G12,$E$14,0)) | G27: =IF(OFFSET(IndData!H12,$E$14,0)="","",OFFSET(IndData!H12,$E$14,0)) | H27: =IF(OFFSET(IndData!I12,$E$14,0)="","",OFFSET(IndData!I12,$E$14,0)) | I27: =IF(OFFSET(IndData!J12,$E$14,0)="","",OFFSET(IndData!J12,$E$14,0)) | ... Q27: =IF(OFFSET(IndData!R12,$E$14,0)="","",OFFSET(IndData!R12,$E$14,0))
B28: =IF(OFFSET(IndData!C13,$E$14,0)="","",OFFSET(IndData!C13,$E$14,0)) -> FR | C28: =IF(OFFSET(IndData!D13,$E$14,0)="","",OFFSET(IndData!D13,$E$14,0)) -> France | D28: =IF(OFFSET(IndData!E13,$E$14,0)="","",OFFSET(IndData!E13,$E$14,0)) | E28: =IF(OFFSET(IndData!F13,$E$14,0)="","",OFFSET(IndData!F13,$E$14,0)) | F28: =IF(OFFSET(IndData!G13,$E$14,0)="","",OFFSET(IndData!G13,$E$14,0)) | G28: =IF(OFFSET(IndData!H13,$E$14,0)="","",OFFSET(IndData!H13,$E$14,0)) | H28: =IF(OFFSET(IndData!I13,$E$14,0)="","",OFFSET(IndData!I13,$E$14,0)) | I28: =IF(OFFSET(IndData!J13,$E$14,0)="","",OFFSET(IndData!J13,$E$14,0)) | ... Q28: =IF(OFFSET(IndData!R13,$E$14,0)="","",OFFSET(IndData!R13,$E$14,0))
B29: =IF(OFFSET(IndData!C14,$E$14,0)="","",OFFSET(IndData!C14,$E$14,0)) -> HR | C29: =IF(OFFSET(IndData!D14,$E$14,0)="","",OFFSET(IndData!D14,$E$14,0)) -> Croatia | D29: =IF(OFFSET(IndData!E14,$E$14,0)="","",OFFSET(IndData!E14,$E$14,0)) | E29: =IF(OFFSET(IndData!F14,$E$14,0)="","",OFFSET(IndData!F14,$E$14,0)) | F29: =IF(OFFSET(IndData!G14,$E$14,0)="","",OFFSET(IndData!G14,$E$14,0)) | G29: =IF(OFFSET(IndData!H14,$E$14,0)="","",OFFSET(IndData!H14,$E$14,0)) | H29: =IF(OFFSET(IndData!I14,$E$14,0)="","",OFFSET(IndData!I14,$E$14,0)) | I29: =IF(OFFSET(IndData!J14,$E$14,0)="","",OFFSET(IndData!J14,$E$14,0)) | ... Q29: =IF(OFFSET(IndData!R14,$E$14,0)="","",OFFSET(IndData!R14,$E$14,0))
... B51: =IF(OFFSET(IndData!C36,$E$14,0)="","",OFFSET(IndData!C36,$E$14,0)) -> TR | C51: =IF(OFFSET(IndData!D36,$E$14,0)="","",OFFSET(IndData!D36,$E$14,0)) -> Turkey | D51: =IF(OFFSET(IndData!E36,$E$14,0)="","",OFFSET(IndData!E36,$E$14,0)) | E51: =IF(OFFSET(IndData!F36,$E$14,0)="","",OFFSET(IndData!F36,$E$14,0)) | F51: =IF(OFFSET(IndData!G36,$E$14,0)="","",OFFSET(IndData!G36,$E$14,0)) | G51: =IF(OFFSET(IndData!H36,$E$14,0)="","",OFFSET(IndData!H36,$E$14,0)) | H51: =IF(OFFSET(IndData!I36,$E$14,0)="","",OFFSET(IndData!I36,$E$14,0)) | I51: =IF(OFFSET(IndData!J36,$E$14,0)="","",OFFSET(IndData!J36,$E$14,0)) | ... Q51: =IF(OFFSET(IndData!R36,$E$14,0)="","",OFFSET(IndData!R36,$E$14,0))
A53: References to sources
B55: Country values and flags are derived from
C56: Source number | D56: Eurostat table | F56: Download date
C57: =IndSources!C3 -> S0140 | D57: =IndSources!D3 -> educ_uoe_enrs04 | F57: =IndSources!E3 -> "10 October 2017" | I57: ED3m
C58: =IndSources!C4 -> S0142 | D58: =IndSources!D4 -> educ_uoe_enrs04 | F58: =IndSources!E4 -> "10 October 2017" | I58: ED35m
C59: =IndSources!C5 -> S0143 | D59: =IndSources!D5 -> educ_uoe_enrs04 | F59: =IndSources!E5 -> "10 October 2017" | I59: ED3f
C60: =IndSources!C6 -> S0145 | D60: =IndSources!D6 -> educ_uoe_enrs04 | F60: =IndSources!E6 -> "10 October 2017" | I60: ED35f
C61: =IndSources!C7 -> S0227 | D61: =IndSources!D7 -> educ_uoe_enra16 | F61: =IndSources!E7 -> "10 October 2017" | I61: ED3m
C62: =IndSources!C8 -> S0228 | D62: =IndSources!D8 -> educ_uoe_enra16 | F62: =IndSources!E8 -> "10 October 2017" | I62: ED3f
C63: =IndSources!C9 -> S0231 | D63: =IndSources!D9 -> educ_uoe_enra16 | F63: =IndSources!E9 -> "10 October 2017" | I63: ED35m
C64: =IndSources!C10 -> S0232 | D64: =IndSources!D10 -> educ_uoe_enra16 | F64: =IndSources!E10 -> "10 October 2017" | I64: ED35f
B65: EU28 value calculated by Cedefop from the same sources.
A67: Further specification
...

Sheet Ind1020
A2: Description | D2: Offset | E2: =ROW(IndList!A4)-ROW(IndList!A3) -> 1
B3: Indicator number
C4: =OFFSET(IndList!B3,$E$2,0) -> IND1020
B5: Label
C6: =OFFSET(IndList!C3,$E$2,0) -> IVET work-based students as % of all upper secondary IVET
B7: Description
C8: =OFFSET(IndList!D3,$E$2,0) -> Number of students in combined work- and school-based upper secondary IVET (ISCED 3) as a percentage of all students in upper secondary IVET.
B9: Group
C10: =OFFSET(IndList!E3,$E$2,0) -> Access, attractiveness and flexibility
B11: Source
C12: =OFFSET(IndList!F3,$E$2,0) -> Cedefop calculations based on Eurostat, UOE
A14: Indicator values and flags | D14: Offset | E14: =ROW(IndData!A37)-ROW(IndData!A3) -> 34
B16: Geographical unit | D16: 2010 | F16: 2011 | H16: 2012 | J16: 2013 | L16: 2014 | N16: 2015 | P16: 2016
D17: Value | E17: Flag | F17: Value | G17: Flag | H17: Value | I17: Flag | J17: Value | K17: Flag | L17: Value | M17: Flag | N17: Value | O17: Flag | P17: Value | Q17: Flag
B18: =IF(OFFSET(IndData!C3,$E$14,0)="","",OFFSET(IndData!C3,$E$14,0)) -> EU28 | C18: =IF(OFFSET(IndData!D3,$E$14,0)="","",OFFSET(IndData!D3,$E$14,0)) | D18: =IF(OFFSET(IndData!E3,$E$14,0)="","",OFFSET(IndData!E3,$E$14,0)) | E18: =IF(OFFSET(IndData!F3,$E$14,0)="","",OFFSET(IndData!F3,$E$14,0)) | F18: =IF(OFFSET(IndData!G3,$E$14,0)="","",OFFSET(IndData!G3,$E$14,0)) | G18: =IF(OFFSET(IndData!H3,$E$14,0)="","",OFFSET(IndData!H3,$E$14,0)) | H18: =IF(OFFSET(IndData!I3,$E$14,0)="","",OFFSET(IndData!I3,$E$14,0)) | I18: =IF(OFFSET(IndData!J3,$E$14,0)="","",OFFSET(IndData!J3,$E$14,0)) | ... Q18: =IF(OFFSET(IndData!R3,$E$14,0)="","",OFFSET(IndData!R3,$E$14,0))
B19: =IF(OFFSET(IndData!C4,$E$14,0)="","",OFFSET(IndData!C4,$E$14,0)) -> BE | C19: =IF(OFFSET(IndData!D4,$E$14,0)="","",OFFSET(IndData!D4,$E$14,0)) -> Belgium | D19: =IF(OFFSET(IndData!E4,$E$14,0)="","",OFFSET(IndData!E4,$E$14,0)) | E19: =IF(OFFSET(IndData!F4,$E$14,0)="","",OFFSET(IndData!F4,$E$14,0)) | F19: =IF(OFFSET(IndData!G4,$E$14,0)="","",OFFSET(IndData!G4,$E$14,0)) | G19: =IF(OFFSET(IndData!H4,$E$14,0)="","",OFFSET(IndData!H4,$E$14,0)) | H19: =IF(OFFSET(IndData!I4,$E$14,0)="","",OFFSET(IndData!I4,$E$14,0)) | I19: =IF(OFFSET(IndData!J4,$E$14,0)="","",OFFSET(IndData!J4,$E$14,0)) | ... Q19: =IF(OFFSET(IndData!R4,$E$14,0)="","",OFFSET(IndData!R4,$E$14,0))
B20: =IF(OFFSET(IndData!C5,$E$14,0)="","",OFFSET(IndData!C5,$E$14,0)) -> BG | C20: =IF(OFFSET(IndData!D5,$E$14,0)="","",OFFSET(IndData!D5,$E$14,0)) -> Bulgaria | D20: =IF(OFFSET(IndData!E5,$E$14,0)="","",OFFSET(IndData!E5,$E$14,0)) | E20: =IF(OFFSET(IndData!F5,$E$14,0)="","",OFFSET(IndData!F5,$E$14,0)) | F20: =IF(OFFSET(IndData!G5,$E$14,0)="","",OFFSET(IndData!G5,$E$14,0)) | G20: =IF(OFFSET(IndData!H5,$E$14,0)="","",OFFSET(IndData!H5,$E$14,0)) | H20: =IF(OFFSET(IndData!I5,$E$14,0)="","",OFFSET(IndData!I5,$E$14,0)) | I20: =IF(OFFSET(IndData!J5,$E$14,0)="","",OFFSET(IndData!J5,$E$14,0)) | ... Q20: =IF(OFFSET(IndData!R5,$E$14,0)="","",OFFSET(IndData!R5,$E$14,0))
B21: =IF(OFFSET(IndData!C6,$E$14,0)="","",OFFSET(IndData!C6,$E$14,0)) -> CZ | C21: =IF(OFFSET(IndData!D6,$E$14,0)="","",OFFSET(IndData!D6,$E$14,0)) -> Czech Republic | D21: =IF(OFFSET(IndData!E6,$E$14,0)="","",OFFSET(IndData!E6,$E$14,0)) | E21: =IF(OFFSET(IndData!F6,$E$14,0)="","",OFFSET(IndData!F6,$E$14,0)) | F21: =IF(OFFSET(IndData!G6,$E$14,0)="","",OFFSET(IndData!G6,$E$14,0)) | G21: =IF(OFFSET(IndData!H6,$E$14,0)="","",OFFSET(IndData!H6,$E$14,0)) | H21: =IF(OFFSET(IndData!I6,$E$14,0)="","",OFFSET(IndData!I6,$E$14,0)) | I21: =IF(OFFSET(IndData!J6,$E$14,0)="","",OFFSET(IndData!J6,$E$14,0)) | ... Q21: =IF(OFFSET(IndData!R6,$E$14,0)="","",OFFSET(IndData!R6,$E$14,0))
B22: =IF(OFFSET(IndData!C7,$E$14,0)="","",OFFSET(IndData!C7,$E$14,0)) -> DK | C22: =IF(OFFSET(IndData!D7,$E$14,0)="","",OFFSET(IndData!D7,$E$14,0)) -> Denmark | D22: =IF(OFFSET(IndData!E7,$E$14,0)="","",OFFSET(IndData!E7,$E$14,0)) | E22: =IF(OFFSET(IndData!F7,$E$14,0)="","",OFFSET(IndData!F7,$E$14,0)) | F22: =IF(OFFSET(IndData!G7,$E$14,0)="","",OFFSET(IndData!G7,$E$14,0)) | G22: =IF(OFFSET(IndData!H7,$E$14,0)="","",OFFSET(IndData!H7,$E$14,0)) | H22: =IF(OFFSET(IndData!I7,$E$14,0)="","",OFFSET(IndData!I7,$E$14,0)) | I22: =IF(OFFSET(IndData!J7,$E$14,0)="","",OFFSET(IndData!J7,$E$14,0)) | ... Q22: =IF(OFFSET(IndData!R7,$E$14,0)="","",OFFSET(IndData!R7,$E$14,0))
B23: =IF(OFFSET(IndData!C8,$E$14,0)="","",OFFSET(IndData!C8,$E$14,0)) -> DE | C23: =IF(OFFSET(IndData!D8,$E$14,0)="","",OFFSET(IndData!D8,$E$14,0)) -> Germany | D23: =IF(OFFSET(IndData!E8,$E$14,0)="","",OFFSET(IndData!E8,$E$14,0)) | E23: =IF(OFFSET(IndData!F8,$E$14,0)="","",OFFSET(IndData!F8,$E$14,0)) | F23: =IF(OFFSET(IndData!G8,$E$14,0)="","",OFFSET(IndData!G8,$E$14,0)) | G23: =IF(OFFSET(IndData!H8,$E$14,0)="","",OFFSET(IndData!H8,$E$14,0)) | H23: =IF(OFFSET(IndData!I8,$E$14,0)="","",OFFSET(IndData!I8,$E$14,0)) | I23: =IF(OFFSET(IndData!J8,$E$14,0)="","",OFFSET(IndData!J8,$E$14,0)) | ... Q23: =IF(OFFSET(IndData!R8,$E$14,0)="","",OFFSET(IndData!R8,$E$14,0))
B24: =IF(OFFSET(IndData!C9,$E$14,0)="","",OFFSET(IndData!C9,$E$14,0)) -> EE | C24: =IF(OFFSET(IndData!D9,$E$14,0)="","",OFFSET(IndData!D9,$E$14,0)) -> Estonia | D24: =IF(OFFSET(IndData!E9,$E$14,0)="","",OFFSET(IndData!E9,$E$14,0)) | E24: =IF(OFFSET(IndData!F9,$E$14,0)="","",OFFSET(IndData!F9,$E$14,0)) | F24: =IF(OFFSET(IndData!G9,$E$14,0)="","",OFFSET(IndData!G9,$E$14,0)) | G24: =IF(OFFSET(IndData!H9,$E$14,0)="","",OFFSET(IndData!H9,$E$14,0)) | H24: =IF(OFFSET(IndData!I9,$E$14,0)="","",OFFSET(IndData!I9,$E$14,0)) | I24: =IF(OFFSET(IndData!J9,$E$14,0)="","",OFFSET(IndData!J9,$E$14,0)) | ... Q24: =IF(OFFSET(IndData!R9,$E$14,0)="","",OFFSET(IndData!R9,$E$14,0))
B25: =IF(OFFSET(IndData!C10,$E$14,0)="","",OFFSET(IndData!C10,$E$14,0)) -> IE | C25: =IF(OFFSET(IndData!D10,$E$14,0)="","",OFFSET(IndData!D10,$E$14,0)) -> Ireland | D25: =IF(OFFSET(IndData!E10,$E$14,0)="","",OFFSET(IndData!E10,$E$14,0)) | E25: =IF(OFFSET(IndData!F10,$E$14,0)="","",OFFSET(IndData!F10,$E$14,0)) | F25: =IF(OFFSET(IndData!G10,$E$14,0)="","",OFFSET(IndData!G10,$E$14,0)) | G25: =IF(OFFSET(IndData!H10,$E$14,0)="","",OFFSET(IndData!H10,$E$14,0)) | H25: =IF(OFFSET(IndData!I10,$E$14,0)="","",OFFSET(IndData!I10,$E$14,0)) | I25: =IF(OFFSET(IndData!J10,$E$14,0)="","",OFFSET(IndData!J10,$E$14,0)) | ... Q25: =IF(OFFSET(IndData!R10,$E$14,0)="","",OFFSET(IndData!R10,$E$14,0))
B26: =IF(OFFSET(IndData!C11,$E$14,0)="","",OFFSET(IndData!C11,$E$14,0)) -> EL | C26: =IF(OFFSET(IndData!D11,$E$14,0)="","",OFFSET(IndData!D11,$E$14,0)) -> Greece | D26: =IF(OFFSET(IndData!E11,$E$14,0)="","",OFFSET(IndData!E11,$E$14,0)) | E26: =IF(OFFSET(IndData!F11,$E$14,0)="","",OFFSET(IndData!F11,$E$14,0)) | F26: =IF(OFFSET(IndData!G11,$E$14,0)="","",OFFSET(IndData!G11,$E$14,0)) | G26: =IF(OFFSET(IndData!H11,$E$14,0)="","",OFFSET(IndData!H11,$E$14,0)) | H26: =IF(OFFSET(IndData!I11,$E$14,0)="","",OFFSET(IndData!I11,$E$14,0)) | I26: =IF(OFFSET(IndData!J11,$E$14,0)="","",OFFSET(IndData!J11,$E$14,0)) | ... Q26: =IF(OFFSET(IndData!R11,$E$14,0)="","",OFFSET(IndData!R11,$E$14,0))
B27: =IF(OFFSET(IndData!C12,$E$14,0)="","",OFFSET(IndData!C12,$E$14,0)) -> ES | C27: =IF(OFFSET(IndData!D12,$E$14,0)="","",OFFSET(IndData!D12,$E$14,0)) -> Spain | D27: =IF(OFFSET(IndData!E12,$E$14,0)="","",OFFSET(IndData!E12,$E$14,0)) | E27: =IF(OFFSET(IndData!F12,$E$14,0)="","",OFFSET(IndData!F12,$E$14,0)) | F27: =IF(OFFSET(IndData!G12,$E$14,0)="","",OFFSET(IndData!G12,$E$14,0)) | G27: =IF(OFFSET(IndData!H12,$E$14,0)="","",OFFSET(IndData!H12,$E$14,0)) | H27: =IF(OFFSET(IndData!I12,$E$14,0)="","",OFFSET(IndData!I12,$E$14,0)) | I27: =IF(OFFSET(IndData!J12,$E$14,0)="","",OFFSET(IndData!J12,$E$14,0)) | ... Q27: =IF(OFFSET(IndData!R12,$E$14,0)="","",OFFSET(IndData!R12,$E$14,0))
B28: =IF(OFFSET(IndData!C13,$E$14,0)="","",OFFSET(IndData!C13,$E$14,0)) -> FR | C28: =IF(OFFSET(IndData!D13,$E$14,0)="","",OFFSET(IndData!D13,$E$14,0)) -> France | D28: =IF(OFFSET(IndData!E13,$E$14,0)="","",OFFSET(IndData!E13,$E$14,0)) | E28: =IF(OFFSET(IndData!F13,$E$14,0)="","",OFFSET(IndData!F13,$E$14,0)) | F28: =IF(OFFSET(IndData!G13,$E$14,0)="","",OFFSET(IndData!G13,$E$14,0)) | G28: =IF(OFFSET(IndData!H13,$E$14,0)="","",OFFSET(IndData!H13,$E$14,0)) | H28: =IF(OFFSET(IndData!I13,$E$14,0)="","",OFFSET(IndData!I13,$E$14,0)) | I28: =IF(OFFSET(IndData!J13,$E$14,0)="","",OFFSET(IndData!J13,$E$14,0)) | ... Q28: =IF(OFFSET(IndData!R13,$E$14,0)="","",OFFSET(IndData!R13,$E$14,0))
B29: =IF(OFFSET(IndData!C14,$E$14,0)="","",OFFSET(IndData!C14,$E$14,0)) -> HR | C29: =IF(OFFSET(IndData!D14,$E$14,0)="","",OFFSET(IndData!D14,$E$14,0)) -> Croatia | D29: =IF(OFFSET(IndData!E14,$E$14,0)="","",OFFSET(IndData!E14,$E$14,0)) | E29: =IF(OFFSET(IndData!F14,$E$14,0)="","",OFFSET(IndData!F14,$E$14,0)) | F29: =IF(OFFSET(IndData!G14,$E$14,0)="","",OFFSET(IndData!G14,$E$14,0)) | G29: =IF(OFFSET(IndData!H14,$E$14,0)="","",OFFSET(IndData!H14,$E$14,0)) | H29: =IF(OFFSET(IndData!I14,$E$14,0)="","",OFFSET(IndData!I14,$E$14,0)) | I29: =IF(OFFSET(IndData!J14,$E$14,0)="","",OFFSET(IndData!J14,$E$14,0)) | ... Q29: =IF(OFFSET(IndData!R14,$E$14,0)="","",OFFSET(IndData!R14,$E$14,0))
... B51: =IF(OFFSET(IndData!C36,$E$14,0)="","",OFFSET(IndData!C36,$E$14,0)) -> TR | C51: =IF(OFFSET(IndData!D36,$E$14,0)="","",OFFSET(IndData!D36,$E$14,0)) -> Turkey | D51: =IF(OFFSET(IndData!E36,$E$14,0)="","",OFFSET(IndData!E36,$E$14,0)) | E51: =IF(OFFSET(IndData!F36,$E$14,0)="","",OFFSET(IndData!F36,$E$14,0)) | F51: =IF(OFFSET(IndData!G36,$E$14,0)="","",OFFSET(IndData!G36,$E$14,0)) | G51: =IF(OFFSET(IndData!H36,$E$14,0)="","",OFFSET(IndData!H36,$E$14,0)) | H51: =IF(OFFSET(IndData!I36,$E$14,0)="","",OFFSET(IndData!I36,$E$14,0)) | I51: =IF(OFFSET(IndData!J36,$E$14,0)="","",OFFSET(IndData!J36,$E$14,0)) | ... Q51: =IF(OFFSET(IndData!R36,$E$14,0)="","",OFFSET(IndData!R36,$E$14,0))
A53: References to sources
B55: Country values and flags are derived from
C56: Source number | D56: Eurostat table | F56: Download date
C57: =IndSources!C11 -> S0141 | D57: =IndSources!D11 -> educ_uoe_enrs04 | F57: =IndSources!E11 -> "10 October 2017" | I57: ED3SWm
C58: =IndSources!C12 -> S0142 | D58: =IndSources!D12 -> educ_uoe_enrs04 | F58: =IndSources!E12 -> "10 October 2017" | I58: ED35m
C59: =IndSources!C13 -> S0144 | D59: =IndSources!D13 -> educ_uoe_enrs04 | F59: =IndSources!E13 -> "10 October 2017" | I59: ED3SWf
C60: =IndSources!C14 -> S0145 | D60: =IndSources!D14 -> educ_uoe_enrs04 | F60: =IndSources!E14 -> "10 October 2017" | I60: ED35f
C61: =IndSources!C15 -> S0146 | D61: =IndSources!D15 -> educ_uoe_enrs04 | F61: =IndSources!E15 -> "25 April 2017" | I61: NL
C62: =IndSources!C16 -> S0188 | D62: =IndSources!D16 -> educ_uoe_enrs04 | F62: =IndSources!E16 -> "27 May 2017" | I62: ED3SW
C63: =IndSources!C17 -> S0231 | D63: =IndSources!D17 -> educ_uoe_enra16 | F63: =IndSources!E17 -> "10 October 2017" | I63: ED35m
C64: =IndSources!C18 -> S0232 | D64: =IndSources!D18 -> educ_uoe_enra16 | F64: =IndSources!E18 -> "10 October 2017" | I64: ED35f
B65: EU28 value calculated by Cedefop from the same sources.
A67: Further specification
...

Sheet Ind1025
A2: Description | D2: Offset | E2: =ROW(IndList!B5)-ROW(IndList!A3) -> 2
B3: Indicator number
C4: =OFFSET(IndList!B3,$E$2,0) -> IND1025
B5: Label
C6: =OFFSET(IndList!C3,$E$2,0) -> IVET students with direct access to tertiary education as % of all upper secondary IVET
B7: Description
C8: =OFFSET(IndList!D3,$E$2,0) -> Number of students in upper secondary IVET (ISCED 3) enrolled in programmes giving direct access to tertiary education as a percentage of all students in upper secondary IVET.
B9: Group
C10: =OFFSET(IndList!E3,$E$2,0) -> Access, attractiveness and flexibility
B11: Source
C12: =OFFSET(IndList!F3,$E$2,0) -> Cedefop calculations based on Eurostat, UOE
A14: Indicator values and flags | D14: Offset | E14: =ROW(IndData!A71)-ROW(IndData!A3) -> 68
B16: Geographical unit | D16: 2010 | F16: 2011 | H16: 2012 | J16: 2013 | L16: 2014 | N16: 2015 | P16: 2016
D17: Value | E17: Flag | F17: Value | G17: Flag | H17: Value | I17: Flag | J17: Value | K17: Flag | L17: Value | M17: Flag | N17: Value | O17: Flag | P17: Value | Q17: Flag
B18: =IF(OFFSET(IndData!C3,$E$14,0)="","",OFFSET(IndData!C3,$E$14,0)) -> EU28 | C18: =IF(OFFSET(IndData!D3,$E$14,0)="","",OFFSET(IndData!D3,$E$14,0)) | D18: =IF(OFFSET(IndData!E3,$E$14,0)="","",OFFSET(IndData!E3,$E$14,0)) | E18: =IF(OFFSET(IndData!F3,$E$14,0)="","",OFFSET(IndData!F3,$E$14,0)) | F18: =IF(OFFSET(IndData!G3,$E$14,0)="","",OFFSET(IndData!G3,$E$14,0)) | G18: =IF(OFFSET(IndData!H3,$E$14,0)="","",OFFSET(IndData!H3,$E$14,0)) | H18: =IF(OFFSET(IndData!I3,$E$14,0)="","",OFFSET(IndData!I3,$E$14,0)) | I18: =IF(OFFSET(IndData!J3,$E$14,0)="","",OFFSET(IndData!J3,$E$14,0)) | ... Q18: =IF(OFFSET(IndData!R3,$E$14,0)="","",OFFSET(IndData!R3,$E$14,0))
B19: =IF(OFFSET(IndData!C4,$E$14,0)="","",OFFSET(IndData!C4,$E$14,0)) -> BE | C19: =IF(OFFSET(IndData!D4,$E$14,0)="","",OFFSET(IndData!D4,$E$14,0)) -> Belgium | D19: =IF(OFFSET(IndData!E4,$E$14,0)="","",OFFSET(IndData!E4,$E$14,0)) | E19: =IF(OFFSET(IndData!F4,$E$14,0)="","",OFFSET(IndData!F4,$E$14,0)) | F19: =IF(OFFSET(IndData!G4,$E$14,0)="","",OFFSET(IndData!G4,$E$14,0)) | G19: =IF(OFFSET(IndData!H4,$E$14,0)="","",OFFSET(IndData!H4,$E$14,0)) | H19: =IF(OFFSET(IndData!I4,$E$14,0)="","",OFFSET(IndData!I4,$E$14,0)) | I19: =IF(OFFSET(IndData!J4,$E$14,0)="","",OFFSET(IndData!J4,$E$14,0)) | ... Q19: =IF(OFFSET(IndData!R4,$E$14,0)="","",OFFSET(IndData!R4,$E$14,0))
B20: =IF(OFFSET(IndData!C5,$E$14,0)="","",OFFSET(IndData!C5,$E$14,0)) -> BG | C20: =IF(OFFSET(IndData!D5,$E$14,0)="","",OFFSET(IndData!D5,$E$14,0)) -> Bulgaria | D20: =IF(OFFSET(IndData!E5,$E$14,0)="","",OFFSET(IndData!E5,$E$14,0)) | E20: =IF(OFFSET(IndData!F5,$E$14,0)="","",OFFSET(IndData!F5,$E$14,0)) | F20: =IF(OFFSET(IndData!G5,$E$14,0)="","",OFFSET(IndData!G5,$E$14,0)) | G20: =IF(OFFSET(IndData!H5,$E$14,0)="","",OFFSET(IndData!H5,$E$14,0)) | H20: =IF(OFFSET(IndData!I5,$E$14,0)="","",OFFSET(IndData!I5,$E$14,0)) | I20: =IF(OFFSET(IndData!J5,$E$14,0)="","",OFFSET(IndData!J5,$E$14,0)) | ... Q20: =IF(OFFSET(IndData!R5,$E$14,0)="","",OFFSET(IndData!R5,$E$14,0))
B21: =IF(OFFSET(IndData!C6,$E$14,0)="","",OFFSET(IndData!C6,$E$14,0)) -> CZ | C21: =IF(OFFSET(IndData!D6,$E$14,0)="","",OFFSET(IndData!D6,$E$14,0)) -> Czech Republic | D21: =IF(OFFSET(IndData!E6,$E$14,0)="","",OFFSET(IndData!E6,$E$14,0)) | E21: =IF(OFFSET(IndData!F6,$E$14,0)="","",OFFSET(IndData!F6,$E$14,0)) | F21: =IF(OFFSET(IndData!G6,$E$14,0)="","",OFFSET(IndData!G6,$E$14,0)) | G21: =IF(OFFSET(IndData!H6,$E$14,0)="","",OFFSET(IndData!H6,$E$14,0)) | H21: =IF(OFFSET(IndData!I6,$E$14,0)="","",OFFSET(IndData!I6,$E$14,0)) | I21: =IF(OFFSET(IndData!J6,$E$14,0)="","",OFFSET(IndData!J6,$E$14,0)) | ... Q21: =IF(OFFSET(IndData!R6,$E$14,0)="","",OFFSET(IndData!R6,$E$14,0))
B22: =IF(OFFSET(IndData!C7,$E$14,0)="","",OFFSET(IndData!C7,$E$14,0)) -> DK | C22: =IF(OFFSET(IndData!D7,$E$14,0)="","",OFFSET(IndData!D7,$E$14,0)) -> Denmark | D22: =IF(OFFSET(IndData!E7,$E$14,0)="","",OFFSET(IndData!E7,$E$14,0)) | E22: =IF(OFFSET(IndData!F7,$E$14,0)="","",OFFSET(IndData!F7,$E$14,0)) | F22: =IF(OFFSET(IndData!G7,$E$14,0)="","",OFFSET(IndData!G7,$E$14,0)) | G22: =IF(OFFSET(IndData!H7,$E$14,0)="","",OFFSET(IndData!H7,$E$14,0)) | H22: =IF(OFFSET(IndData!I7,$E$14,0)="","",OFFSET(IndData!I7,$E$14,0)) | I22: =IF(OFFSET(IndData!J7,$E$14,0)="","",OFFSET(IndData!J7,$E$14,0)) | ... Q22: =IF(OFFSET(IndData!R7,$E$14,0)="","",OFFSET(IndData!R7,$E$14,0))
B23: =IF(OFFSET(IndData!C8,$E$14,0)="","",OFFSET(IndData!C8,$E$14,0)) -> DE | C23: =IF(OFFSET(IndData!D8,$E$14,0)="","",OFFSET(IndData!D8,$E$14,0)) -> Germany | D23: =IF(OFFSET(IndData!E8,$E$14,0)="","",OFFSET(IndData!E8,$E$14,0)) | E23: =IF(OFFSET(IndData!F8,$E$14,0)="","",OFFSET(IndData!F8,$E$14,0)) | F23: =IF(OFFSET(IndData!G8,$E$14,0)="","",OFFSET(IndData!G8,$E$14,0)) | G23: =IF(OFFSET(IndData!H8,$E$14,0)="","",OFFSET(IndData!H8,$E$14,0)) | H23: =IF(OFFSET(IndData!I8,$E$14,0)="","",OFFSET(IndData!I8,$E$14,0)) | I23: =IF(OFFSET(IndData!J8,$E$14,0)="","",OFFSET(IndData!J8,$E$14,0)) | ... Q23: =IF(OFFSET(IndData!R8,$E$14,0)="","",OFFSET(IndData!R8,$E$14,0))
B24: =IF(OFFSET(IndData!C9,$E$14,0)="","",OFFSET(IndData!C9,$E$14,0)) -> EE | C24: =IF(OFFSET(IndData!D9,$E$14,0)="","",OFFSET(IndData!D9,$E$14,0)) -> Estonia | D24: =IF(OFFSET(IndData!E9,$E$14,0)="","",OFFSET(IndData!E9,$E$14,0)) | E24: =IF(OFFSET(IndData!F9,$E$14,0)="","",OFFSET(IndData!F9,$E$14,0)) | F24: =IF(OFFSET(IndData!G9,$E$14,0)="","",OFFSET(IndData!G9,$E$14,0)) | G24: =IF(OFFSET(IndData!H9,$E$14,0)="","",OFFSET(IndData!H9,$E$14,0)) | H24: =IF(OFFSET(IndData!I9,$E$14,0)="","",OFFSET(IndData!I9,$E$14,0)) | I24: =IF(OFFSET(IndData!J9,$E$14,0)="","",OFFSET(IndData!J9,$E$14,0)) | ... Q24: =IF(OFFSET(IndData!R9,$E$14,0)="","",OFFSET(IndData!R9,$E$14,0))
B25: =IF(OFFSET(IndData!C10,$E$14,0)="","",OFFSET(IndData!C10,$E$14,0)) -> IE | C25: =IF(OFFSET(IndData!D10,$E$14,0)="","",OFFSET(IndData!D10,$E$14,0)) -> Ireland | D25: =IF(OFFSET(IndData!E10,$E$14,0)="","",OFFSET(IndData!E10,$E$14,0)) | E25: =IF(OFFSET(IndData!F10,$E$14,0)="","",OFFSET(IndData!F10,$E$14,0)) | F25: =IF(OFFSET(IndData!G10,$E$14,0)="","",OFFSET(IndData!G10,$E$14,0)) | G25: =IF(OFFSET(IndData!H10,$E$14,0)="","",OFFSET(IndData!H10,$E$14,0)) | H25: =IF(OFFSET(IndData!I10,$E$14,0)="","",OFFSET(IndData!I10,$E$14,0)) | I25: =IF(OFFSET(IndData!J10,$E$14,0)="","",OFFSET(IndData!J10,$E$14,0)) | ... Q25: =IF(OFFSET(IndData!R10,$E$14,0)="","",OFFSET(IndData!R10,$E$14,0))
B26: =IF(OFFSET(IndData!C11,$E$14,0)="","",OFFSET(IndData!C11,$E$14,0)) -> EL | C26: =IF(OFFSET(IndData!D11,$E$14,0)="","",OFFSET(IndData!D11,$E$14,0)) -> Greece | D26: =IF(OFFSET(IndData!E11,$E$14,0)="","",OFFSET(IndData!E11,$E$14,0)) | E26: =IF(OFFSET(IndData!F11,$E$14,0)="","",OFFSET(IndData!F11,$E$14,0)) | F26: =IF(OFFSET(IndData!G11,$E$14,0)="","",OFFSET(IndData!G11,$E$14,0)) | G26: =IF(OFFSET(IndData!H11,$E$14,0)="","",OFFSET(IndData!H11,$E$14,0)) | H26: =IF(OFFSET(IndData!I11,$E$14,0)="","",OFFSET(IndData!I11,$E$14,0)) | I26: =IF(OFFSET(IndData!J11,$E$14,0)="","",OFFSET(IndData!J11,$E$14,0)) | ... Q26: =IF(OFFSET(IndData!R11,$E$14,0)="","",OFFSET(IndData!R11,$E$14,0))
B27: =IF(OFFSET(IndData!C12,$E$14,0)="","",OFFSET(IndData!C12,$E$14,0)) -> ES | C27: =IF(OFFSET(IndData!D12,$E$14,0)="","",OFFSET(IndData!D12,$E$14,0)) -> Spain | D27: =IF(OFFSET(IndData!E12,$E$14,0)="","",OFFSET(IndData!E12,$E$14,0)) | E27: =IF(OFFSET(IndData!F12,$E$14,0)="","",OFFSET(IndData!F12,$E$14,0)) | F27: =IF(OFFSET(IndData!G12,$E$14,0)="","",OFFSET(IndData!G12,$E$14,0)) | G27: =IF(OFFSET(IndData!H12,$E$14,0)="","",OFFSET(IndData!H12,$E$14,0)) | H27: =IF(OFFSET(IndData!I12,$E$14,0)="","",OFFSET(IndData!I12,$E$14,0)) | I27: =IF(OFFSET(IndData!J12,$E$14,0)="","",OFFSET(IndData!J12,$E$14,0)) | ... Q27: =IF(OFFSET(IndData!R12,$E$14,0)="","",OFFSET(IndData!R12,$E$14,0))
B28: =IF(OFFSET(IndData!C13,$E$14,0)="","",OFFSET(IndData!C13,$E$14,0)) -> FR | C28: =IF(OFFSET(IndData!D13,$E$14,0)="","",OFFSET(IndData!D13,$E$14,0)) -> France | D28: =IF(OFFSET(IndData!E13,$E$14,0)="","",OFFSET(IndData!E13,$E$14,0)) | E28: =IF(OFFSET(IndData!F13,$E$14,0)="","",OFFSET(IndData!F13,$E$14,0)) | F28: =IF(OFFSET(IndData!G13,$E$14,0)="","",OFFSET(IndData!G13,$E$14,0)) | G28: =IF(OFFSET(IndData!H13,$E$14,0)="","",OFFSET(IndData!H13,$E$14,0)) | H28: =IF(OFFSET(IndData!I13,$E$14,0)="","",OFFSET(IndData!I13,$E$14,0)) | I28: =IF(OFFSET(IndData!J13,$E$14,0)="","",OFFSET(IndData!J13,$E$14,0)) | ... Q28: =IF(OFFSET(IndData!R13,$E$14,0)="","",OFFSET(IndData!R13,$E$14,0))
B29: =IF(OFFSET(IndData!C14,$E$14,0)="","",OFFSET(IndData!C14,$E$14,0)) -> HR | C29: =IF(OFFSET(IndData!D14,$E$14,0)="","",OFFSET(IndData!D14,$E$14,0)) -> Croatia | D29: =IF(OFFSET(IndData!E14,$E$14,0)="","",OFFSET(IndData!E14,$E$14,0)) | E29: =IF(OFFSET(IndData!F14,$E$14,0)="","",OFFSET(IndData!F14,$E$14,0)) | F29: =IF(OFFSET(IndData!G14,$E$14,0)="","",OFFSET(IndData!G14,$E$14,0)) | G29: =IF(OFFSET(IndData!H14,$E$14,0)="","",OFFSET(IndData!H14,$E$14,0)) | H29: =IF(OFFSET(IndData!I14,$E$14,0)="","",OFFSET(IndData!I14,$E$14,0)) | I29: =IF(OFFSET(IndData!J14,$E$14,0)="","",OFFSET(IndData!J14,$E$14,0)) | ... Q29: =IF(OFFSET(IndData!R14,$E$14,0)="","",OFFSET(IndData!R14,$E$14,0))
... B51: =IF(OFFSET(IndData!C36,$E$14,0)="","",OFFSET(IndData!C36,$E$14,0)) -> TR | C51: =IF(OFFSET(IndData!D36,$E$14,0)="","",OFFSET(IndData!D36,$E$14,0)) -> Turkey | D51: =IF(OFFSET(IndData!E36,$E$14,0)="","",OFFSET(IndData!E36,$E$14,0)) | E51: =IF(OFFSET(IndData!F36,$E$14,0)="","",OFFSET(IndData!F36,$E$14,0)) | F51: =IF(OFFSET(IndData!G36,$E$14,0)="","",OFFSET(IndData!G36,$E$14,0)) | G51: =IF(OFFSET(IndData!H36,$E$14,0)="","",OFFSET(IndData!H36,$E$14,0)) | H51: =IF(OFFSET(IndData!I36,$E$14,0)="","",OFFSET(IndData!I36,$E$14,0)) | I51: =IF(OFFSET(IndData!J36,$E$14,0)="","",OFFSET(IndData!J36,$E$14,0)) | ... Q51: =IF(OFFSET(IndData!R36,$E$14,0)="","",OFFSET(IndData!R36,$E$14,0))
A53: References to sources
B55: Country values and flags are derived from
C56: Source number | D56: Eurostat table | F56: Download date
C57: =IndSources!C19 -> S0138 | D57: =IndSources!D19 -> educ_uoe_enra16 | F57: =IndSources!E19 -> "8 October 2017" | I57: ED35
C58: =IndSources!C20 -> S0139 | D58: =IndSources!D20 -> educ_uoe_enra16 | F58: =IndSources!E20 -> "8 October 2017" | I58: ED354
B59: EU28 value calculated by Cedefop from the same sources.
A61: Further specification
B63: Indicator formula: ED354 / ED35.
B65: A | C65: Indicator values and flags for individual countries:
C66: 1 | D66: The 2013 to 2015 values and flags for the 33 countries are derived from sources S0138, S0139.
C67: 2 | D67: Case IE:
D68: a | E68: Denominator term 2013: avaliable, but unrealistically small. (Transition effect?)
E69: Denominator terms 2014 and 2015: missing, with "z" flags ("not applicable") attached.
...

Sheet Ind1030
A2: Description | D2: Offset | E2: =ROW(IndList!A6)-ROW(IndList!A3) -> 3
B3: Indicator number
C4: =OFFSET(IndList!B3,$E$2,0) -> IND1030
B5: Label
C6: =OFFSET(IndList!C3,$E$2,0) -> Employees participating in CVT courses (%)
B7: Description
C8: =OFFSET(IndList!D3,$E$2,0) -> Number of employees who have participated in employer-sponsored CVT courses during the reference calendar year (12 months) as a percentage of all employees in all enterprises surveyed.
B9: Group
C10: =OFFSET(IndList!E3,$E$2,0) -> Access, attractiveness and flexibility
B11: Source
C12: =OFFSET(IndList!F3,$E$2,0) -> Eurostat, CVTS
A14: Indicator values and flags | D14: Offset | E14: =ROW(IndData!A105)-ROW(IndData!A3) -> 102
B16: Geographical unit | D16: 2010 | F16: 2011 | H16: 2012 | J16: 2013 | L16: 2014 | N16: 2015 | P16: 2016
D17: Value | E17: Flag | F17: Value | G17: Flag | H17: Value | I17: Flag | J17: Value | K17: Flag | L17: Value | M17: Flag | N17: Value | O17: Flag | P17: Value | Q17: Flag
B18: =IF(OFFSET(IndData!C3,$E$14,0)="","",OFFSET(IndData!C3,$E$14,0)) -> EU28 | C18: =IF(OFFSET(IndData!D3,$E$14,0)="","",OFFSET(IndData!D3,$E$14,0)) | D18: =IF(OFFSET(IndData!E3,$E$14,0)="","",OFFSET(IndData!E3,$E$14,0)) -> 38 | E18: =IF(OFFSET(IndData!F3,$E$14,0)="","",OFFSET(IndData!F3,$E$14,0)) -> e | F18: =IF(OFFSET(IndData!G3,$E$14,0)="","",OFFSET(IndData!G3,$E$14,0)) | G18: =IF(OFFSET(IndData!H3,$E$14,0)="","",OFFSET(IndData!H3,$E$14,0)) | H18: =IF(OFFSET(IndData!I3,$E$14,0)="","",OFFSET(IndData!I3,$E$14,0)) | I18: =IF(OFFSET(IndData!J3,$E$14,0)="","",OFFSET(IndData!J3,$E$14,0)) | ... Q18: =IF(OFFSET(IndData!R3,$E$14,0)="","",OFFSET(IndData!R3,$E$14,0))
B19: =IF(OFFSET(IndData!C4,$E$14,0)="","",OFFSET(IndData!C4,$E$14,0)) -> BE | C19: =IF(OFFSET(IndData!D4,$E$14,0)="","",OFFSET(IndData!D4,$E$14,0)) -> Belgium | D19: =IF(OFFSET(IndData!E4,$E$14,0)="","",OFFSET(IndData!E4,$E$14,0)) -> 52 | E19: =IF(OFFSET(IndData!F4,$E$14,0)="","",OFFSET(IndData!F4,$E$14,0)) | F19: =IF(OFFSET(IndData!G4,$E$14,0)="","",OFFSET(IndData!G4,$E$14,0)) | G19: =IF(OFFSET(IndData!H4,$E$14,0)="","",OFFSET(IndData!H4,$E$14,0)) | H19: =IF(OFFSET(IndData!I4,$E$14,0)="","",OFFSET(IndData!I4,$E$14,0)) | I19: =IF(OFFSET(IndData!J4,$E$14,0)="","",OFFSET(IndData!J4,$E$14,0)) | ... Q19: =IF(OFFSET(IndData!R4,$E$14,0)="","",OFFSET(IndData!R4,$E$14,0))
B20: =IF(OFFSET(IndData!C5,$E$14,0)="","",OFFSET(IndData!C5,$E$14,0)) -> BG | C20: =IF(OFFSET(IndData!D5,$E$14,0)="","",OFFSET(IndData!D5,$E$14,0)) -> Bulgaria | D20: =IF(OFFSET(IndData!E5,$E$14,0)="","",OFFSET(IndData!E5,$E$14,0)) -> 22 | E20: =IF(OFFSET(IndData!F5,$E$14,0)="","",OFFSET(IndData!F5,$E$14,0)) | F20: =IF(OFFSET(IndData!G5,$E$14,0)="","",OFFSET(IndData!G5,$E$14,0)) | G20: =IF(OFFSET(IndData!H5,$E$14,0)="","",OFFSET(IndData!H5,$E$14,0)) | H20: =IF(OFFSET(IndData!I5,$E$14,0)="","",OFFSET(IndData!I5,$E$14,0)) | I20: =IF(OFFSET(IndData!J5,$E$14,0)="","",OFFSET(IndData!J5,$E$14,0)) | ... Q20: =IF(OFFSET(IndData!R5,$E$14,0)="","",OFFSET(IndData!R5,$E$14,0))
B21: =IF(OFFSET(IndData!C6,$E$14,0)="","",OFFSET(IndData!C6,$E$14,0)) -> CZ | C21: =IF(OFFSET(IndData!D6,$E$14,0)="","",OFFSET(IndData!D6,$E$14,0)) -> Czech Republic | D21: =IF(OFFSET(IndData!E6,$E$14,0)="","",OFFSET(IndData!E6,$E$14,0)) -> 61 | E21: =IF(OFFSET(IndData!F6,$E$14,0)="","",OFFSET(IndData!F6,$E$14,0)) | F21: =IF(OFFSET(IndData!G6,$E$14,0)="","",OFFSET(IndData!G6,$E$14,0)) | G21: =IF(OFFSET(IndData!H6,$E$14,0)="","",OFFSET(IndData!H6,$E$14,0)) | H21: =IF(OFFSET(IndData!I6,$E$14,0)="","",OFFSET(IndData!I6,$E$14,0)) | I21: =IF(OFFSET(IndData!J6,$E$14,0)="","",OFFSET(IndData!J6,$E$14,0)) | ... Q21: =IF(OFFSET(IndData!R6,$E$14,0)="","",OFFSET(IndData!R6,$E$14,0))
B22: =IF(OFFSET(IndData!C7,$E$14,0)="","",OFFSET(IndData!C7,$E$14,0)) -> DK | C22: =IF(OFFSET(IndData!D7,$E$14,0)="","",OFFSET(IndData!D7,$E$14,0)) -> Denmark | D22: =IF(OFFSET(IndData!E7,$E$14,0)="","",OFFSET(IndData!E7,$E$14,0)) -> 37 | E22: =IF(OFFSET(IndData!F7,$E$14,0)="","",OFFSET(IndData!F7,$E$14,0)) | F22: =IF(OFFSET(IndData!G7,$E$14,0)="","",OFFSET(IndData!G7,$E$14,0)) | G22: =IF(OFFSET(IndData!H7,$E$14,0)="","",OFFSET(IndData!H7,$E$14,0)) | H22: =IF(OFFSET(IndData!I7,$E$14,0)="","",OFFSET(IndData!I7,$E$14,0)) | I22: =IF(OFFSET(IndData!J7,$E$14,0)="","",OFFSET(IndData!J7,$E$14,0)) | ... Q22: =IF(OFFSET(IndData!R7,$E$14,0)="","",OFFSET(IndData!R7,$E$14,0))
B23: =IF(OFFSET(IndData!C8,$E$14,0)="","",OFFSET(IndData!C8,$E$14,0)) -> DE | C23: =IF(OFFSET(IndData!D8,$E$14,0)="","",OFFSET(IndData!D8,$E$14,0)) -> Germany | D23: =IF(OFFSET(IndData!E8,$E$14,0)="","",OFFSET(IndData!E8,$E$14,0)) -> 39 | E23: =IF(OFFSET(IndData!F8,$E$14,0)="","",OFFSET(IndData!F8,$E$14,0)) | F23: =IF(OFFSET(IndData!G8,$E$14,0)="","",OFFSET(IndData!G8,$E$14,0)) | G23: =IF(OFFSET(IndData!H8,$E$14,0)="","",OFFSET(IndData!H8,$E$14,0)) | H23: =IF(OFFSET(IndData!I8,$E$14,0)="","",OFFSET(IndData!I8,$E$14,0)) | I23: =IF(OFFSET(IndData!J8,$E$14,0)="","",OFFSET(IndData!J8,$E$14,0)) | ... Q23: =IF(OFFSET(IndData!R8,$E$14,0)="","",OFFSET(IndData!R8,$E$14,0))
B24: =IF(OFFSET(IndData!C9,$E$14,0)="","",OFFSET(IndData!C9,$E$14,0)) -> EE | C24: =IF(OFFSET(IndData!D9,$E$14,0)="","",OFFSET(IndData!D9,$E$14,0)) -> Estonia | D24: =IF(OFFSET(IndData!E9,$E$14,0)="","",OFFSET(IndData!E9,$E$14,0)) -> 31 | E24: =IF(OFFSET(IndData!F9,$E$14,0)="","",OFFSET(IndData!F9,$E$14,0)) | F24: =IF(OFFSET(IndData!G9,$E$14,0)="","",OFFSET(IndData!G9,$E$14,0)) | G24: =IF(OFFSET(IndData!H9,$E$14,0)="","",OFFSET(IndData!H9,$E$14,0)) | H24: =IF(OFFSET(IndData!I9,$E$14,0)="","",OFFSET(IndData!I9,$E$14,0)) | I24: =IF(OFFSET(IndData!J9,$E$14,0)="","",OFFSET(IndData!J9,$E$14,0)) | ... Q24: =IF(OFFSET(IndData!R9,$E$14,0)="","",OFFSET(IndData!R9,$E$14,0))
B25: =IF(OFFSET(IndData!C10,$E$14,0)="","",OFFSET(IndData!C10,$E$14,0)) -> IE | C25: =IF(OFFSET(IndData!D10,$E$14,0)="","",OFFSET(IndData!D10,$E$14,0)) -> Ireland | D25: =IF(OFFSET(IndData!E10,$E$14,0)="","",OFFSET(IndData!E10,$E$14,0)) | E25: =IF(OFFSET(IndData!F10,$E$14,0)="","",OFFSET(IndData!F10,$E$14,0)) | F25: =IF(OFFSET(IndData!G10,$E$14,0)="","",OFFSET(IndData!G10,$E$14,0)) | G25: =IF(OFFSET(IndData!H10,$E$14,0)="","",OFFSET(IndData!H10,$E$14,0)) | H25: =IF(OFFSET(IndData!I10,$E$14,0)="","",OFFSET(IndData!I10,$E$14,0)) | I25: =IF(OFFSET(IndData!J10,$E$14,0)="","",OFFSET(IndData!J10,$E$14,0)) | ... Q25: =IF(OFFSET(IndData!R10,$E$14,0)="","",OFFSET(IndData!R10,$E$14,0))
B26: =IF(OFFSET(IndData!C11,$E$14,0)="","",OFFSET(IndData!C11,$E$14,0)) -> EL | C26: =IF(OFFSET(IndData!D11,$E$14,0)="","",OFFSET(IndData!D11,$E$14,0)) -> Greece | D26: =IF(OFFSET(IndData!E11,$E$14,0)="","",OFFSET(IndData!E11,$E$14,0)) -> 16 | E26: =IF(OFFSET(IndData!F11,$E$14,0)="","",OFFSET(IndData!F11,$E$14,0)) | F26: =IF(OFFSET(IndData!G11,$E$14,0)="","",OFFSET(IndData!G11,$E$14,0)) | G26: =IF(OFFSET(IndData!H11,$E$14,0)="","",OFFSET(IndData!H11,$E$14,0)) | H26: =IF(OFFSET(IndData!I11,$E$14,0)="","",OFFSET(IndData!I11,$E$14,0)) | I26: =IF(OFFSET(IndData!J11,$E$14,0)="","",OFFSET(IndData!J11,$E$14,0)) | ... Q26: =IF(OFFSET(IndData!R11,$E$14,0)="","",OFFSET(IndData!R11,$E$14,0))
B27: =IF(OFFSET(IndData!C12,$E$14,0)="","",OFFSET(IndData!C12,$E$14,0)) -> ES | C27: =IF(OFFSET(IndData!D12,$E$14,0)="","",OFFSET(IndData!D12,$E$14,0)) -> Spain | D27: =IF(OFFSET(IndData!E12,$E$14,0)="","",OFFSET(IndData!E12,$E$14,0)) -> 48 | E27: =IF(OFFSET(IndData!F12,$E$14,0)="","",OFFSET(IndData!F12,$E$14,0)) | F27: =IF(OFFSET(IndData!G12,$E$14,0)="","",OFFSET(IndData!G12,$E$14,0)) | G27: =IF(OFFSET(IndData!H12,$E$14,0)="","",OFFSET(IndData!H12,$E$14,0)) | H27: =IF(OFFSET(IndData!I12,$E$14,0)="","",OFFSET(IndData!I12,$E$14,0)) | I27: =IF(OFFSET(IndData!J12,$E$14,0)="","",OFFSET(IndData!J12,$E$14,0)) | ... Q27: =IF(OFFSET(IndData!R12,$E$14,0)="","",OFFSET(IndData!R12,$E$14,0))
B28: =IF(OFFSET(IndData!C13,$E$14,0)="","",OFFSET(IndData!C13,$E$14,0)) -> FR | C28: =IF(OFFSET(IndData!D13,$E$14,0)="","",OFFSET(IndData!D13,$E$14,0)) -> France | D28: =IF(OFFSET(IndData!E13,$E$14,0)="","",OFFSET(IndData!E13,$E$14,0)) -> 45 | E28: =IF(OFFSET(IndData!F13,$E$14,0)="","",OFFSET(IndData!F13,$E$14,0)) | F28: =IF(OFFSET(IndData!G13,$E$14,0)="","",OFFSET(IndData!G13,$E$14,0)) | G28: =IF(OFFSET(IndData!H13,$E$14,0)="","",OFFSET(IndData!H13,$E$14,0)) | H28: =IF(OFFSET(IndData!I13,$E$14,0)="","",OFFSET(IndData!I13,$E$14,0)) | I28: =IF(OFFSET(IndData!J13,$E$14,0)="","",OFFSET(IndData!J13,$E$14,0)) | ... Q28: =IF(OFFSET(IndData!R13,$E$14,0)="","",OFFSET(IndData!R13,$E$14,0))
B29: =IF(OFFSET(IndData!C14,$E$14,0)="","",OFFSET(IndData!C14,$E$14,0)) -> HR | C29: =IF(OFFSET(IndData!D14,$E$14,0)="","",OFFSET(IndData!D14,$E$14,0)) -> Croatia | D29: =IF(OFFSET(IndData!E14,$E$14,0)="","",OFFSET(IndData!E14,$E$14,0)) -> 23 | E29: =IF(OFFSET(IndData!F14,$E$14,0)="","",OFFSET(IndData!F14,$E$14,0)) | F29: =IF(OFFSET(IndData!G14,$E$14,0)="","",OFFSET(IndData!G14,$E$14,0)) | G29: =IF(OFFSET(IndData!H14,$E$14,0)="","",OFFSET(IndData!H14,$E$14,0)) | H29: =IF(OFFSET(IndData!I14,$E$14,0)="","",OFFSET(IndData!I14,$E$14,0)) | I29: =IF(OFFSET(IndData!J14,$E$14,0)="","",OFFSET(IndData!J14,$E$14,0)) | ... Q29: =IF(OFFSET(IndData!R14,$E$14,0)="","",OFFSET(IndData!R14,$E$14,0))
... B51: =IF(OFFSET(IndData!C36,$E$14,0)="","",OFFSET(IndData!C36,$E$14,0)) -> TR | C51: =IF(OFFSET(IndData!D36,$E$14,0)="","",OFFSET(IndData!D36,$E$14,0)) -> Turkey | D51: =IF(OFFSET(IndData!E36,$E$14,0)="","",OFFSET(IndData!E36,$E$14,0)) | E51: =IF(OFFSET(IndData!F36,$E$14,0)="","",OFFSET(IndData!F36,$E$14,0)) | F51: =IF(OFFSET(IndData!G36,$E$14,0)="","",OFFSET(IndData!G36,$E$14,0)) | G51: =IF(OFFSET(IndData!H36,$E$14,0)="","",OFFSET(IndData!H36,$E$14,0)) | H51: =IF(OFFSET(IndData!I36,$E$14,0)="","",OFFSET(IndData!I36,$E$14,0)) | I51: =IF(OFFSET(IndData!J36,$E$14,0)="","",OFFSET(IndData!J36,$E$14,0)) | ... Q51: =IF(OFFSET(IndData!R36,$E$14,0)="","",OFFSET(IndData!R36,$E$14,0))
A53: References to sources
B55: Country values and flags are derived from
C56: Source number | D56: Eurostat table | F56: Download date
C57: =IndSources!C21 -> S0218 | D57: =IndSources!D21 -> trng_cvts42 | F57: =IndSources!E21 -> "15 July 2017"
B58: EU28 value derived from the same source.

Sheet Ind1040
A2: Description | D2: Offset | E2: =ROW(IndList!A7)-ROW(IndList!A3) -> 4
B3: Indicator number
C4: =OFFSET(IndList!B3,$E$2,0) -> IND1040
B5: Label
C6: =OFFSET(IndList!C3,$E$2,0) -> Employees participating in on-the-job training (%)
B7: Description
C8: =OFFSET(IndList!D3,$E$2,0) -> Number of employees who have participated in employer-sponsored on-the-job training during the reference calendar year (12 months) as a percentage of all employees in all enterprises surveyed.
B9: Group
C10: =OFFSET(IndList!E3,$E$2,0) -> Access, attractiveness and flexibility
B11: Source
C12: =OFFSET(IndList!F3,$E$2,0) -> Eurostat, CVTS
A14: Indicator values and flags | D14: Offset | E14: =ROW(IndData!A139)-ROW(IndData!A3) -> 136
B16: Geographical unit | D16: 2010 | F16: 2011 | H16: 2012 | J16: 2013 | L16: 2014 | N16: 2015 | P16: 2016
D17: Value | E17: Flag | F17: Value | G17: Flag | H17: Value | I17: Flag | J17: Value | K17: Flag | L17: Value | M17: Flag | N17: Value | O17: Flag | P17: Value | Q17: Flag
B18: =IF(OFFSET(IndData!C3,$E$14,0)="","",OFFSET(IndData!C3,$E$14,0)) -> EU28 | C18: =IF(OFFSET(IndData!D3,$E$14,0)="","",OFFSET(IndData!D3,$E$14,0)) | D18: =IF(OFFSET(IndData!E3,$E$14,0)="","",OFFSET(IndData!E3,$E$14,0)) -> 20 | E18: =IF(OFFSET(IndData!F3,$E$14,0)="","",OFFSET(IndData!F3,$E$14,0)) -> e | F18: =IF(OFFSET(IndData!G3,$E$14,0)="","",OFFSET(IndData!G3,$E$14,0)) | G18: =IF(OFFSET(IndData!H3,$E$14,0)="","",OFFSET(IndData!H3,$E$14,0)) | H18: =IF(OFFSET(IndData!I3,$E$14,0)="","",OFFSET(IndData!I3,$E$14,0)) | I18: =IF(OFFSET(IndData!J3,$E$14,0)="","",OFFSET(IndData!J3,$E$14,0)) | ... Q18: =IF(OFFSET(IndData!R3,$E$14,0)="","",OFFSET(IndData!R3,$E$14,0))
B19: =IF(OFFSET(IndData!C4,$E$14,0)="","",OFFSET(IndData!C4,$E$14,0)) -> BE | C19: =IF(OFFSET(IndData!D4,$E$14,0)="","",OFFSET(IndData!D4,$E$14,0)) -> Belgium | D19: =IF(OFFSET(IndData!E4,$E$14,0)="","",OFFSET(IndData!E4,$E$14,0)) -> 21 | E19: =IF(OFFSET(IndData!F4,$E$14,0)="","",OFFSET(IndData!F4,$E$14,0)) | F19: =IF(OFFSET(IndData!G4,$E$14,0)="","",OFFSET(IndData!G4,$E$14,0)) | G19: =IF(OFFSET(IndData!H4,$E$14,0)="","",OFFSET(IndData!H4,$E$14,0)) | H19: =IF(OFFSET(IndData!I4,$E$14,0)="","",OFFSET(IndData!I4,$E$14,0)) | I19: =IF(OFFSET(IndData!J4,$E$14,0)="","",OFFSET(IndData!J4,$E$14,0)) | ... Q19: =IF(OFFSET(IndData!R4,$E$14,0)="","",OFFSET(IndData!R4,$E$14,0))
B20: =IF(OFFSET(IndData!C5,$E$14,0)="","",OFFSET(IndData!C5,$E$14,0)) -> BG | C20: =IF(OFFSET(IndData!D5,$E$14,0)="","",OFFSET(IndData!D5,$E$14,0)) -> Bulgaria | D20: =IF(OFFSET(IndData!E5,$E$14,0)="","",OFFSET(IndData!E5,$E$14,0)) -> 20 | E20: =IF(OFFSET(IndData!F5,$E$14,0)="","",OFFSET(IndData!F5,$E$14,0)) | F20: =IF(OFFSET(IndData!G5,$E$14,0)="","",OFFSET(IndData!G5,$E$14,0)) | G20: =IF(OFFSET(IndData!H5,$E$14,0)="","",OFFSET(IndData!H5,$E$14,0)) | H20: =IF(OFFSET(IndData!I5,$E$14,0)="","",OFFSET(IndData!I5,$E$14,0)) | I20: =IF(OFFSET(IndData!J5,$E$14,0)="","",OFFSET(IndData!J5,$E$14,0)) | ... Q20: =IF(OFFSET(IndData!R5,$E$14,0)="","",OFFSET(IndData!R5,$E$14,0))
B21: =IF(OFFSET(IndData!C6,$E$14,0)="","",OFFSET(IndData!C6,$E$14,0)) -> CZ | C21: =IF(OFFSET(IndData!D6,$E$14,0)="","",OFFSET(IndData!D6,$E$14,0)) -> Czech Republic | D21: =IF(OFFSET(IndData!E6,$E$14,0)="","",OFFSET(IndData!E6,$E$14,0)) -> 31 | E21: =IF(OFFSET(IndData!F6,$E$14,0)="","",OFFSET(IndData!F6,$E$14,0)) | F21: =IF(OFFSET(IndData!G6,$E$14,0)="","",OFFSET(IndData!G6,$E$14,0)) | G21: =IF(OFFSET(IndData!H6,$E$14,0)="","",OFFSET(IndData!H6,$E$14,0)) | H21: =IF(OFFSET(IndData!I6,$E$14,0)="","",OFFSET(IndData!I6,$E$14,0)) | I21: =IF(OFFSET(IndData!J6,$E$14,0)="","",OFFSET(IndData!J6,$E$14,0)) | ... Q21: =IF(OFFSET(IndData!R6,$E$14,0)="","",OFFSET(IndData!R6,$E$14,0))
B22: =IF(OFFSET(IndData!C7,$E$14,0)="","",OFFSET(IndData!C7,$E$14,0)) -> DK | C22: =IF(OFFSET(IndData!D7,$E$14,0)="","",OFFSET(IndData!D7,$E$14,0)) -> Denmark | D22: =IF(OFFSET(IndData!E7,$E$14,0)="","",OFFSET(IndData!E7,$E$14,0)) -> 16 | E22: =IF(OFFSET(IndData!F7,$E$14,0)="","",OFFSET(IndData!F7,$E$14,0)) | F22: =IF(OFFSET(IndData!G7,$E$14,0)="","",OFFSET(IndData!G7,$E$14,0)) | G22: =IF(OFFSET(IndData!H7,$E$14,0)="","",OFFSET(IndData!H7,$E$14,0)) | H22: =IF(OFFSET(IndData!I7,$E$14,0)="","",OFFSET(IndData!I7,$E$14,0)) | I22: =IF(OFFSET(IndData!J7,$E$14,0)="","",OFFSET(IndData!J7,$E$14,0)) | ... Q22: =IF(OFFSET(IndData!R7,$E$14,0)="","",OFFSET(IndData!R7,$E$14,0))
B23: =IF(OFFSET(IndData!C8,$E$14,0)="","",OFFSET(IndData!C8,$E$14,0)) -> DE | C23: =IF(OFFSET(IndData!D8,$E$14,0)="","",OFFSET(IndData!D8,$E$14,0)) -> Germany | D23: =IF(OFFSET(IndData!E8,$E$14,0)="","",OFFSET(IndData!E8,$E$14,0)) -> 28 | E23: =IF(OFFSET(IndData!F8,$E$14,0)="","",OFFSET(IndData!F8,$E$14,0)) | F23: =IF(OFFSET(IndData!G8,$E$14,0)="","",OFFSET(IndData!G8,$E$14,0)) | G23: =IF(OFFSET(IndData!H8,$E$14,0)="","",OFFSET(IndData!H8,$E$14,0)) | H23: =IF(OFFSET(IndData!I8,$E$14,0)="","",OFFSET(IndData!I8,$E$14,0)) | I23: =IF(OFFSET(IndData!J8,$E$14,0)="","",OFFSET(IndData!J8,$E$14,0)) | ... Q23: =IF(OFFSET(IndData!R8,$E$14,0)="","",OFFSET(IndData!R8,$E$14,0))
B24: =IF(OFFSET(IndData!C9,$E$14,0)="","",OFFSET(IndData!C9,$E$14,0)) -> EE | C24: =IF(OFFSET(IndData!D9,$E$14,0)="","",OFFSET(IndData!D9,$E$14,0)) -> Estonia | D24: =IF(OFFSET(IndData!E9,$E$14,0)="","",OFFSET(IndData!E9,$E$14,0)) -> 14 | E24: =IF(OFFSET(IndData!F9,$E$14,0)="","",OFFSET(IndData!F9,$E$14,0)) | F24: =IF(OFFSET(IndData!G9,$E$14,0)="","",OFFSET(IndData!G9,$E$14,0)) | G24: =IF(OFFSET(IndData!H9,$E$14,0)="","",OFFSET(IndData!H9,$E$14,0)) | H24: =IF(OFFSET(IndData!I9,$E$14,0)="","",OFFSET(IndData!I9,$E$14,0)) | I24: =IF(OFFSET(IndData!J9,$E$14,0)="","",OFFSET(IndData!J9,$E$14,0)) | ... Q24: =IF(OFFSET(IndData!R9,$E$14,0)="","",OFFSET(IndData!R9,$E$14,0))
B25: =IF(OFFSET(IndData!C10,$E$14,0)="","",OFFSET(IndData!C10,$E$14,0)) -> IE | C25: =IF(OFFSET(IndData!D10,$E$14,0)="","",OFFSET(IndData!D10,$E$14,0)) -> Ireland | D25: =IF(OFFSET(IndData!E10,$E$14,0)="","",OFFSET(IndData!E10,$E$14,0)) | E25: =IF(OFFSET(IndData!F10,$E$14,0)="","",OFFSET(IndData!F10,$E$14,0)) | F25: =IF(OFFSET(IndData!G10,$E$14,0)="","",OFFSET(IndData!G10,$E$14,0)) | G25: =IF(OFFSET(IndData!H10,$E$14,0)="","",OFFSET(IndData!H10,$E$14,0)) | H25: =IF(OFFSET(IndData!I10,$E$14,0)="","",OFFSET(IndData!I10,$E$14,0)) | I25: =IF(OFFSET(IndData!J10,$E$14,0)="","",OFFSET(IndData!J10,$E$14,0)) | ... Q25: =IF(OFFSET(IndData!R10,$E$14,0)="","",OFFSET(IndData!R10,$E$14,0))
B26: =IF(OFFSET(IndData!C11,$E$14,0)="","",OFFSET(IndData!C11,$E$14,0)) -> EL | C26: =IF(OFFSET(IndData!D11,$E$14,0)="","",OFFSET(IndData!D11,$E$14,0)) -> Greece | D26: =IF(OFFSET(IndData!E11,$E$14,0)="","",OFFSET(IndData!E11,$E$14,0)) -> 6 | E26: =IF(OFFSET(IndData!F11,$E$14,0)="","",OFFSET(IndData!F11,$E$14,0)) | F26: =IF(OFFSET(IndData!G11,$E$14,0)="","",OFFSET(IndData!G11,$E$14,0)) | G26: =IF(OFFSET(IndData!H11,$E$14,0)="","",OFFSET(IndData!H11,$E$14,0)) | H26: =IF(OFFSET(IndData!I11,$E$14,0)="","",OFFSET(IndData!I11,$E$14,0)) | I26: =IF(OFFSET(IndData!J11,$E$14,0)="","",OFFSET(IndData!J11,$E$14,0)) | ... Q26: =IF(OFFSET(IndData!R11,$E$14,0)="","",OFFSET(IndData!R11,$E$14,0))
B27: =IF(OFFSET(IndData!C12,$E$14,0)="","",OFFSET(IndData!C12,$E$14,0)) -> ES | C27: =IF(OFFSET(IndData!D12,$E$14,0)="","",OFFSET(IndData!D12,$E$14,0)) -> Spain | D27: =IF(OFFSET(IndData!E12,$E$14,0)="","",OFFSET(IndData!E12,$E$14,0)) -> 20 | E27: =IF(OFFSET(IndData!F12,$E$14,0)="","",OFFSET(IndData!F12,$E$14,0)) | F27: =IF(OFFSET(IndData!G12,$E$14,0)="","",OFFSET(IndData!G12,$E$14,0)) | G27: =IF(OFFSET(IndData!H12,$E$14,0)="","",OFFSET(IndData!H12,$E$14,0)) | H27: =IF(OFFSET(IndData!I12,$E$14,0)="","",OFFSET(IndData!I12,$E$14,0)) | I27: =IF(OFFSET(IndData!J12,$E$14,0)="","",OFFSET(IndData!J12,$E$14,0)) | ... Q27: =IF(OFFSET(IndData!R12,$E$14,0)="","",OFFSET(IndData!R12,$E$14,0))
B28: =IF(OFFSET(IndData!C13,$E$14,0)="","",OFFSET(IndData!C13,$E$14,0)) -> FR | C28: =IF(OFFSET(IndData!D13,$E$14,0)="","",OFFSET(IndData!D13,$E$14,0)) -> France | D28: =IF(OFFSET(IndData!E13,$E$14,0)="","",OFFSET(IndData!E13,$E$14,0)) -> 14 | E28: =IF(OFFSET(IndData!F13,$E$14,0)="","",OFFSET(IndData!F13,$E$14,0)) | F28: =IF(OFFSET(IndData!G13,$E$14,0)="","",OFFSET(IndData!G13,$E$14,0)) | G28: =IF(OFFSET(IndData!H13,$E$14,0)="","",OFFSET(IndData!H13,$E$14,0)) | H28: =IF(OFFSET(IndData!I13,$E$14,0)="","",OFFSET(IndData!I13,$E$14,0)) | I28: =IF(OFFSET(IndData!J13,$E$14,0)="","",OFFSET(IndData!J13,$E$14,0)) | ... Q28: =IF(OFFSET(IndData!R13,$E$14,0)="","",OFFSET(IndData!R13,$E$14,0))
B29: =IF(OFFSET(IndData!C14,$E$14,0)="","",OFFSET(IndData!C14,$E$14,0)) -> HR | C29: =IF(OFFSET(IndData!D14,$E$14,0)="","",OFFSET(IndData!D14,$E$14,0)) -> Croatia | D29: =IF(OFFSET(IndData!E14,$E$14,0)="","",OFFSET(IndData!E14,$E$14,0)) -> 15 | E29: =IF(OFFSET(IndData!F14,$E$14,0)="","",OFFSET(IndData!F14,$E$14,0)) | F29: =IF(OFFSET(IndData!G14,$E$14,0)="","",OFFSET(IndData!G14,$E$14,0)) | G29: =IF(OFFSET(IndData!H14,$E$14,0)="","",OFFSET(IndData!H14,$E$14,0)) | H29: =IF(OFFSET(IndData!I14,$E$14,0)="","",OFFSET(IndData!I14,$E$14,0)) | I29: =IF(OFFSET(IndData!J14,$E$14,0)="","",OFFSET(IndData!J14,$E$14,0)) | ... Q29: =IF(OFFSET(IndData!R14,$E$14,0)="","",OFFSET(IndData!R14,$E$14,0))
... B51: =IF(OFFSET(IndData!C36,$E$14,0)="","",OFFSET(IndData!C36,$E$14,0)) -> TR | C51: =IF(OFFSET(IndData!D36,$E$14,0)="","",OFFSET(IndData!D36,$E$14,0)) -> Turkey | D51: =IF(OFFSET(IndData!E36,$E$14,0)="","",OFFSET(IndData!E36,$E$14,0)) | E51: =IF(OFFSET(IndData!F36,$E$14,0)="","",OFFSET(IndData!F36,$E$14,0)) | F51: =IF(OFFSET(IndData!G36,$E$14,0)="","",OFFSET(IndData!G36,$E$14,0)) | G51: =IF(OFFSET(IndData!H36,$E$14,0)="","",OFFSET(IndData!H36,$E$14,0)) | H51: =IF(OFFSET(IndData!I36,$E$14,0)="","",OFFSET(IndData!I36,$E$14,0)) | I51: =IF(OFFSET(IndData!J36,$E$14,0)="","",OFFSET(IndData!J36,$E$14,0)) | ... Q51: =IF(OFFSET(IndData!R36,$E$14,0)="","",OFFSET(IndData!R36,$E$14,0))
A53: References to sources
B55: Country values and flags are derived from
C56: Source number | D56: Eurostat table | F56: Download date
C57: =IndSources!C22 -> S0219 | D57: =IndSources!D22 -> trng_cvts50 | F57: =IndSources!E22 -> "15 July 2017"
B58: EU28 value derived from the same source.

Sheet Ind1050
A2: Description | D2: Offset | E2: =ROW(IndList!A8)-ROW(IndList!A3) -> 5
B3: Indicator number
C4: =OFFSET(IndList!B3,$E$2,0) -> IND1050
B5: Label
C6: =OFFSET(IndList!C3,$E$2,0) -> Adults in lifelong learning (%)
B7: Description
C8: =OFFSET(IndList!D3,$E$2,0) -> Percentage of the population aged 25-64 participating in education and training over the four weeks prior to the survey.
B9: Group
C10: =OFFSET(IndList!E3,$E$2,0) -> Access, attractiveness and flexibility
B11: Source
C12: =OFFSET(IndList!F3,$E$2,0) -> Eurostat, LFS
A14: Indicator values and flags | D14: Offset | E14: =ROW(IndData!A173)-ROW(IndData!A3) -> 170
