Workbook

Sheet ReadMe
A2: This is the master file (type I: work sheet per indicator) behind the Cedefop statistical overviews (2017 update).
A3: The file describes 36 indicators in 33 countries and in the EU28.
A5: The file contains one work sheet per indicator.
A6: The name of the work sheet consists of a prefix ("Ind") and the number of the indicator.
B7: There are three additional work sheets, named
C8: IndData,
C9: IndList,
C10: IndSources.
B11: These three serve as inputs to the work sheets describing the indicators.
B12: They are not meant for direct consultation.
A14: The description of an indicator consists of four parts:
B15: 1 | C15: "Description"
D16: Number, label, short description, group (one of three) and source (general) of the indicator.
B17: 2 | C17: "Indicator values and flags"
D18: This is a table with the indicator values and flags.
D19: The columns cover the time interval 2010 to 2016.
D20: There are 34 rows: one for the EU28 data and one for each of the 33 countries involved in the statistical overviews.
D21: In some cases the indicator values and flags have been copied directly from a single source.
D22: In the other cases some calculations have been involved, combining data from different sources and / or deriving an EU28 value from country data.
B23: 3 | C23: "References to sources"
D24: This is a list of the data sources from which the indicator values and flags have been derived.
D25: "Source number" refers to a work sheet (with the same name) in a separate Excel file.
D26: The work sheet contains the raw data and a complete description of the download process.
D27: "Eurostat table" refers to the Eurostat table code (when applicable).
D28: "Download date" is the date the raw data have been downloaded (or, in some cases received via e-mail).
B29: 4 | C29: "Further specification"
D30: This part is only present when country values or EU28 values have been calculated.
D31: It specifies the details of the calculation.
A33: The following table is a list of the 36 indicators. The column "Link" contains hyperlinks to the work sheets.
A35: Link | B35: No | C35: Label | D35: Short description and general indication of the source | E35: Baseline year | F35: Last available year
A36: ="Ind"&B36 -> Ind1010 | B36: =IndList!K3 -> 1010 | C36: =IndList!L3 -> IVET students as % of all upper secondary students | D36: =IndList!M3 -> Number of students in upper secondary IVET (ISCED 3) as a percentage of all upper secondary students. (Cedefop calculations based on Eurostat, UOE) (b) | E36: =IndList!N3 -> 2010 | F36: =IndList!O3 -> 2015
A37: ="Ind"&B37 -> Ind1020 | B37: =IndList!K4 -> 1020 | C37: =IndList!L4 -> IVET work-based students as % of all upper secondary IVET | D37: =IndList!M4 -> Number of students in combined work- and school-based upper secondary IVET (ISCED 3) as a percentage of all students in upper secondary IVET. (Cedefop calculations based on Eurostat, UOE) (b) | E37: =IndList!N4 -> 2010 | F37: =IndList!O4 -> 2015
A38: ="Ind"&B38 -> Ind1025 | B38: =IndList!K5 -> 1025 | C38: =IndList!L5 -> IVET students with direct access to tertiary education as % of all upper secondary IVET | D38: =IndList!M5 -> Number of students in upper secondary IVET (ISCED 3) enrolled in programmes giving direct access to tertiary education as a percentage of all students in upper secondary IVET. (Cedefop calculations based on Eurostat, UOE) (b) | E38: =IndList!N5 -> 2010 | F38: =IndList!O5 -> 2015
A39: ="Ind"&B39 -> Ind1030 | B39: =IndList!K6 -> 1030 | C39: =IndList!L6 -> Employees participating in CVT courses (%) | D39: =IndList!M6 -> Number of employees who have participated in employer-sponsored CVT courses during the reference calendar year (12 months) as a percentage of all employees in all enterprises surveyed. (Eurostat, CVTS) | E39: =IndList!N6 -> 2010 | F39: =IndList!O6 -> 2010
A40: ="Ind"&B40 -> Ind1040 | B40: =IndList!K7 -> 1040 | C40: =IndList!L7 -> Employees participating in on-the-job training (%) | D40: =IndList!M7 -> Number of employees who have participated in employer-sponsored on-the-job training during the reference calendar year (12 months) as a percentage of all employees in all enterprises surveyed. (Eurostat, CVTS) | E40: =IndList!N7 -> 2010 | F40: =IndList!O7 -> 2010
A41: ="Ind"&B41 -> Ind1050 | B41: =IndList!K8 -> 1050 | C41: =IndList!L8 -> Adults in lifelong learning (%) | D41: =IndList!M8 -> Percentage of the population aged 25-64 participating in education and training over the four weeks prior to the survey. (Eurostat, LFS) | E41: =IndList!N8 -> 2010 | F41: =IndList!O8 -> 2016
A42: ="Ind"&B42 -> Ind1060 | B42: =IndList!K9 -> 1060 | C42: =IndList!L9 -> Enterprises providing training (%) | D42: =IndList!M9 -> Percentage of enterprises providing any type of vocational training to their employees during the reference calendar year (12 months). (Eurostat, CVTS) | E42: =IndList!N9 -> 2010 | F42: =IndList!O9 -> 2010
A43: ="Ind"&B43 -> Ind1070 | B43: =IndList!K10 -> 1070 | C43: =IndList!L10 -> Female IVET students as % of all female upper secondary students | D43: =IndList!M10 -> Number of female students in upper secondary IVET (ISCED 3) as a percentage of all female students in upper secondary education. (Cedefop calculations based on Eurostat, UOE) (b) | E43: =IndList!N10 -> 2010 | F43: =IndList!O10 -> 2015
A44: ="Ind"&B44 -> Ind1075 | B44: =IndList!K11 -> 1075 | C44: =IndList!L11 -> Employees of small firms participating in CVT courses (%) | D44: =IndList!M11 -> Number of employees in small enterprises who have participated in employer-sponsored CVT courses during the reference calendar year (12 months) as a percentage of all employees in all small enterprises surveyed (small enterprises covered by the survey are those from 10 to 49 employees). (Eurostat, CVTS) | E44: =IndList!N11 -> 2010 | F44: =IndList!O11 -> 2010
A45: ="Ind"&B45 -> Ind1080 | B45: =IndList!K12 -> 1080 | C45: =IndList!L12 -> Young VET graduates in further education and training (%) | D45: =IndList!M12 -> Percentage of the population aged 18-24 with a medium-level vocational qualification (ISCED 3 or 4) as their highest educational attainment who participated in education and training over four weeks prior to the survey. (Eurostat calculations based on LFS) (a) | E45: =IndList!N12 -> 2010 | F45: =IndList!O12 -> 2016
A46: ="Ind"&B46 -> Ind1090 | B46: =IndList!K13 -> 1090 | C46: =IndList!L13 -> Older adults in lifelong learning (%) | D46: =IndList!M13 -> Percentage of the population aged 50-64 who participated in education and training over the four weeks prior to the survey. (Cedefop calculations based on Eurostat, LFS) | E46: =IndList!N13 -> 2010 | F46: =IndList!O13 -> 2016
A47: ="Ind"&B47 -> Ind1100 | B47: =IndList!K14 -> 1100 | C47: =IndList!L14 -> Low-educated adults in lifelong learning (%) | D47: =IndList!M14 -> Percentage of the population aged 25-64 with lowest level of educational attainment (ISCED 0-2) who participated in education and training over the four weeks prior to the survey. (Eurostat, LFS) | E47: =IndList!N14 -> 2010 | F47: =IndList!O14 -> 2016
... A71: ="Ind"&B71 -> Ind3070 | B71: =IndList!K38 -> 3070 | C71: =IndList!L38 -> Medium/high-qualified employment in 2025 (% of total) | D71: =IndList!M38 -> Share of total employment accounted for by individuals with medium- (ISCED 3-4) or high-level (ISCED 5 and above) qualifications in 2025. Level of qualifications refers to the educational attainment of individuals who will be employed and not to the educational requirements of their jobs. (Cedefop forecasts) | E71: =IndList!N38 -> 2010 | F71: =IndList!O38 -> 2016
D72: (a) Data supplied at Cedefop request.
D73: (b) EU averages are weighted averages of available country data.

Sheet Ind1010
A2: Description | D2: Offset | E2: =ROW(IndList!A3)-ROW(IndList!A3) -> 0
B3: Indicator number
C4: =OFFSET(IndList!B3,$E$2,0) -> IND1010
B5: Label
C6: =OFFSET(IndList!C3,$E$2,0) -> IVET students as % of all upper secondary students
B7: Description
C8: =OFFSET(IndList!D3,$E$2,0) -> Number of students in upper secondary IVET (ISCED 3) as a percentage of all upper secondary students.
B9: Group
C10: =OFFSET(IndList!E3,$E$2,0) -> Access, attractiveness and flexibility
B11: Source
C12: =OFFSET(IndList!F3,$E$2,0) -> Cedefop calculations based on Eurostat, UOE
A14: Indicator values and flags | D14: Offset | E14: =ROW(IndData!A3)-ROW(IndData!A3) -> 0
B16: Geographical unit | D16: 2010 | F16: 2011 | H16: 2012 | J16: 2013 | L16: 2014 | N16: 2015 | P16: 2016
D17: Value | E17: Flag | F17: Value | G17: Flag | H17: Value | I17: Flag | J17: Value | K17: Flag | L17: Value | M17: Flag | N17: Value | O17: Flag | P17: Value | Q17: Flag
B18: =IF(OFFSET(IndData!C3,$E$14,0)="","",OFFSET(IndData!C3,$E$14,0)) -> EU28 | C18: =IF(OFFSET(IndData!D3,$E$14,0)="","",OFFSET(IndData!D3,$E$14,0)) | D18: =IF(OFFSET(IndData!E3,$E$14,0)="","",OFFSET(IndData!E3,$E$14,0)) | E18: =IF(OFFSET(IndData!F3,$E$14,0)="","",OFFSET(IndData!F3,$E$14,0)) | F18: =IF(OFFSET(IndData!G3,$E$14,0)="","",OFFSET(IndData!G3,$E$14,0)) | G18: =IF(OFFSET(IndData!H3,$E$14,0)="","",OFFSET(IndData!H3,$E$14,0)) | H18: =IF(OFFSET(IndData!I3,$E$14,0)="","",OFFSET(IndData!I3,$E$14,0)) | I18: =IF(OFFSET(IndData!J3,$E$14,0)="","",OFFSET(IndData!J3,$E$14,0)) | ... Q18: =IF(OFFSET(IndData!R3,$E$14,0)="","",OFFSET(IndData!R3,$E$14,0))
B19: =IF(OFFSET(IndData!C4,$E$14,0)="","",OFFSET(IndData!C4,$E$14,0)) -> BE | C19: =IF(OFFSET(IndData!D4,$E$14,0)="","",OFFSET(IndData!D4,$E$14,0)) -> Belgium | D19: =IF(OFFSET(IndData!E4,$E$14,0)="","",OFFSET(IndData!E4,$E$14,0)) | E19: =IF(OFFSET(IndData!F4,$E$14,0)="","",OFFSET(IndData!F4,$E$14,0)) | F19: =IF(OFFSET(IndData!G4,$E$14,0)="","",OFFSET(IndData!G4,$E$14,0)) | G19: =IF(OFFSET(IndData!H4,$E$14,0)="","",OFFSET(IndData!H4,$E$14,0)) | H19: =IF(OFFSET(IndData!I4,$E$14,0)="","",OFFSET(IndData!I4,$E$14,0)) | I19: =IF(OFFSET(IndData!J4,$E$14,0)="","",OFFSET(IndData!J4,$E$14,0)) | ... Q19: =IF(OFFSET(IndData!R4,$E$14,0)="","",OFFSET(IndData!R4,$E$14,0))
B20: =IF(OFFSET(IndData!C5,$E$14,0)="","",OFFSET(IndData!C5,$E$14,0)) -> BG | C20: =IF(OFFSET(IndData!D5,$E$14,0)="","",OFFSET(IndData!D5,$E$14,0)) -> Bulgaria | D20: =IF(OFFSET(IndData!E5,$E$14,0)="","",OFFSET(IndData!E5,$E$14,0)) | E20: =IF(OFFSET(IndData!F5,$E$14,0)="","",OFFSET(IndData!F5,$E$14,0)) | F20: =IF(OFFSET(IndData!G5,$E$14,0)="","",OFFSET(IndData!G5,$E$14,0)) | G20: =IF(OFFSET(IndData!H5,$E$14,0)="","",OFFSET(IndData!H5,$E$14,0)) | H20: =IF(OFFSET(IndData!I5,$E$14,0)="","",OFFSET(IndData!I5,$E$14,0)) | I20: =IF(OFFSET(IndData!J5,$E$14,0)="","",OFFSET(IndData!J5,$E$14,0)) | ... Q20: =IF(OFFSET(IndData!R5,$E$14,0)="","",OFFSET(IndData!R5,$E$14,0))
B21: =IF(OFFSET(IndData!C6,$E$14,0)="","",OFFSET(IndData!C6,$E$14,0)) -> CZ | C21: =IF(OFFSET(IndData!D6,$E$14,0)="","",OFFSET(IndData!D6,$E$14,0)) -> Czech Republic | D21: =IF(OFFSET(IndData!E6,$E$14,0)="","",OFFSET(IndData!E6,$E$14,0)) | E21: =IF(OFFSET(IndData!F6,$E$14,0)="","",OFFSET(IndData!F6,$E$14,0)) | F21: =IF(OFFSET(IndData!G6,$E$14,0)="","",OFFSET(IndData!G6,$E$14,0)) | G21: =IF(OFFSET(IndData!H6,$E$14,0)="","",OFFSET(IndData!H6,$E$14,0)) | H21: =IF(OFFSET(IndData!I6,$E$14,0)="","",OFFSET(IndData!I6,$E$14,0)) | I21: =IF(OFFSET(IndData!J6,$E$14,0)="","",OFFSET(IndData!J6,$E$14,0)) | ... Q21: =IF(OFFSET(IndData!R6,$E$14,0)="","",OFFSET(IndData!R6,$E$14,0))
B22: =IF(OFFSET(IndData!C7,$E$14,0)="","",OFFSET(IndData!C7,$E$14,0)) -> DK | C22: =IF(OFFSET(IndData!D7,$E$14,0)="","",OFFSET(IndData!D7,$E$14,0)) -> Denmark | D22: =IF(OFFSET(IndData!E7,$E$14,0)="","",OFFSET(IndData!E7,$E$14,0)) | E22: =IF(OFFSET(IndData!F7,$E$14,0)="","",OFFSET(IndData!F7,$E$14,0)) | F22: =IF(OFFSET(IndData!G7,$E$14,0)="","",OFFSET(IndData!G7,$E$14,0)) | G22: =IF(OFFSET(IndData!H7,$E$14,0)="","",OFFSET(IndData!H7,$E$14,0)) | H22: =IF(OFFSET(IndData!I7,$E$14,0)="","",OFFSET(IndData!I7,$E$14,0)) | I22: =IF(OFFSET(IndData!J7,$E$14,0)="","",OFFSET(IndData!J7,$E$14,0)) | ... Q22: =IF(OFFSET(IndData!R7,$E$14,0)="","",OFFSET(IndData!R7,$E$14,0))
B23: =IF(OFFSET(IndData!C8,$E$14,0)="","",OFFSET(IndData!C8,$E$14,0)) -> DE | C23: =IF(OFFSET(IndData!D8,$E$14,0)="","",OFFSET(IndData!D8,$E$14,0)) -> Germany | D23: =IF(OFFSET(IndData!E8,$E$14,0)="","",OFFSET(IndData!E8,$E$14,0)) | E23: =IF(OFFSET(IndData!F8,$E$14,0)="","",OFFSET(IndData!F8,$E$14,0)) | F23: =IF(OFFSET(IndData!G8,$E$14,0)="","",OFFSET(IndData!G8,$E$14,0)) | G23: =IF(OFFSET(IndData!H8,$E$14,0)="","",OFFSET(IndData!H8,$E$14,0)) | H23: =IF(OFFSET(IndData!I8,$E$14,0)="","",OFFSET(IndData!I8,$E$14,0)) | I23: =IF(OFFSET(IndData!J8,$E$14,0)="","",OFFSET(IndData!J8,$E$14,0)) | ... Q23: =IF(OFFSET(IndData!R8,$E$14,0)="","",OFFSET(IndData!R8,$E$14,0))
B24: =IF(OFFSET(IndData!C9,$E$14,0)="","",OFFSET(IndData!C9,$E$14,0)) -> EE | C24: =IF(OFFSET(IndData!D9,$E$14,0)="","",OFFSET(IndData!D9,$E$14,0)) -> Estonia | D24: =IF(OFFSET(IndData!E9,$E$14,0)="","",OFFSET(IndData!E9,$E$14,0)) | E24: =IF(OFFSET(IndData!F9,$E$14,0)="","",OFFSET(IndData!F9,$E$14,0)) | F24: =IF(OFFSET(IndData!G9,$E$14,0)="","",OFFSET(IndData!G9,$E$14,0)) | G24: =IF(OFFSET(IndData!H9,$E$14,0)="","",OFFSET(IndData!H9,$E$14,0)) | H24: =IF(OFFSET(IndData!I9,$E$14,0)="","",OFFSET(IndData!I9,$E$14,0)) | I24: =IF(OFFSET(IndData!J9,$E$14,0)="","",OFFSET(IndData!J9,$E$14,0)) | ... Q24: =IF(OFFSET(IndData!R9,$E$14,0)="","",OFFSET(IndData!R9,$E$14,0))
B25: =IF(OFFSET(IndData!C10,$E$14,0)="","",OFFSET(IndData!C10,$E$14,0)) -> IE | C25: =IF(OFFSET(IndData!D10,$E$14,0)="","",OFFSET(IndData!D10,$E$14,0)) -> Ireland | D25: =IF(OFFSET(IndData!E10,$E$14,0)="","",OFFSET(IndData!E10,$E$14,0)) | E25: =IF(OFFSET(IndData!F10,$E$14,0)="","",OFFSET(IndData!F10,$E$14,0)) | F25: =IF(OFFSET(IndData!G10,$E$14,0)="","",OFFSET(IndData!G10,$E$14,0)) | G25: =IF(OFFSET(IndData!H10,$E$14,0)="","",OFFSET(IndData!H10,$E$14,0)) | H25: =IF(OFFSET(IndData!I10,$E$14,0)="","",OFFSET(IndData!I10,$E$14,0)) | I25: =IF(OFFSET(IndData!J10,$E$14,0)="","",OFFSET(IndData!J10,$E$14,0)) | ... Q25: =IF(OFFSET(IndData!R10,$E$14,0)="","",OFFSET(IndData!R10,$E$14,0))
B26: =IF(OFFSET(IndData!C11,$E$14,0)="","",OFFSET(IndData!C11,$E$14,0)) -> EL | C26: =IF(OFFSET(IndData!D11,$E$14,0)="","",OFFSET(IndData!D11,$E$14,0)) -> Greece | D26: =IF(OFFSET(IndData!E11,$E$14,0)="","",OFFSET(IndData!E11,$E$14,0)) | E26: =IF(OFFSET(IndData!F11,$E$14,0)="","",OFFSET(IndData!F11,$E$14,0)) | F26: =IF(OFFSET(IndData!G11,$E$14,0)="","",OFFSET(IndData!G11,$E$14,0)) | G26: =IF(OFFSET(IndData!H11,$E$14,0)="","",OFFSET(IndData!H11,$E$14,0)) | H26: =IF(OFFSET(IndData!I11,$E$14,0)="","",OFFSET(IndData!I11,$E$14,0)) | I26: =IF(OFFSET(IndData!J11,$E$14,0)="","",OFFSET(IndData!J11,$E$14,0)) | ... Q26: =IF(OFFSET(IndData!R11,$E$14,0)="","",OFFSET(IndData!R11,$E$14,0))
B27: =IF(OFFSET(IndData!C12,$E$14,0)="","",OFFSET(IndData!C12,$E$14,0)) -> ES | C27: =IF(OFFSET(IndData!D12,$E$14,0)="","",OFFSET(IndData!D12,$E$14,0)) -> Spain | D27: =IF(OFFSET(IndData!E12,$E$14,0)="","",OFFSET(IndData!E12,$E$14,0)) | E27: =IF(OFFSET(IndData!F12,$E$14,0)="","",OFFSET(IndData!F12,$E$14,0)) | F27: =IF(OFFSET(IndData!G12,$E$14,0)="","",OFFSET(IndData!G12,$E$14,0)) | G27: =IF(OFFSET(IndData!H12,$E$14,0)="","",OFFSET(IndData!H12,$E$14,0)) | H27: =IF(OFFSET(IndData!I12,$E$14,0)="","",OFFSET(IndData!I12,$E$14,0)) | I27: =IF(OFFSET(IndData!J12,$E$14,0)="","",OFFSET(IndData!J12,$E$14,0)) | ... Q27: =IF(OFFSET(IndData!R12,$E$14,0)="","",OFFSET(IndData!R12,$E$14,0))
B28: =IF(OFFSET(IndData!C13,$E$14,0)="","",OFFSET(IndData!C13,$E$14,0)) -> FR | C28: =IF(OFFSET(IndData!D13,$E$14,0)="","",OFFSET(IndData!D13,$E$14,0)) -> France | D28: =IF(OFFSET(IndData!E13,$E$14,0)="","",OFFSET(IndData!E13,$E$14,0)) | E28: =IF(OFFSET(IndData!F13,$E$14,0)="","",OFFSET(IndData!F13,$E$14,0)) | F28: =IF(OFFSET(IndData!G13,$E$14,0)="","",OFFSET(IndData!G13,$E$14,0)) | G28: =IF(OFFSET(IndData!H13,$E$14,0)="","",OFFSET(IndData!H13,$E$14,0)) | H28: =IF(OFFSET(IndData!I13,$E$14,0)="","",OFFSET(IndData!I13,$E$14,0)) | I28: =IF(OFFSET(IndData!J13,$E$14,0)="","",OFFSET(IndData!J13,$E$14,0)) | ... Q28: =IF(OFFSET(IndData!R13,$E$14,0)="","",OFFSET(IndData!R13,$E$14,0))
B29: =IF(OFFSET(IndData!C14,$E$14,0)="","",OFFSET(IndData!C14,$E$14,0)) -> HR | C29: =IF(OFFSET(IndData!D14,$E$14,0)="","",OFFSET(IndData!D14,$E$14,0)) -> Croatia | D29: =IF(OFFSET(IndData!E14,$E$14,0)="","",OFFSET(IndData!E14,$E$14,0)) | E29: =IF(OFFSET(IndData!F14,$E$14,0)="","",OFFSET(IndData!F14,$E$14,0)) | F29: =IF(OFFSET(IndData!G14,$E$14,0)="","",OFFSET(IndData!G14,$E$14,0)) | G29: =IF(OFFSET(IndData!H14,$E$14,0)="","",OFFSET(IndData!H14,$E$14,0)) | H29: =IF(OFFSET(IndData!I14,$E$14,0)="","",OFFSET(IndData!I14,$E$14,0)) | I29: =IF(OFFSET(IndData!J14,$E$14,0)="","",OFFSET(IndData!J14,$E$14,0)) | ... Q29: =IF(OFFSET(IndData!R14,$E$14,0)="","",OFFSET(IndData!R14,$E$14,0))
... B51: =IF(OFFSET(IndData!C36,$E$14,0)="","",OFFSET(IndData!C36,$E$14,0)) -> TR | C51: =IF(OFFSET(IndData!D36,$E$14,0)="","",OFFSET(IndData!D36,$E$14,0)) -> Turkey | D51: =IF(OFFSET(IndData!E36,$E$14,0)="","",OFFSET(IndData!E36,$E$14,0)) | E51: =IF(OFFSET(IndData!F36,$E$14,0)="","",OFFSET(IndData!F36,$E$14,0)) | F51: =IF(OFFSET(IndData!G36,$E$14,0)="","",OFFSET(IndData!G36,$E$14,0)) | G51: =IF(OFFSET(IndData!H36,$E$14,0)="","",OFFSET(IndData!H36,$E$14,0)) | H51: =IF(OFFSET(IndData!I36,$E$14,0)="","",OFFSET(IndData!I36,$E$14,0)) | I51: =IF(OFFSET(IndData!J36,$E$14,0)="","",OFFSET(IndData!J36,$E$14,0)) | ... Q51: =IF(OFFSET(IndData!R36,$E$14,0)="","",OFFSET(IndData!R36,$E$14,0))
A53: References to sources
B55: Country values and flags are derived from
C56: Source number | D56: Eurostat table | F56: Download date
C57: =IndSources!C3 -> S0140 | D57: =IndSources!D3 -> educ_uoe_enrs04 | F57: =IndSources!E3 -> "10 October 2017" | I57: ED3m
C58: =IndSources!C4 -> S0142 | D58: =IndSources!D4 -> educ_uoe_enrs04 | F58: =IndSources!E4 -> "10 October 2017" | I58: ED35m
C59: =IndSources!C5 -> S0143 | D59: =IndSources!D5 -> educ_uoe_enrs04 | F59: =IndSources!E5 -> "10 October 2017" | I59: ED3f
C60: =IndSources!C6 -> S0145 | D60: =IndSources!D6 -> educ_uoe_enrs04 | F60: =IndSources!E6 -> "10 October 2017" | I60: ED35f
C61: =IndSources!C7 -> S0227 | D61: =IndSources!D7 -> educ_uoe_enra16 | F61: =IndSources!E7 -> "10 October 2017" | I61: ED3m
C62: =IndSources!C8 -> S0228 | D62: =IndSources!D8 -> educ_uoe_enra16 | F62: =IndSources!E8 -> "10 October 2017" | I62: ED3f
C63: =IndSources!C9 -> S0231 | D63: =IndSources!D9 -> educ_uoe_enra16 | F63: =IndSources!E9 -> "10 October 2017" | I63: ED35m
C64: =IndSources!C10 -> S0232 | D64: =IndSources!D10 -> educ_uoe_enra16 | F64: =IndSources!E10 -> "10 October 2017" | I64: ED35f
B65: EU28 value calculated by Cedefop from the same sources.
A67: Further specification
B69: Indicator formula: (ED35m + ED35f) / (ED3m + ED3f) *100
B71: A | C71: Indicator values and flags for individual countries:
C72: 1 | D72: The 2013 to 2015 values for the 33 countries are derived from sources S0140, S0142, S0143, S0145.
D73: The data for EL in 2015 are missing in the sources S0140, S0142, S0143, S0145.
D74: But they are available in the sources S0227, S0231, S0228, S0232.
C75: 2 | D75: Case IE:
D76: a | E76: 2013 value included (there are no flags), but it does not seem meaningful (probably a transition effect).
E77: Null values in 2014 and 2015 numerator terms (which have "z" flags) interpreted as zero. (Denominator terms are available.)
D78: b | E78: (2013 as in main case)
E79: 2014 and 2015: zero and "z" flag.
C80: 3 | D80: Case EL:
D81: a | E81: No problem in 2013 and 2014.
E82: For 2015 all terms are missing (null values without flags for numerator as well as denominator terms) in the sources S0140, S0142, S0143, S0145.
E83: These terms are extracted from S0227, S0231, S0228, S0232 instead.
D84: b | E84: (2013 and 2014 as in main case)
E85: 2015: calculate as in main case, but with data from alternative source; no flag.
C86: 4 | D86: Case NL:
D87: a | E87: In main sources (S0140, S0142, S0143, S0145) the terms for NL (numerator as well as denominator) are missing for 2013 and 2014 (no flags), but available for 2015.
E88: In the alternative sources (S0227, S0231, S0228, S0232), the situation for NL is identical.
D89: b | E89: 2012 and 2013: null, no flag.
E90: ( 2015 as in main case)
B91: B | C91: Time series of indicator values for "EU28":
C92: 1 | D92: For 25 of the 28 EU Member States, all the elements of the numerator and the denominator of the indicator are available.
D93: (Numerator: sources S0142, S0145; denominator: sources S0140, S0143.)
D94: The exceptions are IE, EL, NL.
C95: 2 | D95: Case IE:
D96: a | E96: (2013 as main case)
D97: b | E97: 2014 and 2015:
E98: 1 | F98: Numerator zero.
E99: 2 | F99: Denominator as main case (from S0140, S0143).
C100: 3 | D100: Case EL:
D101: a | E101: (2013 and 2014 as main case)
D102: b | E102: 2015:
E103: 1 | F103: Numerator from S0231, S0232.
E104: 2 | F104: Denominator from S0227, S0228.
C105: 4 | D105: Case NL:
D106: a | E106: (2015 as main case)
D107: b | E107: 2013 and 2014:
E108: 1 | F108: Numerator copied from 2015.
E109: 2 | F109: Denominator copied from 2015.
B110: D | C110: Flags attached to "EU28" values:
C111: 1 | D111: Flag "Calculated".
B112: E | C112: Note attached to "EU28" values:
C113: 1 | D113: The EU28 values are based on 28 countries, with partial information for NL.
D114: NL: | E114: missing 2013 and 2014 data imputed by copying 2015 data.

Sheet Ind1020
A2: Description | D2: Offset | E2: =ROW(IndList!A4)-ROW(IndList!A3) -> 1
B3: Indicator number
C4: =OFFSET(IndList!B3,$E$2,0) -> IND1020
B5: Label
C6: =OFFSET(IndList!C3,$E$2,0) -> IVET work-based students as % of all upper secondary IVET
B7: Description
C8: =OFFSET(IndList!D3,$E$2,0) -> Number of students in combined work- and school-based upper secondary IVET (ISCED 3) as a percentage of all students in upper secondary IVET.
B9: Group
C10: =OFFSET(IndList!E3,$E$2,0) -> Access, attractiveness and flexibility
B11: Source
C12: =OFFSET(IndList!F3,$E$2,0) -> Cedefop calculations based on Eurostat, UOE
A14: Indicator values and flags | D14: Offset | E14: =ROW(IndData!A37)-ROW(IndData!A3) -> 34
B16: Geographical unit | D16: 2010 | F16: 2011 | H16: 2012 | J16: 2013 | L16: 2014 | N16: 2015 | P16: 2016
D17: Value | E17: Flag | F17: Value | G17: Flag | H17: Value | I17: Flag | J17: Value | K17: Flag | L17: Value | M17: Flag | N17: Value | O17: Flag | P17: Value | Q17: Flag
B18: =IF(OFFSET(IndData!C3,$E$14,0)="","",OFFSET(IndData!C3,$E$14,0)) -> EU28 | C18: =IF(OFFSET(IndData!D3,$E$14,0)="","",OFFSET(IndData!D3,$E$14,0)) | D18: =IF(OFFSET(IndData!E3,$E$14,0)="","",OFFSET(IndData!E3,$E$14,0)) | E18: =IF(OFFSET(IndData!F3,$E$14,0)="","",OFFSET(IndData!F3,$E$14,0)) | F18: =IF(OFFSET(IndData!G3,$E$14,0)="","",OFFSET(IndData!G3,$E$14,0)) | G18: =IF(OFFSET(IndData!H3,$E$14,0)="","",OFFSET(IndData!H3,$E$14,0)) | H18: =IF(OFFSET(IndData!I3,$E$14,0)="","",OFFSET(IndData!I3,$E$14,0)) | I18: =IF(OFFSET(IndData!J3,$E$14,0)="","",OFFSET(IndData!J3,$E$14,0)) | ... Q18: =IF(OFFSET(IndData!R3,$E$14,0)="","",OFFSET(IndData!R3,$E$14,0))
B19: =IF(OFFSET(IndData!C4,$E$14,0)="","",OFFSET(IndData!C4,$E$14,0)) -> BE | C19: =IF(OFFSET(IndData!D4,$E$14,0)="","",OFFSET(IndData!D4,$E$14,0)) -> Belgium | D19: =IF(OFFSET(IndData!E4,$E$14,0)="","",OFFSET(IndData!E4,$E$14,0)) | E19: =IF(OFFSET(IndData!F4,$E$14,0)="","",OFFSET(IndData!F4,$E$14,0)) | F19: =IF(OFFSET(IndData!G4,$E$14,0)="","",OFFSET(IndData!G4,$E$14,0)) | G19: =IF(OFFSET(IndData!H4,$E$14,0)="","",OFFSET(IndData!H4,$E$14,0)) | H19: =IF(OFFSET(IndData!I4,$E$14,0)="","",OFFSET(IndData!I4,$E$14,0)) | I19: =IF(OFFSET(IndData!J4,$E$14,0)="","",OFFSET(IndData!J4,$E$14,0)) | ... Q19: =IF(OFFSET(IndData!R4,$E$14,0)="","",OFFSET(IndData!R4,$E$14,0))
B20: =IF(OFFSET(IndData!C5,$E$14,0)="","",OFFSET(IndData!C5,$E$14,0)) -> BG | C20: =IF(OFFSET(IndData!D5,$E$14,0)="","",OFFSET(IndData!D5,$E$14,0)) -> Bulgaria | D20: =IF(OFFSET(IndData!E5,$E$14,0)="","",OFFSET(IndData!E5,$E$14,0)) | E20: =IF(OFFSET(IndData!F5,$E$14,0)="","",OFFSET(IndData!F5,$E$14,0)) | F20: =IF(OFFSET(IndData!G5,$E$14,0)="","",OFFSET(IndData!G5,$E$14,0)) | G20: =IF(OFFSET(IndData!H5,$E$14,0)="","",OFFSET(IndData!H5,$E$14,0)) | H20: =IF(OFFSET(IndData!I5,$E$14,0)="","",OFFSET(IndData!I5,$E$14,0)) | I20: =IF(OFFSET(IndData!J5,$E$14,0)="","",OFFSET(IndData!J5,$E$14,0)) | ... Q20: =IF(OFFSET(IndData!R5,$E$14,0)="","",OFFSET(IndData!R5,$E$14,0))
B21: =IF(OFFSET(IndData!C6,$E$14,0)="","",OFFSET(IndData!C6,$E$14,0)) -> CZ | C21: =IF(OFFSET(IndData!D6,$E$14,0)="","",OFFSET(IndData!D6,$E$14,0)) -> Czech Republic | D21: =IF(OFFSET(IndData!E6,$E$14,0)="","",OFFSET(IndData!E6,$E$14,0)) | E21: =IF(OFFSET(IndData!F6,$E$14,0)="","",OFFSET(IndData!F6,$E$14,0)) | F21: =IF(OFFSET(IndData!G6,$E$14,0)="","",OFFSET(IndData!G6,$E$14,0)) | G21: =IF(OFFSET(IndData!H6,$E$14,0)="","",OFFSET(IndData!H6,$E$14,0)) | H21: =IF(OFFSET(IndData!I6,$E$14,0)="","",OFFSET(IndData!I6,$E$14,0)) | I21: =IF(OFFSET(IndData!J6,$E$14,0)="","",OFFSET(IndData!J6,$E$14,0)) | ... Q21: =IF(OFFSET(IndData!R6,$E$14,0)="","",OFFSET(IndData!R6,$E$14,0))
B22: =IF(OFFSET(IndData!C7,$E$14,0)="","",OFFSET(IndData!C7,$E$14,0)) -> DK | C22: =IF(OFFSET(IndData!D7,$E$14,0)="","",OFFSET(IndData!D7,$E$14,0)) -> Denmark | D22: =IF(OFFSET(IndData!E7,$E$14,0)="","",OFFSET(IndData!E7,$E$14,0)) | E22: =IF(OFFSET(IndData!F7,$E$14,0)="","",OFFSET(IndData!F7,$E$14,0)) | F22: =IF(OFFSET(IndData!G7,$E$14,0)="","",OFFSET(IndData!G7,$E$14,0)) | G22: =IF(OFFSET(IndData!H7,$E$14,0)="","",OFFSET(IndData!H7,$E$14,0)) | H22: =IF(OFFSET(IndData!I7,$E$14,0)="","",OFFSET(IndData!I7,$E$14,0)) | I22: =IF(OFFSET(IndData!J7,$E$14,0)="","",OFFSET(IndData!J7,$E$14,0)) | ... Q22: =IF(OFFSET(IndData!R7,$E$14,0)="","",OFFSET(IndData!R7,$E$14,0))
B23: =IF(OFFSET(IndData!C8,$E$14,0)="","",OFFSET(IndData!C8,$E$14,0)) -> DE | C23: =IF(OFFSET(IndData!D8,$E$14,0)="","",OFFSET(IndData!D8,$E$14,0)) -> Germany | D23: =IF(OFFSET(IndData!E8,$E$14,0)="","",OFFSET(IndData!E8,$E$14,0)) | E23: =IF(OFFSET(IndData!F8,$E$14,0)="","",OFFSET(IndData!F8,$E$14,0)) | F23: =IF(OFFSET(IndData!G8,$E$14,0)="","",OFFSET(IndData!G8,$E$14,0)) | G23: =IF(OFFSET(IndData!H8,$E$14,0)="","",OFFSET(IndData!H8,$E$14,0)) | H23: =IF(OFFSET(IndData!I8,$E$14,0)="","",OFFSET(IndData!I8,$E$14,0)) | I23: =IF(OFFSET(IndData!J8,$E$14,0)="","",OFFSET(IndData!J8,$E$14,0)) | ... Q23: =IF(OFFSET(IndData!R8,$E$14,0)="","",OFFSET(IndData!R8,$E$14,0))
B24: =IF(OFFSET(IndData!C9,$E$14,0)="","",OFFSET(IndData!C9,$E$14,0)) -> EE | C24: =IF(OFFSET(IndData!D9,$E$14,0)="","",OFFSET(IndData!D9,$E$14,0)) -> Estonia | D24: =IF(OFFSET(IndData!E9,$E$14,0)="","",OFFSET(IndData!E9,$E$14,0)) | E24: =IF(OFFSET(IndData!F9,$E$14,0)="","",OFFSET(IndData!F9,$E$14,0)) | F24: =IF(OFFSET(IndData!G9,$E$14,0)="","",OFFSET(IndData!G9,$E$14,0)) | G24: =IF(OFFSET(IndData!H9,$E$14,0)="","",OFFSET(IndData!H9,$E$14,0)) | H24: =IF(OFFSET(IndData!I9,$E$14,0)="","",OFFSET(IndData!I9,$E$14,0)) | I24: =IF(OFFSET(IndData!J9,$E$14,0)="","",OFFSET(IndData!J9,$E$14,0)) | ... Q24: =IF(OFFSET(IndData!R9,$E$14,0)="","",OFFSET(IndData!R9,$E$14,0))
B25: =IF(OFFSET(IndData!C10,$E$14,0)="","",OFFSET(IndData!C10,$E$14,0)) -> IE | C25: =IF(OFFSET(IndData!D10,$E$14,0)="","",OFFSET(IndData!D10,$E$14,0)) -> Ireland | D25: =IF(OFFSET(IndData!E10,$E$14,0)="","",OFFSET(IndData!E10,$E$14,0)) | E25: =IF(OFFSET(IndData!F10,$E$14,0)="","",OFFSET(IndData!F10,$E$14,0)) | F25: =IF(OFFSET(IndData!G10,$E$14,0)="","",OFFSET(IndData!G10,$E$14,0)) | G25: =IF(OFFSET(IndData!H10,$E$14,0)="","",OFFSET(IndData!H10,$E$14,0)) | H25: =IF(OFFSET(IndData!I10,$E$14,0)="","",OFFSET(IndData!I10,$E$14,0)) | I25: =IF(OFFSET(IndData!J10,$E$14,0)="","",OFFSET(IndData!J10,$E$14,0)) | ... Q25: =IF(OFFSET(IndData!R10,$E$14,0)="","",OFFSET(IndData!R10,$E$14,0))
B26: =IF(OFFSET(IndData!C11,$E$14,0)="","",OFFSET(IndData!C11,$E$14,0)) -> EL | C26: =IF(OFFSET(IndData!D11,$E$14,0)="","",OFFSET(IndData!D11,$E$14,0)) -> Greece | D26: =IF(OFFSET(IndData!E11,$E$14,0)="","",OFFSET(IndData!E11,$E$14,0)) | E26: =IF(OFFSET(IndData!F11,$E$14,0)="","",OFFSET(IndData!F11,$E$14,0)) | F26: =IF(OFFSET(IndData!G11,$E$14,0)="","",OFFSET(IndData!G11,$E$14,0)) | G26: =IF(OFFSET(IndData!H11,$E$14,0)="","",OFFSET(IndData!H11,$E$14,0)) | H26: =IF(OFFSET(IndData!I11,$E$14,0)="","",OFFSET(IndData!I11,$E$14,0)) | I26: =IF(OFFSET(IndData!J11,$E$14,0)="","",OFFSET(IndData!J11,$E$14,0)) | ... Q26: =IF(OFFSET(IndData!R11,$E$14,0)="","",OFFSET(IndData!R11,$E$14,0))
B27: =IF(OFFSET(IndData!C12,$E$14,0)="","",OFFSET(IndData!C12,$E$14,0)) -> ES | C27: =IF(OFFSET(IndData!D12,$E$14,0)="","",OFFSET(IndData!D12,$E$14,0)) -> Spain | D27: =IF(OFFSET(IndData!E12,$E$14,0)="","",OFFSET(IndData!E12,$E$14,0)) | E27: =IF(OFFSET(IndData!F12,$E$14,0)="","",OFFSET(IndData!F12,$E$14,0)) | F27: =IF(OFFSET(IndData!G12,$E$14,0)="","",OFFSET(IndData!G12,$E$14,0)) | G27: =IF(OFFSET(IndData!H12,$E$14,0)="","",OFFSET(IndData!H12,$E$14,0)) | H27: =IF(OFFSET(IndData!I12,$E$14,0)="","",OFFSET(IndData!I12,$E$14,0)) | I27: =IF(OFFSET(IndData!J12,$E$14,0)="","",OFFSET(IndData!J12,$E$14,0)) | ... Q27: =IF(OFFSET(IndData!R12,$E$14,0)="","",OFFSET(IndData!R12,$E$14,0))
B28: =IF(OFFSET(IndData!C13,$E$14,0)="","",OFFSET(IndData!C13,$E$14,0)) -> FR | C28: =IF(OFFSET(IndData!D13,$E$14,0)="","",OFFSET(IndData!D13,$E$14,0)) -> France | D28: =IF(OFFSET(IndData!E13,$E$14,0)="","",OFFSET(IndData!E13,$E$14,0)) | E28: =IF(OFFSET(IndData!F13,$E$14,0)="","",OFFSET(IndData!F13,$E$14,0)) | F28: =IF(OFFSET(IndData!G13,$E$14,0)="","",OFFSET(IndData!G13,$E$14,0)) | G28: =IF(OFFSET(IndData!H13,$E$14,0)="","",OFFSET(IndData!H13,$E$14,0)) | H28: =IF(OFFSET(IndData!I13,$E$14,0)="","",OFFSET(IndData!I13,$E$14,0)) | I28: =IF(OFFSET(IndData!J13,$E$14,0)="","",OFFSET(IndData!J13,$E$14,0)) | ... Q28: =IF(OFFSET(IndData!R13,$E$14,0)="","",OFFSET(IndData!R13,$E$14,0))
B29: =IF(OFFSET(IndData!C14,$E$14,0)="","",OFFSET(IndData!C14,$E$14,0)) -> HR | C29: =IF(OFFSET(IndData!D14,$E$14,0)="","",OFFSET(IndData!D14,$E$14,0)) -> Croatia | D29: =IF(OFFSET(IndData!E14,$E$14,0)="","",OFFSET(IndData!E14,$E$14,0)) | E29: =IF(OFFSET(IndData!F14,$E$14,0)="","",OFFSET(IndData!F14,$E$14,0)) | F29: =IF(OFFSET(IndData!G14,$E$14,0)="","",OFFSET(IndData!G14,$E$14,0)) | G29: =IF(OFFSET(IndData!H14,$E$14,0)="","",OFFSET(IndData!H14,$E$14,0)) | H29: =IF(OFFSET(IndData!I14,$E$14,0)="","",OFFSET(IndData!I14,$E$14,0)) | I29: =IF(OFFSET(IndData!J14,$E$14,0)="","",OFFSET(IndData!J14,$E$14,0)) | ... Q29: =IF(OFFSET(IndData!R14,$E$14,0)="","",OFFSET(IndData!R14,$E$14,0))
... B51: =IF(OFFSET(IndData!C36,$E$14,0)="","",OFFSET(IndData!C36,$E$14,0)) -> TR | C51: =IF(OFFSET(IndData!D36,$E$14,0)="","",OFFSET(IndData!D36,$E$14,0)) -> Turkey | D51: =IF(OFFSET(IndData!E36,$E$14,0)="","",OFFSET(IndData!E36,$E$14,0)) | E51: =IF(OFFSET(IndData!F36,$E$14,0)="","",OFFSET(IndData!F36,$E$14,0)) | F51: =IF(OFFSET(IndData!G36,$E$14,0)="","",OFFSET(IndData!G36,$E$14,0)) | G51: =IF(OFFSET(IndData!H36,$E$14,0)="","",OFFSET(IndData!H36,$E$14,0)) | H51: =IF(OFFSET(IndData!I36,$E$14,0)="","",OFFSET(IndData!I36,$E$14,0)) | I51: =IF(OFFSET(IndData!J36,$E$14,0)="","",OFFSET(IndData!J36,$E$14,0)) | ... Q51: =IF(OFFSET(IndData!R36,$E$14,0)="","",OFFSET(IndData!R36,$E$14,0))
A53: References to sources
B55: Country values and flags are derived from
C56: Source number | D56: Eurostat table | F56: Download date
C57: =IndSources!C11 -> S0141 | D57: =IndSources!D11 -> educ_uoe_enrs04 | F57: =IndSources!E11 -> "10 October 2017" | I57: ED3SWm
C58: =IndSources!C12 -> S0142 | D58: =IndSources!D12 -> educ_uoe_enrs04 | F58: =IndSources!E12 -> "10 October 2017" | I58: ED35m
C59: =IndSources!C13 -> S0144 | D59: =IndSources!D13 -> educ_uoe_enrs04 | F59: =IndSources!E13 -> "10 October 2017" | I59: ED3SWf
C60: =IndSources!C14 -> S0145 | D60: =IndSources!D14 -> educ_uoe_enrs04 | F60: =IndSources!E14 -> "10 October 2017" | I60: ED35f
C61: =IndSources!C15 -> S0146 | D61: =IndSources!D15 -> educ_uoe_enrs04 | F61: =IndSources!E15 -> "25 April 2017" | I61: NL
C62: =IndSources!C16 -> S0188 | D62: =IndSources!D16 -> educ_uoe_enrs04 | F62: =IndSources!E16 -> "27 May 2017" | I62: ED3SW
C63: =IndSources!C17 -> S0231 | D63: =IndSources!D17 -> educ_uoe_enra16 | F63: =IndSources!E17 -> "10 October 2017" | I63: ED35m
C64: =IndSources!C18 -> S0232 | D64: =IndSources!D18 -> educ_uoe_enra16 | F64: =IndSources!E18 -> "10 October 2017" | I64: ED35f
B65: EU28 value calculated by Cedefop from the same sources.
A67: Further specification
B69: Indicator formula: (ED3SWm + ED3SWf) /(ED35m + ED35f) *100; note (for the case of SK): ED3SW = ED3SWm + ED3SWf.
B71: A | C71: Indicator values and flags for individual countries:
C72: 1 | D72: The 2013 to 2015 values and flags for the 33 countries except NL and SK are derived from sources S0141, S0142, S0144, S0145.
D73: The 2013 to 2015 values and flags for NL are derived from source S0146.
D74: The 2013 to 2015 values and flags for SK are derived from sources S0142, S0145, S0188.
C75: 2 | D75: Cases BG, HR, CY, LT, PT, SI, TR:
D76: a | E76: Denominator: complete data.
E77: Numerator terms: all values missing, with "z" flags ("not applicable") attached.
D78: b | E78: Indicator values: zero.
D79: c | E79: Flags attached to indicator values: "z".
C80: 3 | D80: Case IE:
D81: a | E81: Denominator terms 2013: avaliable, but unrealistically small. (Transition effect?)
E82: Denominator terms 2014 and 2015: all values missing, with "z" flags ("not applicable") attached.
E83: Numerator terms: all values missing, with "z" flags ("not applicable") attached.
D84: b | E84: Indicator values: null.
D85: c | E85: Flags attached to indicator values: "z".
C86: 4 | D86: Case EL:
D87: a | E87: No problem in 2013 and 2014 but for 2015 all terms are missing (null values without flags for numerator as well as denominator terms) in sources S0141, S0142, S0144, S0145.
E88: (Note: denominator terms 2015 can be retrieved in sources S0231, S0232.)
D89: b | E89: Indicator value 2015: null.
D90: c | E90: (No flag attached to indicator value 2015.)
C91: 5 | D91: Case ES:
D92: a | E92: Numerator terms 2013 missing (no flags), denominator terms 2013 available.
E93: Time points 2014 and 2015: complete data.
D94: b | E94: Indicator value 2013: null.
D95: c | E95: (No flag attached to indicator value 2013.)
C96: 6 | D96: Case IT:
D97: a | E97: Denominator: complete data.
E98: Numerator terms 2013: zero (no flags).
E99: Numerator terms 2014: missing (no flags).
E100: Numerator terms 2015: missing, with "z" flags ("not applicable") attached.
D101: b | E101: Indicator values 2013 to 2015: zero.
D102: c | E102: Flags attached to indicator values: "z".
C103: 7 | D103: Case MT:
D104: a | E104: Complete data.
E105: But 2015 numerator values are exactly zero (no flags), in contrast with previous values.
F106: VED3SWm | G106: VED3SWF | H106: VED35m | I106: VED35f | J106: Indicator
E107: 2013 | F107: 119 | G107: 19 | H107: 1313 | I107: 963 | J107: =(F107+G107)/(H107+I107)*100 -> 6.0632689
E108: 2014 | F108: 169 | G108: 124 | H108: 1341 | I108: 967 | J108: =(F108+G108)/(H108+I108)*100 -> 12.694974
E109: 2015 | F109: 0 | G109: 0 | H109: 1302 | I109: 847 | J109: =(F109+G109)/(H109+I109)*100 -> 0
D110: b | E110: Indicator values as directed by data (no flags).
C111: 8 | D111: Case NL:
D112: a | E112: Sources S0141, S0142, S0144, S0145:
F113: Numerator: no data (and no flags).
F114: Denominator: 2013 and 2014: no data (and no flags); 2015: data available (no flags); (see also IND1010).
E115: Source S0146 (SECTOR = PUBL):
F116: All data available (no flags).
D117: b | E117: Indicator values based on S0146.
D118: c | E118: Flags "Partial" attached to the indicator values.
D119: d | E119: Note:
F120: There is no possibility for deriving indicator 1020 from the complete data (i.e. the aggregate data for all sectors).
F121: For indicator 1010 there are only public sector data for 2013 and 2014, but both public sector and complete data for 2015.
F122: The time series 2013 to 2015 of indicator 1010 has been derived for the complete data; hence: limited to 2015 and not compatibled with indicator 1020 (for NL).
C123: 9 | D123: Case PL (similar to case ES):
D124: a | E124: Numerator terms 2013 and 2014 missing (no flags), denominator terms 2013 and 2014 available.
E125: Time point 2015: complete data.
D126: b | E126: Indicator values 2013 and 2014: null.
D127: c | E127: (No flag attached to indicator values 2013 and 2014.)
C128: 10 | D128: Case RO (partly similar to cases PL and ES):
D129: a | E129: Numerator terms 2013 and 2014 missing, denominator terms 2013 and 2014 available.
...

Sheet Ind1025
A2: Description | D2: Offset | E2: =ROW(IndList!B5)-ROW(IndList!A3) -> 2
B3: Indicator number
C4: =OFFSET(IndList!B3,$E$2,0) -> IND1025
B5: Label
C6: =OFFSET(IndList!C3,$E$2,0) -> IVET students with direct access to tertiary education as % of all upper secondary IVET
B7: Description
C8: =OFFSET(IndList!D3,$E$2,0) -> Number of students in upper secondary IVET (ISCED 3) enrolled in programmes giving direct access to tertiary education as a percentage of all students in upper secondary IVET.
B9: Group
C10: =OFFSET(IndList!E3,$E$2,0) -> Access, attractiveness and flexibility
B11: Source
C12: =OFFSET(IndList!F3,$E$2,0) -> Cedefop calculations based on Eurostat, UOE
A14: Indicator values and flags | D14: Offset | E14: =ROW(IndData!A71)-ROW(IndData!A3) -> 68
B16: Geographical unit | D16: 2010 | F16: 2011 | H16: 2012 | J16: 2013 | L16: 2014 | N16: 2015 | P16: 2016
D17: Value | E17: Flag | F17: Value | G17: Flag | H17: Value | I17: Flag | J17: Value | K17: Flag | L17: Value | M17: Flag | N17: Value | O17: Flag | P17: Value | Q17: Flag
B18: =IF(OFFSET(IndData!C3,$E$14,0)="","",OFFSET(IndData!C3,$E$14,0)) -> EU28 | C18: =IF(OFFSET(IndData!D3,$E$14,0)="","",OFFSET(IndData!D3,$E$14,0)) | D18: =IF(OFFSET(IndData!E3,$E$14,0)="","",OFFSET(IndData!E3,$E$14,0)) | E18: =IF(OFFSET(IndData!F3,$E$14,0)="","",OFFSET(IndData!F3,$E$14,0)) | F18: =IF(OFFSET(IndData!G3,$E$14,0)="","",OFFSET(IndData!G3,$E$14,0)) | G18: =IF(OFFSET(IndData!H3,$E$14,0)="","",OFFSET(IndData!H3,$E$14,0)) | H18: =IF(OFFSET(IndData!I3,$E$14,0)="","",OFFSET(IndData!I3,$E$14,0)) | I18: =IF(OFFSET(IndData!J3,$E$14,0)="","",OFFSET(IndData!J3,$E$14,0)) | ... Q18: =IF(OFFSET(IndData!R3,$E$14,0)="","",OFFSET(IndData!R3,$E$14,0))
B19: =IF(OFFSET(IndData!C4,$E$14,0)="","",OFFSET(IndData!C4,$E$14,0)) -> BE | C19: =IF(OFFSET(IndData!D4,$E$14,0)="","",OFFSET(IndData!D4,$E$14,0)) -> Belgium | D19: =IF(OFFSET(IndData!E4,$E$14,0)="","",OFFSET(IndData!E4,$E$14,0)) | E19: =IF(OFFSET(IndData!F4,$E$14,0)="","",OFFSET(IndData!F4,$E$14,0)) | F19: =IF(OFFSET(IndData!G4,$E$14,0)="","",OFFSET(IndData!G4,$E$14,0)) | G19: =IF(OFFSET(IndData!H4,$E$14,0)="","",OFFSET(IndData!H4,$E$14,0)) | H19: =IF(OFFSET(IndData!I4,$E$14,0)="","",OFFSET(IndData!I4,$E$14,0)) | I19: =IF(OFFSET(IndData!J4,$E$14,0)="","",OFFSET(IndData!J4,$E$14,0)) | ... Q19: =IF(OFFSET(IndData!R4,$E$14,0)="","",OFFSET(IndData!R4,$E$14,0))
B20: =IF(OFFSET(IndData!C5,$E$14,0)="","",OFFSET(IndData!C5,$E$14,0)) -> BG | C20: =IF(OFFSET(IndData!D5,$E$14,0)="","",OFFSET(IndData!D5,$E$14,0)) -> Bulgaria | D20: =IF(OFFSET(IndData!E5,$E$14,0)="","",OFFSET(IndData!E5,$E$14,0)) | E20: =IF(OFFSET(IndData!F5,$E$14,0)="","",OFFSET(IndData!F5,$E$14,0)) | F20: =IF(OFFSET(IndData!G5,$E$14,0)="","",OFFSET(IndData!G5,$E$14,0)) | G20: =IF(OFFSET(IndData!H5,$E$14,0)="","",OFFSET(IndData!H5,$E$14,0)) | H20: =IF(OFFSET(IndData!I5,$E$14,0)="","",OFFSET(IndData!I5,$E$14,0)) | I20: =IF(OFFSET(IndData!J5,$E$14,0)="","",OFFSET(IndData!J5,$E$14,0)) | ... Q20: =IF(OFFSET(IndData!R5,$E$14,0)="","",OFFSET(IndData!R5,$E$14,0))
B21: =IF(OFFSET(IndData!C6,$E$14,0)="","",OFFSET(IndData!C6,$E$14,0)) -> CZ | C21: =IF(OFFSET(IndData!D6,$E$14,0)="","",OFFSET(IndData!D6,$E$14,0)) -> Czech Republic | D21: =IF(OFFSET(IndData!E6,$E$14,0)="","",OFFSET(IndData!E6,$E$14,0)) | E21: =IF(OFFSET(IndData!F6,$E$14,0)="","",OFFSET(IndData!F6,$E$14,0)) | F21: =IF(OFFSET(IndData!G6,$E$14,0)="","",OFFSET(IndData!G6,$E$14,0)) | G21: =IF(OFFSET(IndData!H6,$E$14,0)="","",OFFSET(IndData!H6,$E$14,0)) | H21: =IF(OFFSET(IndData!I6,$E$14,0)="","",OFFSET(IndData!I6,$E$14,0)) | I21: =IF(OFFSET(IndData!J6,$E$14,0)="","",OFFSET(IndData!J6,$E$14,0)) | ... Q21: =IF(OFFSET(IndData!R6,$E$14,0)="","",OFFSET(IndData!R6,$E$14,0))
B22: =IF(OFFSET(IndData!C7,$E$14,0)="","",OFFSET(IndData!C7,$E$14,0)) -> DK | C22: =IF(OFFSET(IndData!D7,$E$14,0)="","",OFFSET(IndData!D7,$E$14,0)) -> Denmark | D22: =IF(OFFSET(IndData!E7,$E$14,0)="","",OFFSET(IndData!E7,$E$14,0)) | E22: =IF(OFFSET(IndData!F7,$E$14,0)="","",OFFSET(IndData!F7,$E$14,0)) | F22: =IF(OFFSET(IndData!G7,$E$14,0)="","",OFFSET(IndData!G7,$E$14,0)) | G22: =IF(OFFSET(IndData!H7,$E$14,0)="","",OFFSET(IndData!H7,$E$14,0)) | H22: =IF(OFFSET(IndData!I7,$E$14,0)="","",OFFSET(IndData!I7,$E$14,0)) | I22: =IF(OFFSET(IndData!J7,$E$14,0)="","",OFFSET(IndData!J7,$E$14,0)) | ... Q22: =IF(OFFSET(IndData!R7,$E$14,0)="","",OFFSET(IndData!R7,$E$14,0))
B23: =IF(OFFSET(IndData!C8,$E$14,0)="","",OFFSET(IndData!C8,$E$14,0)) -> DE | C23: =IF(OFFSET(IndData!D8,$E$14,0)="","",OFFSET(IndData!D8,$E$14,0)) -> Germany | D23: =IF(OFFSET(IndData!E8,$E$14,0)="","",OFFSET(IndData!E8,$E$14,0)) | E23: =IF(OFFSET(IndData!F8,$E$14,0)="","",OFFSET(IndData!F8,$E$14,0)) | F23: =IF(OFFSET(IndData!G8,$E$14,0)="","",OFFSET(IndData!G8,$E$14,0)) | G23: =IF(OFFSET(IndData!H8,$E$14,0)="","",OFFSET(IndData!H8,$E$14,0)) | H23: =IF(OFFSET(IndData!I8,$E$14,0)="","",OFFSET(IndData!I8,$E$14,0)) | I23: =IF(OFFSET(IndData!J8,$E$14,0)="","",OFFSET(IndData!J8,$E$14,0)) | ... Q23: =IF(OFFSET(IndData!R8,$E$14,0)="","",OFFSET(IndData!R8,$E$14,0))
B24: =IF(OFFSET(IndData!C9,$E$14,0)="","",OFFSET(IndData!C9,$E$14,0)) -> EE | C24: =IF(OFFSET(IndData!D9,$E$14,0)="","",OFFSET(IndData!D9,$E$14,0)) -> Estonia | D24: =IF(OFFSET(IndData!E9,$E$14,0)="","",OFFSET(IndData!E9,$E$14,0)) | E24: =IF(OFFSET(IndData!F9,$E$14,0)="","",OFFSET(IndData!F9,$E$14,0)) | F24: =IF(OFFSET(IndData!G9,$E$14,0)="","",OFFSET(IndData!G9,$E$14,0)) | G24: =IF(OFFSET(IndData!H9,$E$14,0)="","",OFFSET(IndData!H9,$E$14,0)) | H24: =IF(OFFSET(IndData!I9,$E$14,0)="","",OFFSET(IndData!I9,$E$14,0)) | I24: =IF(OFFSET(IndData!J9,$E$14,0)="","",OFFSET(IndData!J9,$E$14,0)) | ... Q24: =IF(OFFSET(IndData!R9,$E$14,0)="","",OFFSET(IndData!R9,$E$14,0))
B25: =IF(OFFSET(IndData!C10,$E$14,0)="","",OFFSET(IndData!C10,$E$14,0)) -> IE | C25: =IF(OFFSET(IndData!D10,$E$14,0)="","",OFFSET(IndData!D10,$E$14,0)) -> Ireland | D25: =IF(OFFSET(IndData!E10,$E$14,0)="","",OFFSET(IndData!E10,$E$14,0)) | E25: =IF(OFFSET(IndData!F10,$E$14,0)="","",OFFSET(IndData!F10,$E$14,0)) | F25: =IF(OFFSET(IndData!G10,$E$14,0)="","",OFFSET(IndData!G10,$E$14,0)) | G25: =IF(OFFSET(IndData!H10,$E$14,0)="","",OFFSET(IndData!H10,$E$14,0)) | H25: =IF(OFFSET(IndData!I10,$E$14,0)="","",OFFSET(IndData!I10,$E$14,0)) | I25: =IF(OFFSET(IndData!J10,$E$14,0)="","",OFFSET(IndData!J10,$E$14,0)) | ... Q25: =IF(OFFSET(IndData!R10,$E$14,0)="","",OFFSET(IndData!R10,$E$14,0))
B26: =IF(OFFSET(IndData!C11,$E$14,0)="","",OFFSET(IndData!C11,$E$14,0)) -> EL | C26: =IF(OFFSET(IndData!D11,$E$14,0)="","",OFFSET(IndData!D11,$E$14,0)) -> Greece | D26: =IF(OFFSET(IndData!E11,$E$14,0)="","",OFFSET(IndData!E11,$E$14,0)) | E26: =IF(OFFSET(IndData!F11,$E$14,0)="","",OFFSET(IndData!F11,$E$14,0)) | F26: =IF(OFFSET(IndData!G11,$E$14,0)="","",OFFSET(IndData!G11,$E$14,0)) | G26: =IF(OFFSET(IndData!H11,$E$14,0)="","",OFFSET(IndData!H11,$E$14,0)) | H26: =IF(OFFSET(IndData!I11,$E$14,0)="","",OFFSET(IndData!I11,$E$14,0)) | I26: =IF(OFFSET(IndData!J11,$E$14,0)="","",OFFSET(IndData!J11,$E$14,0)) | ... Q26: =IF(OFFSET(IndData!R11,$E$14,0)="","",OFFSET(IndData!R11,$E$14,0))
B27: =IF(OFFSET(IndData!C12,$E$14,0)="","",OFFSET(IndData!C12,$E$14,0)) -> ES | C27: =IF(OFFSET(IndData!D12,$E$14,0)="","",OFFSET(IndData!D12,$E$14,0)) -> Spain | D27: =IF(OFFSET(IndData!E12,$E$14,0)="","",OFFSET(IndData!E12,$E$14,0)) | E27: =IF(OFFSET(IndData!F12,$E$14,0)="","",OFFSET(IndData!F12,$E$14,0)) | F27: =IF(OFFSET(IndData!G12,$E$14,0)="","",OFFSET(IndData!G12,$E$14,0)) | G27: =IF(OFFSET(IndData!H12,$E$14,0)="","",OFFSET(IndData!H12,$E$14,0)) | H27: =IF(OFFSET(IndData!I12,$E$14,0)="","",OFFSET(IndData!I12,$E$14,0)) | I27: =IF(OFFSET(IndData!J12,$E$14,0)="","",OFFSET(IndData!J12,$E$14,0)) | ... Q27: =IF(OFFSET(IndData!R12,$E$14,0)="","",OFFSET(IndData!R12,$E$14,0))
B28: =IF(OFFSET(IndData!C13,$E$14,0)="","",OFFSET(IndData!C13,$E$14,0)) -> FR | C28: =IF(OFFSET(IndData!D13,$E$14,0)="","",OFFSET(IndData!D13,$E$14,0)) -> France | D28: =IF(OFFSET(IndData!E13,$E$14,0)="","",OFFSET(IndData!E13,$E$14,0)) | E28: =IF(OFFSET(IndData!F13,$E$14,0)="","",OFFSET(IndData!F13,$E$14,0)) | F28: =IF(OFFSET(IndData!G13,$E$14,0)="","",OFFSET(IndData!G13,$E$14,0)) | G28: =IF(OFFSET(IndData!H13,$E$14,0)="","",OFFSET(IndData!H13,$E$14,0)) | H28: =IF(OFFSET(IndData!I13,$E$14,0)="","",OFFSET(IndData!I13,$E$14,0)) | I28: =IF(OFFSET(IndData!J13,$E$14,0)="","",OFFSET(IndData!J13,$E$14,0)) | ... Q28: =IF(OFFSET(IndData!R13,$E$14,0)="","",OFFSET(IndData!R13,$E$14,0))
B29: =IF(OFFSET(IndData!C14,$E$14,0)="","",OFFSET(IndData!C14,$E$14,0)) -> HR | C29: =IF(OFFSET(IndData!D14,$E$14,0)="","",OFFSET(IndData!D14,$E$14,0)) -> Croatia | D29: =IF(OFFSET(IndData!E14,$E$14,0)="","",OFFSET(IndData!E14,$E$14,0)) | E29: =IF(OFFSET(IndData!F14,$E$14,0)="","",OFFSET(IndData!F14,$E$14,0)) | F29: =IF(OFFSET(IndData!G14,$E$14,0)="","",OFFSET(IndData!G14,$E$14,0)) | G29: =IF(OFFSET(IndData!H14,$E$14,0)="","",OFFSET(IndData!H14,$E$14,0)) | H29: =IF(OFFSET(IndData!I14,$E$14,0)="","",OFFSET(IndData!I14,$E$14,0)) | I29: =IF(OFFSET(IndData!J14,$E$14,0)="","",OFFSET(IndData!J14,$E$14,0)) | ... Q29: =IF(OFFSET(IndData!R14,$E$14,0)="","",OFFSET(IndData!R14,$E$14,0))
... B51: =IF(OFFSET(IndData!C36,$E$14,0)="","",OFFSET(IndData!C36,$E$14,0)) -> TR | C51: =IF(OFFSET(IndData!D36,$E$14,0)="","",OFFSET(IndData!D36,$E$14,0)) -> Turkey | D51: =IF(OFFSET(IndData!E36,$E$14,0)="","",OFFSET(IndData!E36,$E$14,0)) | E51: =IF(OFFSET(IndData!F36,$E$14,0)="","",OFFSET(IndData!F36,$E$14,0)) | F51: =IF(OFFSET(IndData!G36,$E$14,0)="","",OFFSET(IndData!G36,$E$14,0)) | G51: =IF(OFFSET(IndData!H36,$E$14,0)="","",OFFSET(IndData!H36,$E$14,0)) | H51: =IF(OFFSET(IndData!I36,$E$14,0)="","",OFFSET(IndData!I36,$E$14,0)) | I51: =IF(OFFSET(IndData!J36,$E$14,0)="","",OFFSET(IndData!J36,$E$14,0)) | ... Q51: =IF(OFFSET(IndData!R36,$E$14,0)="","",OFFSET(IndData!R36,$E$14,0))
A53: References to sources
B55: Country values and flags are derived from
C56: Source number | D56: Eurostat table | F56: Download date
C57: =IndSources!C19 -> S0138 | D57: =IndSources!D19 -> educ_uoe_enra16 | F57: =IndSources!E19 -> "8 October 2017" | I57: ED35
C58: =IndSources!C20 -> S0139 | D58: =IndSources!D20 -> educ_uoe_enra16 | F58: =IndSources!E20 -> "8 October 2017" | I58: ED354
B59: EU28 value calculated by Cedefop from the same sources.
A61: Further specification
B63: Indicator formula: ED354 / ED35.
B65: A | C65: Indicator values and flags for individual countries:
C66: 1 | D66: The 2013 to 2015 values and flags for the 33 countries are derived from sources S0138, S0139.
C67: 2 | D67: Case IE:
D68: a | E68: Denominator term 2013: avaliable, but unrealistically small. (Transition effect?)
E69: Denominator terms 2014 and 2015: missing, with "z" flags ("not applicable") attached.
E70: Numerator terms: all values missing, with "z" flags ("not applicable") attached.
D71: b | E71: Indicator values: null.
D72: c | E72: Flags attached to indicator values: "z".
C73: 3 | D73: Case IT:
D74: a | E74: Denominator: complete data.
E75: Numerator term 2013: missing (no flags).
E76: Numerator terms 2014 and 2015 available..
D77: b | E77: Indicator value 2013: null.
D78: c | E78: (No flag attached to 2013 indicator value.)
C79: 4 | D79: Case NL:
D80: a | E80: Numerator and denominator missing before 2015.
E81: Complete data in 2015.
D82: b | E82: Indicator values 2013 and 2014: null.
D83: c | E83: (No flag attached to 2013 or 2014 indicator value.)
C84: 5 | D84: Case NO:
D85: a | E85: Denominator: complete data.
E86: Numerator terms: all values missing, with "z" flags ("not applicable") attached.
D87: b | E87: Indicator values: zero.
D88: c | E88: Flags attached to indicator values: "z".
B89: B | C89: Time series of indicator values for "EU28":
C90: 1 | D90: For 25 of the 28 EU Member States, all the elements of the numerator and the denominator of the indicator are available.
D91: The exceptions are IE, IT, NL.
C92: 2 | D92: Case IE:
D93: a | E93: 2013:
E94: 1 | F94: Numerator zero.
E95: 2 | F95: Denominator from source S0138.
D96: b | E96: 2014 and 2015:
E97: 1 | F97: Numerator zero.
E98: 2 | F98: Denominator zero.
C99: 3 | D99: Case IT:
D100: a | E100: 2013:
E101: 1 | F101: Numerator estimated as: (denominator IT 2013) * (indicator IT 2014) / 100
E102: 2 | F102: Denominator from source S0138.
D103: b | E103: (2014 and 2015 as main case)
C104: 4 | D104: Case NL:
D105: a | E105: 2013 and 2014:
E106: 1 | F106: Numerator estimated by copying 2015 value.
E107: 2 | F107: Denominator estimated by copying 2015 value.
D108: b | E108: (2015 a main case)
B109: D | C109: Flags attached to "EU28" values:
C110: 1 | D110: Flag "Calculated".
B111: E | C111: Note attached to "EU28" values:
C112: 1 | D112: The EU28 values are based on 28 countries, with partial information for IT, NL.
D113: IT: | E113: 2013 numerator imputed via 2014 data and 2013 denominator.
D114: NL: | E114: 2013 and 2014 data imputed by copying 2015 data.

Sheet Ind1030
A2: Description | D2: Offset | E2: =ROW(IndList!A6)-ROW(IndList!A3) -> 3
B3: Indicator number
C4: =OFFSET(IndList!B3,$E$2,0) -> IND1030
B5: Label
C6: =OFFSET(IndList!C3,$E$2,0) -> Employees participating in CVT courses (%)
B7: Description
C8: =OFFSET(IndList!D3,$E$2,0) -> Number of employees who have participated in employer-sponsored CVT courses during the reference calendar year (12 months) as a percentage of all employees in all enterprises surveyed.
B9: Group
C10: =OFFSET(IndList!E3,$E$2,0) -> Access, attractiveness and flexibility
B11: Source
C12: =OFFSET(IndList!F3,$E$2,0) -> Eurostat, CVTS
A14: Indicator values and flags | D14: Offset | E14: =ROW(IndData!A105)-ROW(IndData!A3) -> 102
B16: Geographical unit | D16: 2010 | F16: 2011 | H16: 2012 | J16: 2013 | L16: 2014 | N16: 2015 | P16: 2016
D17: Value | E17: Flag | F17: Value | G17: Flag | H17: Value | I17: Flag | J17: Value | K17: Flag | L17: Value | M17: Flag | N17: Value | O17: Flag | P17: Value | Q17: Flag
B18: =IF(OFFSET(IndData!C3,$E$14,0)="","",OFFSET(IndData!C3,$E$14,0)) -> EU28 | C18: =IF(OFFSET(IndData!D3,$E$14,0)="","",OFFSET(IndData!D3,$E$14,0)) | D18: =IF(OFFSET(IndData!E3,$E$14,0)="","",OFFSET(IndData!E3,$E$14,0)) -> 38 | E18: =IF(OFFSET(IndData!F3,$E$14,0)="","",OFFSET(IndData!F3,$E$14,0)) -> e | F18: =IF(OFFSET(IndData!G3,$E$14,0)="","",OFFSET(IndData!G3,$E$14,0)) | G18: =IF(OFFSET(IndData!H3,$E$14,0)="","",OFFSET(IndData!H3,$E$14,0)) | H18: =IF(OFFSET(IndData!I3,$E$14,0)="","",OFFSET(IndData!I3,$E$14,0)) | I18: =IF(OFFSET(IndData!J3,$E$14,0)="","",OFFSET(IndData!J3,$E$14,0)) | ... Q18: =IF(OFFSET(IndData!R3,$E$14,0)="","",OFFSET(IndData!R3,$E$14,0))
B19: =IF(OFFSET(IndData!C4,$E$14,0)="","",OFFSET(IndData!C4,$E$14,0)) -> BE | C19: =IF(OFFSET(IndData!D4,$E$14,0)="","",OFFSET(IndData!D4,$E$14,0)) -> Belgium | D19: =IF(OFFSET(IndData!E4,$E$14,0)="","",OFFSET(IndData!E4,$E$14,0)) -> 52 | E19: =IF(OFFSET(IndData!F4,$E$14,0)="","",OFFSET(IndData!F4,$E$14,0)) | F19: =IF(OFFSET(IndData!G4,$E$14,0)="","",OFFSET(IndData!G4,$E$14,0)) | G19: =IF(OFFSET(IndData!H4,$E$14,0)="","",OFFSET(IndData!H4,$E$14,0)) | H19: =IF(OFFSET(IndData!I4,$E$14,0)="","",OFFSET(IndData!I4,$E$14,0)) | I19: =IF(OFFSET(IndData!J4,$E$14,0)="","",OFFSET(IndData!J4,$E$14,0)) | ... Q19: =IF(OFFSET(IndData!R4,$E$14,0)="","",OFFSET(IndData!R4,$E$14,0))
B20: =IF(OFFSET(IndData!C5,$E$14,0)="","",OFFSET(IndData!C5,$E$14,0)) -> BG | C20: =IF(OFFSET(IndData!D5,$E$14,0)="","",OFFSET(IndData!D5,$E$14,0)) -> Bulgaria | D20: =IF(OFFSET(IndData!E5,$E$14,0)="","",OFFSET(IndData!E5,$E$14,0)) -> 22 | E20: =IF(OFFSET(IndData!F5,$E$14,0)="","",OFFSET(IndData!F5,$E$14,0)) | F20: =IF(OFFSET(IndData!G5,$E$14,0)="","",OFFSET(IndData!G5,$E$14,0)) | G20: =IF(OFFSET(IndData!H5,$E$14,0)="","",OFFSET(IndData!H5,$E$14,0)) | H20: =IF(OFFSET(IndData!I5,$E$14,0)="","",OFFSET(IndData!I5,$E$14,0)) | I20: =IF(OFFSET(IndData!J5,$E$14,0)="","",OFFSET(IndData!J5,$E$14,0)) | ... Q20: =IF(OFFSET(IndData!R5,$E$14,0)="","",OFFSET(IndData!R5,$E$14,0))
B21: =IF(OFFSET(IndData!C6,$E$14,0)="","",OFFSET(IndData!C6,$E$14,0)) -> CZ | C21: =IF(OFFSET(IndData!D6,$E$14,0)="","",OFFSET(IndData!D6,$E$14,0)) -> Czech Republic | D21: =IF(OFFSET(IndData!E6,$E$14,0)="","",OFFSET(IndData!E6,$E$14,0)) -> 61 | E21: =IF(OFFSET(IndData!F6,$E$14,0)="","",OFFSET(IndData!F6,$E$14,0)) | F21: =IF(OFFSET(IndData!G6,$E$14,0)="","",OFFSET(IndData!G6,$E$14,0)) | G21: =IF(OFFSET(IndData!H6,$E$14,0)="","",OFFSET(IndData!H6,$E$14,0)) | H21: =IF(OFFSET(IndData!I6,$E$14,0)="","",OFFSET(IndData!I6,$E$14,0)) | I21: =IF(OFFSET(IndData!J6,$E$14,0)="","",OFFSET(IndData!J6,$E$14,0)) | ... Q21: =IF(OFFSET(IndData!R6,$E$14,0)="","",OFFSET(IndData!R6,$E$14,0))
B22: =IF(OFFSET(IndData!C7,$E$14,0)="","",OFFSET(IndData!C7,$E$14,0)) -> DK | C22: =IF(OFFSET(IndData!D7,$E$14,0)="","",OFFSET(IndData!D7,$E$14,0)) -> Denmark | D22: =IF(OFFSET(IndData!E7,$E$14,0)="","",OFFSET(IndData!E7,$E$14,0)) -> 37 | E22: =IF(OFFSET(IndData!F7,$E$14,0)="","",OFFSET(IndData!F7,$E$14,0)) | F22: =IF(OFFSET(IndData!G7,$E$14,0)="","",OFFSET(IndData!G7,$E$14,0)) | G22: =IF(OFFSET(IndData!H7,$E$14,0)="","",OFFSET(IndData!H7,$E$14,0)) | H22: =IF(OFFSET(IndData!I7,$E$14,0)="","",OFFSET(IndData!I7,$E$14,0)) | I22: =IF(OFFSET(IndData!J7,$E$14,0)="","",OFFSET(IndData!J7,$E$14,0)) | ... Q22: =IF(OFFSET(IndData!R7,$E$14,0)="","",OFFSET(IndData!R7,$E$14,0))
B23: =IF(OFFSET(IndData!C8,$E$14,0)="","",OFFSET(IndData!C8,$E$14,0)) -> DE | C23: =IF(OFFSET(IndData!D8,$E$14,0)="","",OFFSET(IndData!D8,$E$14,0)) -> Germany | D23: =IF(OFFSET(IndData!E8,$E$14,0)="","",OFFSET(IndData!E8,$E$14,0)) -> 39 | E23: =IF(OFFSET(IndData!F8,$E$14,0)="","",OFFSET(IndData!F8,$E$14,0)) | F23: =IF(OFFSET(IndData!G8,$E$14,0)="","",OFFSET(IndData!G8,$E$14,0)) | G23: =IF(OFFSET(IndData!H8,$E$14,0)="","",OFFSET(IndData!H8,$E$14,0)) | H23: =IF(OFFSET(IndData!I8,$E$14,0)="","",OFFSET(IndData!I8,$E$14,0)) | I23: =IF(OFFSET(IndData!J8,$E$14,0)="","",OFFSET(IndData!J8,$E$14,0)) | ... Q23: =IF(OFFSET(IndData!R8,$E$14,0)="","",OFFSET(IndData!R8,$E$14,0))
B24: =IF(OFFSET(IndData!C9,$E$14,0)="","",OFFSET(IndData!C9,$E$14,0)) -> EE | C24: =IF(OFFSET(IndData!D9,$E$14,0)="","",OFFSET(IndData!D9,$E$14,0)) -> Estonia | D24: =IF(OFFSET(IndData!E9,$E$14,0)="","",OFFSET(IndData!E9,$E$14,0)) -> 31 | E24: =IF(OFFSET(IndData!F9,$E$14,0)="","",OFFSET(IndData!F9,$E$14,0)) | F24: =IF(OFFSET(IndData!G9,$E$14,0)="","",OFFSET(IndData!G9,$E$14,0)) | G24: =IF(OFFSET(IndData!H9,$E$14,0)="","",OFFSET(IndData!H9,$E$14,0)) | H24: =IF(OFFSET(IndData!I9,$E$14,0)="","",OFFSET(IndData!I9,$E$14,0)) | I24: =IF(OFFSET(IndData!J9,$E$14,0)="","",OFFSET(IndData!J9,$E$14,0)) | ... Q24: =IF(OFFSET(IndData!R9,$E$14,0)="","",OFFSET(IndData!R9,$E$14,0))
B25: =IF(OFFSET(IndData!C10,$E$14,0)="","",OFFSET(IndData!C10,$E$14,0)) -> IE | C25: =IF(OFFSET(IndData!D10,$E$14,0)="","",OFFSET(IndData!D10,$E$14,0)) -> Ireland | D25: =IF(OFFSET(IndData!E10,$E$14,0)="","",OFFSET(IndData!E10,$E$14,0)) | E25: =IF(OFFSET(IndData!F10,$E$14,0)="","",OFFSET(IndData!F10,$E$14,0)) | F25: =IF(OFFSET(IndData!G10,$E$14,0)="","",OFFSET(IndData!G10,$E$14,0)) | G25: =IF(OFFSET(IndData!H10,$E$14,0)="","",OFFSET(IndData!H10,$E$14,0)) | H25: =IF(OFFSET(IndData!I10,$E$14,0)="","",OFFSET(IndData!I10,$E$14,0)) | I25: =IF(OFFSET(IndData!J10,$E$14,0)="","",OFFSET(IndData!J10,$E$14,0)) | ... Q25: =IF(OFFSET(IndData!R10,$E$14,0)="","",OFFSET(IndData!R10,$E$14,0))
B26: =IF(OFFSET(IndData!C11,$E$14,0)="","",OFFSET(IndData!C11,$E$14,0)) -> EL | C26: =IF(OFFSET(IndData!D11,$E$14,0)="","",OFFSET(IndData!D11,$E$14,0)) -> Greece | D26: =IF(OFFSET(IndData!E11,$E$14,0)="","",OFFSET(IndData!E11,$E$14,0)) -> 16 | E26: =IF(OFFSET(IndData!F11,$E$14,0)="","",OFFSET(IndData!F11,$E$14,0)) | F26: =IF(OFFSET(IndData!G11,$E$14,0)="","",OFFSET(IndData!G11,$E$14,0)) | G26: =IF(OFFSET(IndData!H11,$E$14,0)="","",OFFSET(IndData!H11,$E$14,0)) | H26: =IF(OFFSET(IndData!I11,$E$14,0)="","",OFFSET(IndData!I11,$E$14,0)) | I26: =IF(OFFSET(IndData!J11,$E$14,0)="","",OFFSET(IndData!J11,$E$14,0)) | ... Q26: =IF(OFFSET(IndData!R11,$E$14,0)="","",OFFSET(IndData!R11,$E$14,0))
B27: =IF(OFFSET(IndData!C12,$E$14,0)="","",OFFSET(IndData!C12,$E$14,0)) -> ES | C27: =IF(OFFSET(IndData!D12,$E$14,0)="","",OFFSET(IndData!D12,$E$14,0)) -> Spain | D27: =IF(OFFSET(IndData!E12,$E$14,0)="","",OFFSET(IndData!E12,$E$14,0)) -> 48 | E27: =IF(OFFSET(IndData!F12,$E$14,0)="","",OFFSET(IndData!F12,$E$14,0)) | F27: =IF(OFFSET(IndData!G12,$E$14,0)="","",OFFSET(IndData!G12,$E$14,0)) | G27: =IF(OFFSET(IndData!H12,$E$14,0)="","",OFFSET(IndData!H12,$E$14,0)) | H27: =IF(OFFSET(IndData!I12,$E$14,0)="","",OFFSET(IndData!I12,$E$14,0)) | I27: =IF(OFFSET(IndData!J12,$E$14,0)="","",OFFSET(IndData!J12,$E$14,0)) | ... Q27: =IF(OFFSET(IndData!R12,$E$14,0)="","",OFFSET(IndData!R12,$E$14,0))
B28: =IF(OFFSET(IndData!C13,$E$14,0)="","",OFFSET(IndData!C13,$E$14,0)) -> FR | C28: =IF(OFFSET(IndData!D13,$E$14,0)="","",OFFSET(IndData!D13,$E$14,0)) -> France | D28: =IF(OFFSET(IndData!E13,$E$14,0)="","",OFFSET(IndData!E13,$E$14,0)) -> 45 | E28: =IF(OFFSET(IndData!F13,$E$14,0)="","",OFFSET(IndData!F13,$E$14,0)) | F28: =IF(OFFSET(IndData!G13,$E$14,0)="","",OFFSET(IndData!G13,$E$14,0)) | G28: =IF(OFFSET(IndData!H13,$E$14,0)="","",OFFSET(IndData!H13,$E$14,0)) | H28: =IF(OFFSET(IndData!I13,$E$14,0)="","",OFFSET(IndData!I13,$E$14,0)) | I28: =IF(OFFSET(IndData!J13,$E$14,0)="","",OFFSET(IndData!J13,$E$14,0)) | ... Q28: =IF(OFFSET(IndData!R13,$E$14,0)="","",OFFSET(IndData!R13,$E$14,0))
B29: =IF(OFFSET(IndData!C14,$E$14,0)="","",OFFSET(IndData!C14,$E$14,0)) -> HR | C29: =IF(OFFSET(IndData!D14,$E$14,0)="","",OFFSET(IndData!D14,$E$14,0)) -> Croatia | D29: =IF(OFFSET(IndData!E14,$E$14,0)="","",OFFSET(IndData!E14,$E$14,0)) -> 23 | E29: =IF(OFFSET(IndData!F14,$E$14,0)="","",OFFSET(IndData!F14,$E$14,0)) | F29: =IF(OFFSET(IndData!G14,$E$14,0)="","",OFFSET(IndData!G14,$E$14,0)) | G29: =IF(OFFSET(IndData!H14,$E$14,0)="","",OFFSET(IndData!H14,$E$14,0)) | H29: =IF(OFFSET(IndData!I14,$E$14,0)="","",OFFSET(IndData!I14,$E$14,0)) | I29: =IF(OFFSET(IndData!J14,$E$14,0)="","",OFFSET(IndData!J14,$E$14,0)) | ... Q29: =IF(OFFSET(IndData!R14,$E$14,0)="","",OFFSET(IndData!R14,$E$14,0))
... B51: =IF(OFFSET(IndData!C36,$E$14,0)="","",OFFSET(IndData!C36,$E$14,0)) -> TR | C51: =IF(OFFSET(IndData!D36,$E$14,0)="","",OFFSET(IndData!D36,$E$14,0)) -> Turkey | D51: =IF(OFFSET(IndData!E36,$E$14,0)="","",OFFSET(IndData!E36,$E$14,0)) | E51: =IF(OFFSET(IndData!F36,$E$14,0)="","",OFFSET(IndData!F36,$E$14,0)) | F51: =IF(OFFSET(IndData!G36,$E$14,0)="","",OFFSET(IndData!G36,$E$14,0)) | G51: =IF(OFFSET(IndData!H36,$E$14,0)="","",OFFSET(IndData!H36,$E$14,0)) | H51: =IF(OFFSET(IndData!I36,$E$14,0)="","",OFFSET(IndData!I36,$E$14,0)) | I51: =IF(OFFSET(IndData!J36,$E$14,0)="","",OFFSET(IndData!J36,$E$14,0)) | ... Q51: =IF(OFFSET(IndData!R36,$E$14,0)="","",OFFSET(IndData!R36,$E$14,0))
A53: References to sources
B55: Country values and flags are derived from
C56: Source number | D56: Eurostat table | F56: Download date
C57: =IndSources!C21 -> S0218 | D57: =IndSources!D21 -> trng_cvts42 | F57: =IndSources!E21 -> "15 July 2017"
B58: EU28 value derived from the same source.

Sheet Ind1040
A2: Description | D2: Offset | E2: =ROW(IndList!A7)-ROW(IndList!A3) -> 4
B3: Indicator number
C4: =OFFSET(IndList!B3,$E$2,0) -> IND1040
B5: Label
C6: =OFFSET(IndList!C3,$E$2,0) -> Employees participating in on-the-job training (%)
B7: Description
C8: =OFFSET(IndList!D3,$E$2,0) -> Number of employees who have participated in employer-sponsored on-the-job training during the reference calendar year (12 months) as a percentage of all employees in all enterprises surveyed.
B9: Group
C10: =OFFSET(IndList!E3,$E$2,0) -> Access, attractiveness and flexibility
B11: Source
C12: =OFFSET(IndList!F3,$E$2,0) -> Eurostat, CVTS
A14: Indicator values and flags | D14: Offset | E14: =ROW(IndData!A139)-ROW(IndData!A3) -> 136
B16: Geographical unit | D16: 2010 | F16: 2011 | H16: 2012 | J16: 2013 | L16: 2014 | N16: 2015 | P16: 2016
D17: Value | E17: Flag | F17: Value | G17: Flag | H17: Value | I17: Flag | J17: Value | K17: Flag | L17: Value | M17: Flag | N17: Value | O17: Flag | P17: Value | Q17: Flag
B18: =IF(OFFSET(IndData!C3,$E$14,0)="","",OFFSET(IndData!C3,$E$14,0)) -> EU28 | C18: =IF(OFFSET(IndData!D3,$E$14,0)="","",OFFSET(IndData!D3,$E$14,0)) | D18: =IF(OFFSET(IndData!E3,$E$14,0)="","",OFFSET(IndData!E3,$E$14,0)) -> 20 | E18: =IF(OFFSET(IndData!F3,$E$14,0)="","",OFFSET(IndData!F3,$E$14,0)) -> e | F18: =IF(OFFSET(IndData!G3,$E$14,0)="","",OFFSET(IndData!G3,$E$14,0)) | G18: =IF(OFFSET(IndData!H3,$E$14,0)="","",OFFSET(IndData!H3,$E$14,0)) | H18: =IF(OFFSET(IndData!I3,$E$14,0)="","",OFFSET(IndData!I3,$E$14,0)) | I18: =IF(OFFSET(IndData!J3,$E$14,0)="","",OFFSET(IndData!J3,$E$14,0)) | ... Q18: =IF(OFFSET(IndData!R3,$E$14,0)="","",OFFSET(IndData!R3,$E$14,0))
B19: =IF(OFFSET(IndData!C4,$E$14,0)="","",OFFSET(IndData!C4,$E$14,0)) -> BE | C19: =IF(OFFSET(IndData!D4,$E$14,0)="","",OFFSET(IndData!D4,$E$14,0)) -> Belgium | D19: =IF(OFFSET(IndData!E4,$E$14,0)="","",OFFSET(IndData!E4,$E$14,0)) -> 21 | E19: =IF(OFFSET(IndData!F4,$E$14,0)="","",OFFSET(IndData!F4,$E$14,0)) | F19: =IF(OFFSET(IndData!G4,$E$14,0)="","",OFFSET(IndData!G4,$E$14,0)) | G19: =IF(OFFSET(IndData!H4,$E$14,0)="","",OFFSET(IndData!H4,$E$14,0)) | H19: =IF(OFFSET(IndData!I4,$E$14,0)="","",OFFSET(IndData!I4,$E$14,0)) | I19: =IF(OFFSET(IndData!J4,$E$14,0)="","",OFFSET(IndData!J4,$E$14,0)) | ... Q19: =IF(OFFSET(IndData!R4,$E$14,0)="","",OFFSET(IndData!R4,$E$14,0))
B20: =IF(OFFSET(IndData!C5,$E$14,0)="","",OFFSET(IndData!C5,$E$14,0)) -> BG | C20: =IF(OFFSET(IndData!D5,$E$14,0)="","",OFFSET(IndData!D5,$E$14,0)) -> Bulgaria | D20: =IF(OFFSET(IndData!E5,$E$14,0)="","",OFFSET(IndData!E5,$E$14,0)) -> 20 | E20: =IF(OFFSET(IndData!F5,$E$14,0)="","",OFFSET(IndData!F5,$E$14,0)) | F20: =IF(OFFSET(IndData!G5,$E$14,0)="","",OFFSET(IndData!G5,$E$14,0)) | G20: =IF(OFFSET(IndData!H5,$E$14,0)="","",OFFSET(IndData!H5,$E$14,0)) | H20: =IF(OFFSET(IndData!I5,$E$14,0)="","",OFFSET(IndData!I5,$E$14,0)) | I20: =IF(OFFSET(IndData!J5,$E$14,0)="","",OFFSET(IndData!J5,$E$14,0)) | ... Q20: =IF(OFFSET(IndData!R5,$E$14,0)="","",OFFSET(IndData!R5,$E$14,0))
B21: =IF(OFFSET(IndData!C6,$E$14,0)="","",OFFSET(IndData!C6,$E$14,0)) -> CZ | C21: =IF(OFFSET(IndData!D6,$E$14,0)="","",OFFSET(IndData!D6,$E$14,0)) -> Czech Republic | D21: =IF(OFFSET(IndData!E6,$E$14,0)="","",OFFSET(IndData!E6,$E$14,0)) -> 31 | E21: =IF(OFFSET(IndData!F6,$E$14,0)="","",OFFSET(IndData!F6,$E$14,0)) | F21: =IF(OFFSET(IndData!G6,$E$14,0)="","",OFFSET(IndData!G6,$E$14,0)) | G21: =IF(OFFSET(IndData!H6,$E$14,0)="","",OFFSET(IndData!H6,$E$14,0)) | H21: =IF(OFFSET(IndData!I6,$E$14,0)="","",OFFSET(IndData!I6,$E$14,0)) | I21: =IF(OFFSET(IndData!J6,$E$14,0)="","",OFFSET(IndData!J6,$E$14,0)) | ... Q21: =IF(OFFSET(IndData!R6,$E$14,0)="","",OFFSET(IndData!R6,$E$14,0))
B22: =IF(OFFSET(IndData!C7,$E$14,0)="","",OFFSET(IndData!C7,$E$14,0)) -> DK | C22: =IF(OFFSET(IndData!D7,$E$14,0)="","",OFFSET(IndData!D7,$E$14,0)) -> Denmark | D22: =IF(OFFSET(IndData!E7,$E$14,0)="","",OFFSET(IndData!E7,$E$14,0)) -> 16 | E22: =IF(OFFSET(IndData!F7,$E$14,0)="","",OFFSET(IndData!F7,$E$14,0)) | F22: =IF(OFFSET(IndData!G7,$E$14,0)="","",OFFSET(IndData!G7,$E$14,0)) | G22: =IF(OFFSET(IndData!H7,$E$14,0)="","",OFFSET(IndData!H7,$E$14,0)) | H22: =IF(OFFSET(IndData!I7,$E$14,0)="","",OFFSET(IndData!I7,$E$14,0)) | I22: =IF(OFFSET(IndData!J7,$E$14,0)="","",OFFSET(IndData!J7,$E$14,0)) | ... Q22: =IF(OFFSET(IndData!R7,$E$14,0)="","",OFFSET(IndData!R7,$E$14,0))
B23: =IF(OFFSET(IndData!C8,$E$14,0)="","",OFFSET(IndData!C8,$E$14,0)) -> DE | C23: =IF(OFFSET(IndData!D8,$E$14,0)="","",OFFSET(IndData!D8,$E$14,0)) -> Germany | D23: =IF(OFFSET(IndData!E8,$E$14,0)="","",OFFSET(IndData!E8,$E$14,0)) -> 28 | E23: =IF(OFFSET(IndData!F8,$E$14,0)="","",OFFSET(IndData!F8,$E$14,0)) | F23: =IF(OFFSET(IndData!G8,$E$14,0)="","",OFFSET(IndData!G8,$E$14,0)) | G23: =IF(OFFSET(IndData!H8,$E$14,0)="","",OFFSET(IndData!H8,$E$14,0)) | H23: =IF(OFFSET(IndData!I8,$E$14,0)="","",OFFSET(IndData!I8,$E$14,0)) | I23: =IF(OFFSET(IndData!J8,$E$14,0)="","",OFFSET(IndData!J8,$E$14,0)) | ... Q23: =IF(OFFSET(IndData!R8,$E$14,0)="","",OFFSET(IndData!R8,$E$14,0))
B24: =IF(OFFSET(IndData!C9,$E$14,0)="","",OFFSET(IndData!C9,$E$14,0)) -> EE | C24: =IF(OFFSET(IndData!D9,$E$14,0)="","",OFFSET(IndData!D9,$E$14,0)) -> Estonia | D24: =IF(OFFSET(IndData!E9,$E$14,0)="","",OFFSET(IndData!E9,$E$14,0)) -> 14 | E24: =IF(OFFSET(IndData!F9,$E$14,0)="","",OFFSET(IndData!F9,$E$14,0)) | F24: =IF(OFFSET(IndData!G9,$E$14,0)="","",OFFSET(IndData!G9,$E$14,0)) | G24: =IF(OFFSET(IndData!H9,$E$14,0)="","",OFFSET(IndData!H9,$E$14,0)) | H24: =IF(OFFSET(IndData!I9,$E$14,0)="","",OFFSET(IndData!I9,$E$14,0)) | I24: =IF(OFFSET(IndData!J9,$E$14,0)="","",OFFSET(IndData!J9,$E$14,0)) | ... Q24: =IF(OFFSET(IndData!R9,$E$14,0)="","",OFFSET(IndData!R9,$E$14,0))
B25: =IF(OFFSET(IndData!C10,$E$14,0)="","",OFFSET(IndData!C10,$E$14,0)) -> IE | C25: =IF(OFFSET(IndData!D10,$E$14,0)="","",OFFSET(IndData!D10,$E$14,0)) -> Ireland | D25: =IF(OFFSET(IndData!E10,$E$14,0)="","",OFFSET(IndData!E10,$E$14,0)) | E25: =IF(OFFSET(IndData!F10,$E$14,0)="","",OFFSET(IndData!F10,$E$14,0)) | F25: =IF(OFFSET(IndData!G10,$E$14,0)="","",OFFSET(IndData!G10,$E$14,0)) | G25: =IF(OFFSET(IndData!H10,$E$14,0)="","",OFFSET(IndData!H10,$E$14,0)) | H25: =IF(OFFSET(IndData!I10,$E$14,0)="","",OFFSET(IndData!I10,$E$14,0)) | I25: =IF(OFFSET(IndData!J10,$E$14,0)="","",OFFSET(IndData!J10,$E$14,0)) | ... Q25: =IF(OFFSET(IndData!R10,$E$14,0)="","",OFFSET(IndData!R10,$E$14,0))
B26: =IF(OFFSET(IndData!C11,$E$14,0)="","",OFFSET(IndData!C11,$E$14,0)) -> EL | C26: =IF(OFFSET(IndData!D11,$E$14,0)="","",OFFSET(IndData!D11,$E$14,0)) -> Greece | D26: =IF(OFFSET(IndData!E11,$E$14,0)="","",OFFSET(IndData!E11,$E$14,0)) -> 6 | E26: =IF(OFFSET(IndData!F11,$E$14,0)="","",OFFSET(IndData!F11,$E$14,0)) | F26: =IF(OFFSET(IndData!G11,$E$14,0)="","",OFFSET(IndData!G11,$E$14,0)) | G26: =IF(OFFSET(IndData!H11,$E$14,0)="","",OFFSET(IndData!H11,$E$14,0)) | H26: =IF(OFFSET(IndData!I11,$E$14,0)="","",OFFSET(IndData!I11,$E$14,0)) | I26: =IF(OFFSET(IndData!J11,$E$14,0)="","",OFFSET(IndData!J11,$E$14,0)) | ... Q26: =IF(OFFSET(IndData!R11,$E$14,0)="","",OFFSET(IndData!R11,$E$14,0))
B27: =IF(OFFSET(IndData!C12,$E$14,0)="","",OFFSET(IndData!C12,$E$14,0)) -> ES | C27: =IF(OFFSET(IndData!D12,$E$14,0)="","",OFFSET(IndData!D12,$E$14,0)) -> Spain | D27: =IF(OFFSET(IndData!E12,$E$14,0)="","",OFFSET(IndData!E12,$E$14,0)) -> 20 | E27: =IF(OFFSET(IndData!F12,$E$14,0)="","",OFFSET(IndData!F12,$E$14,0)) | F27: =IF(OFFSET(IndData!G12,$E$14,0)="","",OFFSET(IndData!G12,$E$14,0)) | G27: =IF(OFFSET(IndData!H12,$E$14,0)="","",OFFSET(IndData!H12,$E$14,0)) | H27: =IF(OFFSET(IndData!I12,$E$14,0)="","",OFFSET(IndData!I12,$E$14,0)) | I27: =IF(OFFSET(IndData!J12,$E$14,0)="","",OFFSET(IndData!J12,$E$14,0)) | ... Q27: =IF(OFFSET(IndData!R12,$E$14,0)="","",OFFSET(IndData!R12,$E$14,0))
B28: =IF(OFFSET(IndData!C13,$E$14,0)="","",OFFSET(IndData!C13,$E$14,0)) -> FR | C28: =IF(OFFSET(IndData!D13,$E$14,0)="","",OFFSET(IndData!D13,$E$14,0)) -> France | D28: =IF(OFFSET(IndData!E13,$E$14,0)="","",OFFSET(IndData!E13,$E$14,0)) -> 14 | E28: =IF(OFFSET(IndData!F13,$E$14,0)="","",OFFSET(IndData!F13,$E$14,0)) | F28: =IF(OFFSET(IndData!G13,$E$14,0)="","",OFFSET(IndData!G13,$E$14,0)) | G28: =IF(OFFSET(IndData!H13,$E$14,0)="","",OFFSET(IndData!H13,$E$14,0)) | H28: =IF(OFFSET(IndData!I13,$E$14,0)="","",OFFSET(IndData!I13,$E$14,0)) | I28: =IF(OFFSET(IndData!J13,$E$14,0)="","",OFFSET(IndData!J13,$E$14,0)) | ... Q28: =IF(OFFSET(IndData!R13,$E$14,0)="","",OFFSET(IndData!R13,$E$14,0))
B29: =IF(OFFSET(IndData!C14,$E$14,0)="","",OFFSET(IndData!C14,$E$14,0)) -> HR | C29: =IF(OFFSET(IndData!D14,$E$14,0)="","",OFFSET(IndData!D14,$E$14,0)) -> Croatia | D29: =IF(OFFSET(IndData!E14,$E$14,0)="","",OFFSET(IndData!E14,$E$14,0)) -> 15 | E29: =IF(OFFSET(IndData!F14,$E$14,0)="","",OFFSET(IndData!F14,$E$14,0)) | F29: =IF(OFFSET(IndData!G14,$E$14,0)="","",OFFSET(IndData!G14,$E$14,0)) | G29: =IF(OFFSET(IndData!H14,$E$14,0)="","",OFFSET(IndData!H14,$E$14,0)) | H29: =IF(OFFSET(IndData!I14,$E$14,0)="","",OFFSET(IndData!I14,$E$14,0)) | I29: =IF(OFFSET(IndData!J14,$E$14,0)="","",OFFSET(IndData!J14,$E$14,0)) | ... Q29: =IF(OFFSET(IndData!R14,$E$14,0)="","",OFFSET(IndData!R14,$E$14,0))
... B51: =IF(OFFSET(IndData!C36,$E$14,0)="","",OFFSET(IndData!C36,$E$14,0)) -> TR | C51: =IF(OFFSET(IndData!D36,$E$14,0)="","",OFFSET(IndData!D36,$E$14,0)) -> Turkey | D51: =IF(OFFSET(IndData!E36,$E$14,0)="","",OFFSET(IndData!E36,$E$14,0)) | E51: =IF(OFFSET(IndData!F36,$E$14,0)="","",OFFSET(IndData!F36,$E$14,0)) | F51: =IF(OFFSET(IndData!G36,$E$14,0)="","",OFFSET(IndData!G36,$E$14,0)) | G51: =IF(OFFSET(IndData!H36,$E$14,0)="","",OFFSET(IndData!H36,$E$14,0)) | H51: =IF(OFFSET(IndData!I36,$E$14,0)="","",OFFSET(IndData!I36,$E$14,0)) | I51: =IF(OFFSET(IndData!J36,$E$14,0)="","",OFFSET(IndData!J36,$E$14,0)) | ... Q51: =IF(OFFSET(IndData!R36,$E$14,0)="","",OFFSET(IndData!R36,$E$14,0))
A53: References to sources
B55: Country values and flags are derived from
C56: Source number | D56: Eurostat table | F56: Download date
C57: =IndSources!C22 -> S0219 | D57: =IndSources!D22 -> trng_cvts50 | F57: =IndSources!E22 -> "15 July 2017"
B58: EU28 value derived from the same source.

Sheet Ind1050
A2: Description | D2: Offset | E2: =ROW(IndList!A8)-ROW(IndList!A3) -> 5
B3: Indicator number
C4: =OFFSET(IndList!B3,$E$2,0) -> IND1050
B5: Label
C6: =OFFSET(IndList!C3,$E$2,0) -> Adults in lifelong learning (%)
B7: Description
C8: =OFFSET(IndList!D3,$E$2,0) -> Percentage of the population aged 25-64 participating in education and training over the four weeks prior to the survey.
B9: Group
C10: =OFFSET(IndList!E3,$E$2,0) -> Access, attractiveness and flexibility
B11: Source
C12: =OFFSET(IndList!F3,$E$2,0) -> Eurostat, LFS
A14: Indicator values and flags | D14: Offset | E14: =ROW(IndData!A173)-ROW(IndData!A3) -> 170
B16: Geographical unit | D16: 2010 | F16: 2011 | H16: 2012 | J16: 2013 | L16: 2014 | N16: 2015 | P16: 2016
D17: Value | E17: Flag | F17: Value | G17: Flag | H17: Value | I17: Flag | J17: Value | K17: Flag | L17: Value | M17: Flag | N17: Value | O17: Flag | P17: Value | Q17: Flag
B18: =IF(OFFSET(IndData!C3,$E$14,0)="","",OFFSET(IndData!C3,$E$14,0)) -> EU28 | C18: =IF(OFFSET(IndData!D3,$E$14,0)="","",OFFSET(IndData!D3,$E$14,0)) | D18: =IF(OFFSET(IndData!E3,$E$14,0)="","",OFFSET(IndData!E3,$E$14,0)) -> 9.3 | E18: =IF(OFFSET(IndData!F3,$E$14,0)="","",OFFSET(IndData!F3,$E$14,0)) | F18: =IF(OFFSET(IndData!G3,$E$14,0)="","",OFFSET(IndData!G3,$E$14,0)) -> 9.1 | G18: =IF(OFFSET(IndData!H3,$E$14,0)="","",OFFSET(IndData!H3,$E$14,0)) | H18: =IF(OFFSET(IndData!I3,$E$14,0)="","",OFFSET(IndData!I3,$E$14,0)) -> 9.2 | I18: =IF(OFFSET(IndData!J3,$E$14,0)="","",OFFSET(IndData!J3,$E$14,0)) | ... Q18: =IF(OFFSET(IndData!R3,$E$14,0)="","",OFFSET(IndData!R3,$E$14,0))
B19: =IF(OFFSET(IndData!C4,$E$14,0)="","",OFFSET(IndData!C4,$E$14,0)) -> BE | C19: =IF(OFFSET(IndData!D4,$E$14,0)="","",OFFSET(IndData!D4,$E$14,0)) -> Belgium | D19: =IF(OFFSET(IndData!E4,$E$14,0)="","",OFFSET(IndData!E4,$E$14,0)) -> 7.4 | E19: =IF(OFFSET(IndData!F4,$E$14,0)="","",OFFSET(IndData!F4,$E$14,0)) | F19: =IF(OFFSET(IndData!G4,$E$14,0)="","",OFFSET(IndData!G4,$E$14,0)) -> 7.4 | G19: =IF(OFFSET(IndData!H4,$E$14,0)="","",OFFSET(IndData!H4,$E$14,0)) | H19: =IF(OFFSET(IndData!I4,$E$14,0)="","",OFFSET(IndData!I4,$E$14,0)) -> 6.9 | I19: =IF(OFFSET(IndData!J4,$E$14,0)="","",OFFSET(IndData!J4,$E$14,0)) | ... Q19: =IF(OFFSET(IndData!R4,$E$14,0)="","",OFFSET(IndData!R4,$E$14,0))
B20: =IF(OFFSET(IndData!C5,$E$14,0)="","",OFFSET(IndData!C5,$E$14,0)) -> BG | C20: =IF(OFFSET(IndData!D5,$E$14,0)="","",OFFSET(IndData!D5,$E$14,0)) -> Bulgaria | D20: =IF(OFFSET(IndData!E5,$E$14,0)="","",OFFSET(IndData!E5,$E$14,0)) -> 1.6 | E20: =IF(OFFSET(IndData!F5,$E$14,0)="","",OFFSET(IndData!F5,$E$14,0)) | F20: =IF(OFFSET(IndData!G5,$E$14,0)="","",OFFSET(IndData!G5,$E$14,0)) -> 1.6 | G20: =IF(OFFSET(IndData!H5,$E$14,0)="","",OFFSET(IndData!H5,$E$14,0)) | H20: =IF(OFFSET(IndData!I5,$E$14,0)="","",OFFSET(IndData!I5,$E$14,0)) -> 1.7 | I20: =IF(OFFSET(IndData!J5,$E$14,0)="","",OFFSET(IndData!J5,$E$14,0)) | ... Q20: =IF(OFFSET(IndData!R5,$E$14,0)="","",OFFSET(IndData!R5,$E$14,0))
B21: =IF(OFFSET(IndData!C6,$E$14,0)="","",OFFSET(IndData!C6,$E$14,0)) -> CZ | C21: =IF(OFFSET(IndData!D6,$E$14,0)="","",OFFSET(IndData!D6,$E$14,0)) -> Czech Republic | D21: =IF(OFFSET(IndData!E6,$E$14,0)="","",OFFSET(IndData!E6,$E$14,0)) -> 7.8 | E21: =IF(OFFSET(IndData!F6,$E$14,0)="","",OFFSET(IndData!F6,$E$14,0)) | F21: =IF(OFFSET(IndData!G6,$E$14,0)="","",OFFSET(IndData!G6,$E$14,0)) -> 11.6 | G21: =IF(OFFSET(IndData!H6,$E$14,0)="","",OFFSET(IndData!H6,$E$14,0)) -> b | H21: =IF(OFFSET(IndData!I6,$E$14,0)="","",OFFSET(IndData!I6,$E$14,0)) -> 11.1 | I21: =IF(OFFSET(IndData!J6,$E$14,0)="","",OFFSET(IndData!J6,$E$14,0)) | ... Q21: =IF(OFFSET(IndData!R6,$E$14,0)="","",OFFSET(IndData!R6,$E$14,0))
B22: =IF(OFFSET(IndData!C7,$E$14,0)="","",OFFSET(IndData!C7,$E$14,0)) -> DK | C22: =IF(OFFSET(IndData!D7,$E$14,0)="","",OFFSET(IndData!D7,$E$14,0)) -> Denmark | D22: =IF(OFFSET(IndData!E7,$E$14,0)="","",OFFSET(IndData!E7,$E$14,0)) -> 32.6 | E22: =IF(OFFSET(IndData!F7,$E$14,0)="","",OFFSET(IndData!F7,$E$14,0)) | F22: =IF(OFFSET(IndData!G7,$E$14,0)="","",OFFSET(IndData!G7,$E$14,0)) -> 32.3 | G22: =IF(OFFSET(IndData!H7,$E$14,0)="","",OFFSET(IndData!H7,$E$14,0)) | H22: =IF(OFFSET(IndData!I7,$E$14,0)="","",OFFSET(IndData!I7,$E$14,0)) -> 31.6 | I22: =IF(OFFSET(IndData!J7,$E$14,0)="","",OFFSET(IndData!J7,$E$14,0)) | ... Q22: =IF(OFFSET(IndData!R7,$E$14,0)="","",OFFSET(IndData!R7,$E$14,0)) -> b
B23: =IF(OFFSET(IndData!C8,$E$14,0)="","",OFFSET(IndData!C8,$E$14,0)) -> DE | C23: =IF(OFFSET(IndData!D8,$E$14,0)="","",OFFSET(IndData!D8,$E$14,0)) -> Germany | D23: =IF(OFFSET(IndData!E8,$E$14,0)="","",OFFSET(IndData!E8,$E$14,0)) -> 7.8 | E23: =IF(OFFSET(IndData!F8,$E$14,0)="","",OFFSET(IndData!F8,$E$14,0)) -> b | F23: =IF(OFFSET(IndData!G8,$E$14,0)="","",OFFSET(IndData!G8,$E$14,0)) -> 7.9 | G23: =IF(OFFSET(IndData!H8,$E$14,0)="","",OFFSET(IndData!H8,$E$14,0)) | H23: =IF(OFFSET(IndData!I8,$E$14,0)="","",OFFSET(IndData!I8,$E$14,0)) -> 7.9 | I23: =IF(OFFSET(IndData!J8,$E$14,0)="","",OFFSET(IndData!J8,$E$14,0)) | ... Q23: =IF(OFFSET(IndData!R8,$E$14,0)="","",OFFSET(IndData!R8,$E$14,0))
B24: =IF(OFFSET(IndData!C9,$E$14,0)="","",OFFSET(IndData!C9,$E$14,0)) -> EE | C24: =IF(OFFSET(IndData!D9,$E$14,0)="","",OFFSET(IndData!D9,$E$14,0)) -> Estonia | D24: =IF(OFFSET(IndData!E9,$E$14,0)="","",OFFSET(IndData!E9,$E$14,0)) -> 11 | E24: =IF(OFFSET(IndData!F9,$E$14,0)="","",OFFSET(IndData!F9,$E$14,0)) | F24: =IF(OFFSET(IndData!G9,$E$14,0)="","",OFFSET(IndData!G9,$E$14,0)) -> 11.9 | G24: =IF(OFFSET(IndData!H9,$E$14,0)="","",OFFSET(IndData!H9,$E$14,0)) | H24: =IF(OFFSET(IndData!I9,$E$14,0)="","",OFFSET(IndData!I9,$E$14,0)) -> 12.8 | I24: =IF(OFFSET(IndData!J9,$E$14,0)="","",OFFSET(IndData!J9,$E$14,0)) | ... Q24: =IF(OFFSET(IndData!R9,$E$14,0)="","",OFFSET(IndData!R9,$E$14,0))
B25: =IF(OFFSET(IndData!C10,$E$14,0)="","",OFFSET(IndData!C10,$E$14,0)) -> IE | C25: =IF(OFFSET(IndData!D10,$E$14,0)="","",OFFSET(IndData!D10,$E$14,0)) -> Ireland | D25: =IF(OFFSET(IndData!E10,$E$14,0)="","",OFFSET(IndData!E10,$E$14,0)) -> 7 | E25: =IF(OFFSET(IndData!F10,$E$14,0)="","",OFFSET(IndData!F10,$E$14,0)) | F25: =IF(OFFSET(IndData!G10,$E$14,0)="","",OFFSET(IndData!G10,$E$14,0)) -> 7.1 | G25: =IF(OFFSET(IndData!H10,$E$14,0)="","",OFFSET(IndData!H10,$E$14,0)) | H25: =IF(OFFSET(IndData!I10,$E$14,0)="","",OFFSET(IndData!I10,$E$14,0)) -> 7.4 | I25: =IF(OFFSET(IndData!J10,$E$14,0)="","",OFFSET(IndData!J10,$E$14,0)) | ... Q25: =IF(OFFSET(IndData!R10,$E$14,0)="","",OFFSET(IndData!R10,$E$14,0))
B26: =IF(OFFSET(IndData!C11,$E$14,0)="","",OFFSET(IndData!C11,$E$14,0)) -> EL | C26: =IF(OFFSET(IndData!D11,$E$14,0)="","",OFFSET(IndData!D11,$E$14,0)) -> Greece | D26: =IF(OFFSET(IndData!E11,$E$14,0)="","",OFFSET(IndData!E11,$E$14,0)) -> 3.3 | E26: =IF(OFFSET(IndData!F11,$E$14,0)="","",OFFSET(IndData!F11,$E$14,0)) | F26: =IF(OFFSET(IndData!G11,$E$14,0)="","",OFFSET(IndData!G11,$E$14,0)) -> 2.8 | G26: =IF(OFFSET(IndData!H11,$E$14,0)="","",OFFSET(IndData!H11,$E$14,0)) | H26: =IF(OFFSET(IndData!I11,$E$14,0)="","",OFFSET(IndData!I11,$E$14,0)) -> 3.3 | I26: =IF(OFFSET(IndData!J11,$E$14,0)="","",OFFSET(IndData!J11,$E$14,0)) | ... Q26: =IF(OFFSET(IndData!R11,$E$14,0)="","",OFFSET(IndData!R11,$E$14,0))
B27: =IF(OFFSET(IndData!C12,$E$14,0)="","",OFFSET(IndData!C12,$E$14,0)) -> ES | C27: =IF(OFFSET(IndData!D12,$E$14,0)="","",OFFSET(IndData!D12,$E$14,0)) -> Spain | D27: =IF(OFFSET(IndData!E12,$E$14,0)="","",OFFSET(IndData!E12,$E$14,0)) -> 11.2 | E27: =IF(OFFSET(IndData!F12,$E$14,0)="","",OFFSET(IndData!F12,$E$14,0)) | F27: =IF(OFFSET(IndData!G12,$E$14,0)="","",OFFSET(IndData!G12,$E$14,0)) -> 11.2 | G27: =IF(OFFSET(IndData!H12,$E$14,0)="","",OFFSET(IndData!H12,$E$14,0)) | H27: =IF(OFFSET(IndData!I12,$E$14,0)="","",OFFSET(IndData!I12,$E$14,0)) -> 11.2 | I27: =IF(OFFSET(IndData!J12,$E$14,0)="","",OFFSET(IndData!J12,$E$14,0)) | ... Q27: =IF(OFFSET(IndData!R12,$E$14,0)="","",OFFSET(IndData!R12,$E$14,0))
B28: =IF(OFFSET(IndData!C13,$E$14,0)="","",OFFSET(IndData!C13,$E$14,0)) -> FR | C28: =IF(OFFSET(IndData!D13,$E$14,0)="","",OFFSET(IndData!D13,$E$14,0)) -> France | D28: =IF(OFFSET(IndData!E13,$E$14,0)="","",OFFSET(IndData!E13,$E$14,0)) -> 5 | E28: =IF(OFFSET(IndData!F13,$E$14,0)="","",OFFSET(IndData!F13,$E$14,0)) | F28: =IF(OFFSET(IndData!G13,$E$14,0)="","",OFFSET(IndData!G13,$E$14,0)) -> 5.5 | G28: =IF(OFFSET(IndData!H13,$E$14,0)="","",OFFSET(IndData!H13,$E$14,0)) | H28: =IF(OFFSET(IndData!I13,$E$14,0)="","",OFFSET(IndData!I13,$E$14,0)) -> 5.7 | I28: =IF(OFFSET(IndData!J13,$E$14,0)="","",OFFSET(IndData!J13,$E$14,0)) | ... Q28: =IF(OFFSET(IndData!R13,$E$14,0)="","",OFFSET(IndData!R13,$E$14,0))
B29: =IF(OFFSET(IndData!C14,$E$14,0)="","",OFFSET(IndData!C14,$E$14,0)) -> HR | C29: =IF(OFFSET(IndData!D14,$E$14,0)="","",OFFSET(IndData!D14,$E$14,0)) -> Croatia | D29: =IF(OFFSET(IndData!E14,$E$14,0)="","",OFFSET(IndData!E14,$E$14,0)) -> 3 | E29: =IF(OFFSET(IndData!F14,$E$14,0)="","",OFFSET(IndData!F14,$E$14,0)) | F29: =IF(OFFSET(IndData!G14,$E$14,0)="","",OFFSET(IndData!G14,$E$14,0)) -> 3.1 | G29: =IF(OFFSET(IndData!H14,$E$14,0)="","",OFFSET(IndData!H14,$E$14,0)) | H29: =IF(OFFSET(IndData!I14,$E$14,0)="","",OFFSET(IndData!I14,$E$14,0)) -> 3.3 | I29: =IF(OFFSET(IndData!J14,$E$14,0)="","",OFFSET(IndData!J14,$E$14,0)) | ... Q29: =IF(OFFSET(IndData!R14,$E$14,0)="","",OFFSET(IndData!R14,$E$14,0))
... B51: =IF(OFFSET(IndData!C36,$E$14,0)="","",OFFSET(IndData!C36,$E$14,0)) -> TR | C51: =IF(OFFSET(IndData!D36,$E$14,0)="","",OFFSET(IndData!D36,$E$14,0)) -> Turkey | D51: =IF(OFFSET(IndData!E36,$E$14,0)="","",OFFSET(IndData!E36,$E$14,0)) -> 2.9 | E51: =IF(OFFSET(IndData!F36,$E$14,0)="","",OFFSET(IndData!F36,$E$14,0)) | F51: =IF(OFFSET(IndData!G36,$E$14,0)="","",OFFSET(IndData!G36,$E$14,0)) -> 3.4 | G51: =IF(OFFSET(IndData!H36,$E$14,0)="","",OFFSET(IndData!H36,$E$14,0)) | H51: =IF(OFFSET(IndData!I36,$E$14,0)="","",OFFSET(IndData!I36,$E$14,0)) -> 3.9 | I51: =IF(OFFSET(IndData!J36,$E$14,0)="","",OFFSET(IndData!J36,$E$14,0)) | ... Q51: =IF(OFFSET(IndData!R36,$E$14,0)="","",OFFSET(IndData!R36,$E$14,0))
A53: References to sources
B55: Country values and flags are derived from
C56: Source number | D56: Eurostat table | F56: Download date
C57: =IndSources!C23 -> S0168 | D57: =IndSources!D23 -> trng_lfse_01 | F57: =IndSources!E23 -> "3 May 2017"
B58: EU28 value derived from the same source.

Sheet Ind1060
A2: Description | D2: Offset | E2: =ROW(IndList!A9)-ROW(IndList!A3) -> 6
B3: Indicator number
C4: =OFFSET(IndList!B3,$E$2,0) -> IND1060
B5: Label
C6: =OFFSET(IndList!C3,$E$2,0) -> Enterprises providing training (%)
B7: Description
C8: =OFFSET(IndList!D3,$E$2,0) -> Percentage of enterprises providing any type of vocational training to their employees during the reference calendar year (12 months).
B9: Group
C10: =OFFSET(IndList!E3,$E$2,0) -> Access, attractiveness and flexibility
B11: Source
C12: =OFFSET(IndList!F3,$E$2,0) -> Eurostat, CVTS
A14: Indicator values and flags | D14: Offset | E14: =ROW(IndData!A207)-ROW(IndData!A3) -> 204
B16: Geographical unit | D16: 2010 | F16: 2011 | H16: 2012 | J16: 2013 | L16: 2014 | N16: 2015 | P16: 2016
D17: Value | E17: Flag | F17: Value | G17: Flag | H17: Value | I17: Flag | J17: Value | K17: Flag | L17: Value | M17: Flag | N17: Value | O17: Flag | P17: Value | Q17: Flag
B18: =IF(OFFSET(IndData!C3,$E$14,0)="","",OFFSET(IndData!C3,$E$14,0)) -> EU28 | C18: =IF(OFFSET(IndData!D3,$E$14,0)="","",OFFSET(IndData!D3,$E$14,0)) | D18: =IF(OFFSET(IndData!E3,$E$14,0)="","",OFFSET(IndData!E3,$E$14,0)) -> 66 | E18: =IF(OFFSET(IndData!F3,$E$14,0)="","",OFFSET(IndData!F3,$E$14,0)) -> e | F18: =IF(OFFSET(IndData!G3,$E$14,0)="","",OFFSET(IndData!G3,$E$14,0)) | G18: =IF(OFFSET(IndData!H3,$E$14,0)="","",OFFSET(IndData!H3,$E$14,0)) | H18: =IF(OFFSET(IndData!I3,$E$14,0)="","",OFFSET(IndData!I3,$E$14,0)) | I18: =IF(OFFSET(IndData!J3,$E$14,0)="","",OFFSET(IndData!J3,$E$14,0)) | ... Q18: =IF(OFFSET(IndData!R3,$E$14,0)="","",OFFSET(IndData!R3,$E$14,0))
B19: =IF(OFFSET(IndData!C4,$E$14,0)="","",OFFSET(IndData!C4,$E$14,0)) -> BE | C19: =IF(OFFSET(IndData!D4,$E$14,0)="","",OFFSET(IndData!D4,$E$14,0)) -> Belgium | D19: =IF(OFFSET(IndData!E4,$E$14,0)="","",OFFSET(IndData!E4,$E$14,0)) -> 78 | E19: =IF(OFFSET(IndData!F4,$E$14,0)="","",OFFSET(IndData!F4,$E$14,0)) | F19: =IF(OFFSET(IndData!G4,$E$14,0)="","",OFFSET(IndData!G4,$E$14,0)) | G19: =IF(OFFSET(IndData!H4,$E$14,0)="","",OFFSET(IndData!H4,$E$14,0)) | H19: =IF(OFFSET(IndData!I4,$E$14,0)="","",OFFSET(IndData!I4,$E$14,0)) | I19: =IF(OFFSET(IndData!J4,$E$14,0)="","",OFFSET(IndData!J4,$E$14,0)) | ... Q19: =IF(OFFSET(IndData!R4,$E$14,0)="","",OFFSET(IndData!R4,$E$14,0))
B20: =IF(OFFSET(IndData!C5,$E$14,0)="","",OFFSET(IndData!C5,$E$14,0)) -> BG | C20: =IF(OFFSET(IndData!D5,$E$14,0)="","",OFFSET(IndData!D5,$E$14,0)) -> Bulgaria | D20: =IF(OFFSET(IndData!E5,$E$14,0)="","",OFFSET(IndData!E5,$E$14,0)) -> 31 | E20: =IF(OFFSET(IndData!F5,$E$14,0)="","",OFFSET(IndData!F5,$E$14,0)) | F20: =IF(OFFSET(IndData!G5,$E$14,0)="","",OFFSET(IndData!G5,$E$14,0)) | G20: =IF(OFFSET(IndData!H5,$E$14,0)="","",OFFSET(IndData!H5,$E$14,0)) | H20: =IF(OFFSET(IndData!I5,$E$14,0)="","",OFFSET(IndData!I5,$E$14,0)) | I20: =IF(OFFSET(IndData!J5,$E$14,0)="","",OFFSET(IndData!J5,$E$14,0)) | ... Q20: =IF(OFFSET(IndData!R5,$E$14,0)="","",OFFSET(IndData!R5,$E$14,0))
B21: =IF(OFFSET(IndData!C6,$E$14,0)="","",OFFSET(IndData!C6,$E$14,0)) -> CZ | C21: =IF(OFFSET(IndData!D6,$E$14,0)="","",OFFSET(IndData!D6,$E$14,0)) -> Czech Republic | D21: =IF(OFFSET(IndData!E6,$E$14,0)="","",OFFSET(IndData!E6,$E$14,0)) -> 72 | E21: =IF(OFFSET(IndData!F6,$E$14,0)="","",OFFSET(IndData!F6,$E$14,0)) | F21: =IF(OFFSET(IndData!G6,$E$14,0)="","",OFFSET(IndData!G6,$E$14,0)) | G21: =IF(OFFSET(IndData!H6,$E$14,0)="","",OFFSET(IndData!H6,$E$14,0)) | H21: =IF(OFFSET(IndData!I6,$E$14,0)="","",OFFSET(IndData!I6,$E$14,0)) | I21: =IF(OFFSET(IndData!J6,$E$14,0)="","",OFFSET(IndData!J6,$E$14,0)) | ... Q21: =IF(OFFSET(IndData!R6,$E$14,0)="","",OFFSET(IndData!R6,$E$14,0))
B22: =IF(OFFSET(IndData!C7,$E$14,0)="","",OFFSET(IndData!C7,$E$14,0)) -> DK | C22: =IF(OFFSET(IndData!D7,$E$14,0)="","",OFFSET(IndData!D7,$E$14,0)) -> Denmark | D22: =IF(OFFSET(IndData!E7,$E$14,0)="","",OFFSET(IndData!E7,$E$14,0)) -> 91 | E22: =IF(OFFSET(IndData!F7,$E$14,0)="","",OFFSET(IndData!F7,$E$14,0)) | F22: =IF(OFFSET(IndData!G7,$E$14,0)="","",OFFSET(IndData!G7,$E$14,0)) | G22: =IF(OFFSET(IndData!H7,$E$14,0)="","",OFFSET(IndData!H7,$E$14,0)) | H22: =IF(OFFSET(IndData!I7,$E$14,0)="","",OFFSET(IndData!I7,$E$14,0)) | I22: =IF(OFFSET(IndData!J7,$E$14,0)="","",OFFSET(IndData!J7,$E$14,0)) | ... Q22: =IF(OFFSET(IndData!R7,$E$14,0)="","",OFFSET(IndData!R7,$E$14,0))
B23: =IF(OFFSET(IndData!C8,$E$14,0)="","",OFFSET(IndData!C8,$E$14,0)) -> DE | C23: =IF(OFFSET(IndData!D8,$E$14,0)="","",OFFSET(IndData!D8,$E$14,0)) -> Germany | D23: =IF(OFFSET(IndData!E8,$E$14,0)="","",OFFSET(IndData!E8,$E$14,0)) -> 73 | E23: =IF(OFFSET(IndData!F8,$E$14,0)="","",OFFSET(IndData!F8,$E$14,0)) | F23: =IF(OFFSET(IndData!G8,$E$14,0)="","",OFFSET(IndData!G8,$E$14,0)) | G23: =IF(OFFSET(IndData!H8,$E$14,0)="","",OFFSET(IndData!H8,$E$14,0)) | H23: =IF(OFFSET(IndData!I8,$E$14,0)="","",OFFSET(IndData!I8,$E$14,0)) | I23: =IF(OFFSET(IndData!J8,$E$14,0)="","",OFFSET(IndData!J8,$E$14,0)) | ... Q23: =IF(OFFSET(IndData!R8,$E$14,0)="","",OFFSET(IndData!R8,$E$14,0))
B24: =IF(OFFSET(IndData!C9,$E$14,0)="","",OFFSET(IndData!C9,$E$14,0)) -> EE | C24: =IF(OFFSET(IndData!D9,$E$14,0)="","",OFFSET(IndData!D9,$E$14,0)) -> Estonia | D24: =IF(OFFSET(IndData!E9,$E$14,0)="","",OFFSET(IndData!E9,$E$14,0)) -> 68 | E24: =IF(OFFSET(IndData!F9,$E$14,0)="","",OFFSET(IndData!F9,$E$14,0)) | F24: =IF(OFFSET(IndData!G9,$E$14,0)="","",OFFSET(IndData!G9,$E$14,0)) | G24: =IF(OFFSET(IndData!H9,$E$14,0)="","",OFFSET(IndData!H9,$E$14,0)) | H24: =IF(OFFSET(IndData!I9,$E$14,0)="","",OFFSET(IndData!I9,$E$14,0)) | I24: =IF(OFFSET(IndData!J9,$E$14,0)="","",OFFSET(IndData!J9,$E$14,0)) | ... Q24: =IF(OFFSET(IndData!R9,$E$14,0)="","",OFFSET(IndData!R9,$E$14,0))
B25: =IF(OFFSET(IndData!C10,$E$14,0)="","",OFFSET(IndData!C10,$E$14,0)) -> IE | C25: =IF(OFFSET(IndData!D10,$E$14,0)="","",OFFSET(IndData!D10,$E$14,0)) -> Ireland | D25: =IF(OFFSET(IndData!E10,$E$14,0)="","",OFFSET(IndData!E10,$E$14,0)) | E25: =IF(OFFSET(IndData!F10,$E$14,0)="","",OFFSET(IndData!F10,$E$14,0)) | F25: =IF(OFFSET(IndData!G10,$E$14,0)="","",OFFSET(IndData!G10,$E$14,0)) | G25: =IF(OFFSET(IndData!H10,$E$14,0)="","",OFFSET(IndData!H10,$E$14,0)) | H25: =IF(OFFSET(IndData!I10,$E$14,0)="","",OFFSET(IndData!I10,$E$14,0)) | I25: =IF(OFFSET(IndData!J10,$E$14,0)="","",OFFSET(IndData!J10,$E$14,0)) | ... Q25: =IF(OFFSET(IndData!R10,$E$14,0)="","",OFFSET(IndData!R10,$E$14,0))
B26: =IF(OFFSET(IndData!C11,$E$14,0)="","",OFFSET(IndData!C11,$E$14,0)) -> EL | C26: =IF(OFFSET(IndData!D11,$E$14,0)="","",OFFSET(IndData!D11,$E$14,0)) -> Greece | D26: =IF(OFFSET(IndData!E11,$E$14,0)="","",OFFSET(IndData!E11,$E$14,0)) -> 28 | E26: =IF(OFFSET(IndData!F11,$E$14,0)="","",OFFSET(IndData!F11,$E$14,0)) | F26: =IF(OFFSET(IndData!G11,$E$14,0)="","",OFFSET(IndData!G11,$E$14,0)) | G26: =IF(OFFSET(IndData!H11,$E$14,0)="","",OFFSET(IndData!H11,$E$14,0)) | H26: =IF(OFFSET(IndData!I11,$E$14,0)="","",OFFSET(IndData!I11,$E$14,0)) | I26: =IF(OFFSET(IndData!J11,$E$14,0)="","",OFFSET(IndData!J11,$E$14,0)) | ... Q26: =IF(OFFSET(IndData!R11,$E$14,0)="","",OFFSET(IndData!R11,$E$14,0))
B27: =IF(OFFSET(IndData!C12,$E$14,0)="","",OFFSET(IndData!C12,$E$14,0)) -> ES | C27: =IF(OFFSET(IndData!D12,$E$14,0)="","",OFFSET(IndData!D12,$E$14,0)) -> Spain | D27: =IF(OFFSET(IndData!E12,$E$14,0)="","",OFFSET(IndData!E12,$E$14,0)) -> 75 | E27: =IF(OFFSET(IndData!F12,$E$14,0)="","",OFFSET(IndData!F12,$E$14,0)) | F27: =IF(OFFSET(IndData!G12,$E$14,0)="","",OFFSET(IndData!G12,$E$14,0)) | G27: =IF(OFFSET(IndData!H12,$E$14,0)="","",OFFSET(IndData!H12,$E$14,0)) | H27: =IF(OFFSET(IndData!I12,$E$14,0)="","",OFFSET(IndData!I12,$E$14,0)) | I27: =IF(OFFSET(IndData!J12,$E$14,0)="","",OFFSET(IndData!J12,$E$14,0)) | ... Q27: =IF(OFFSET(IndData!R12,$E$14,0)="","",OFFSET(IndData!R12,$E$14,0))
B28: =IF(OFFSET(IndData!C13,$E$14,0)="","",OFFSET(IndData!C13,$E$14,0)) -> FR | C28: =IF(OFFSET(IndData!D13,$E$14,0)="","",OFFSET(IndData!D13,$E$14,0)) -> France | D28: =IF(OFFSET(IndData!E13,$E$14,0)="","",OFFSET(IndData!E13,$E$14,0)) -> 76 | E28: =IF(OFFSET(IndData!F13,$E$14,0)="","",OFFSET(IndData!F13,$E$14,0)) | F28: =IF(OFFSET(IndData!G13,$E$14,0)="","",OFFSET(IndData!G13,$E$14,0)) | G28: =IF(OFFSET(IndData!H13,$E$14,0)="","",OFFSET(IndData!H13,$E$14,0)) | H28: =IF(OFFSET(IndData!I13,$E$14,0)="","",OFFSET(IndData!I13,$E$14,0)) | I28: =IF(OFFSET(IndData!J13,$E$14,0)="","",OFFSET(IndData!J13,$E$14,0)) | ... Q28: =IF(OFFSET(IndData!R13,$E$14,0)="","",OFFSET(IndData!R13,$E$14,0))
B29: =IF(OFFSET(IndData!C14,$E$14,0)="","",OFFSET(IndData!C14,$E$14,0)) -> HR | C29: =IF(OFFSET(IndData!D14,$E$14,0)="","",OFFSET(IndData!D14,$E$14,0)) -> Croatia | D29: =IF(OFFSET(IndData!E14,$E$14,0)="","",OFFSET(IndData!E14,$E$14,0)) -> 57 | E29: =IF(OFFSET(IndData!F14,$E$14,0)="","",OFFSET(IndData!F14,$E$14,0)) | F29: =IF(OFFSET(IndData!G14,$E$14,0)="","",OFFSET(IndData!G14,$E$14,0)) | G29: =IF(OFFSET(IndData!H14,$E$14,0)="","",OFFSET(IndData!H14,$E$14,0)) | H29: =IF(OFFSET(IndData!I14,$E$14,0)="","",OFFSET(IndData!I14,$E$14,0)) | I29: =IF(OFFSET(IndData!J14,$E$14,0)="","",OFFSET(IndData!J14,$E$14,0)) | ... Q29: =IF(OFFSET(IndData!R14,$E$14,0)="","",OFFSET(IndData!R14,$E$14,0))
... B51: =IF(OFFSET(IndData!C36,$E$14,0)="","",OFFSET(IndData!C36,$E$14,0)) -> TR | C51: =IF(OFFSET(IndData!D36,$E$14,0)="","",OFFSET(IndData!D36,$E$14,0)) -> Turkey | D51: =IF(OFFSET(IndData!E36,$E$14,0)="","",OFFSET(IndData!E36,$E$14,0)) | E51: =IF(OFFSET(IndData!F36,$E$14,0)="","",OFFSET(IndData!F36,$E$14,0)) | F51: =IF(OFFSET(IndData!G36,$E$14,0)="","",OFFSET(IndData!G36,$E$14,0)) | G51: =IF(OFFSET(IndData!H36,$E$14,0)="","",OFFSET(IndData!H36,$E$14,0)) | H51: =IF(OFFSET(IndData!I36,$E$14,0)="","",OFFSET(IndData!I36,$E$14,0)) | I51: =IF(OFFSET(IndData!J36,$E$14,0)="","",OFFSET(IndData!J36,$E$14,0)) | ... Q51: =IF(OFFSET(IndData!R36,$E$14,0)="","",OFFSET(IndData!R36,$E$14,0))
A53: References to sources
B55: Country values and flags are derived from
C56: Source number | D56: Eurostat table | F56: Download date
C57: =IndSources!C24 -> S0220 | D57: =IndSources!D24 -> trng_cvts02 | F57: =IndSources!E24 -> "15 July 2017"
B58: EU28 value derived from the same source.

Sheet Ind1070
A2: Description | D2: Offset | E2: =ROW(IndList!A10)-ROW(IndList!A3) -> 7
B3: Indicator number
C4: =OFFSET(IndList!B3,$E$2,0) -> IND1070
B5: Label
C6: =OFFSET(IndList!C3,$E$2,0) -> Female IVET students as % of all female upper secondary students
B7: Description
C8: =OFFSET(IndList!D3,$E$2,0) -> Number of female students in upper secondary IVET (ISCED 3) as a percentage of all female students in upper secondary education.
B9: Group
C10: =OFFSET(IndList!E3,$E$2,0) -> Access, attractiveness and flexibility
B11: Source
C12: =OFFSET(IndList!F3,$E$2,0) -> Cedefop calculations based on Eurostat, UOE
A14: Indicator values and flags | D14: Offset | E14: =ROW(IndData!A241)-ROW(IndData!A3) -> 238
B16: Geographical unit | D16: 2010 | F16: 2011 | H16: 2012 | J16: 2013 | L16: 2014 | N16: 2015 | P16: 2016
D17: Value | E17: Flag | F17: Value | G17: Flag | H17: Value | I17: Flag | J17: Value | K17: Flag | L17: Value | M17: Flag | N17: Value | O17: Flag | P17: Value | Q17: Flag
B18: =IF(OFFSET(IndData!C3,$E$14,0)="","",OFFSET(IndData!C3,$E$14,0)) -> EU28 | C18: =IF(OFFSET(IndData!D3,$E$14,0)="","",OFFSET(IndData!D3,$E$14,0)) | D18: =IF(OFFSET(IndData!E3,$E$14,0)="","",OFFSET(IndData!E3,$E$14,0)) | E18: =IF(OFFSET(IndData!F3,$E$14,0)="","",OFFSET(IndData!F3,$E$14,0)) | F18: =IF(OFFSET(IndData!G3,$E$14,0)="","",OFFSET(IndData!G3,$E$14,0)) | G18: =IF(OFFSET(IndData!H3,$E$14,0)="","",OFFSET(IndData!H3,$E$14,0)) | H18: =IF(OFFSET(IndData!I3,$E$14,0)="","",OFFSET(IndData!I3,$E$14,0)) | I18: =IF(OFFSET(IndData!J3,$E$14,0)="","",OFFSET(IndData!J3,$E$14,0)) | ... Q18: =IF(OFFSET(IndData!R3,$E$14,0)="","",OFFSET(IndData!R3,$E$14,0))
B19: =IF(OFFSET(IndData!C4,$E$14,0)="","",OFFSET(IndData!C4,$E$14,0)) -> BE | C19: =IF(OFFSET(IndData!D4,$E$14,0)="","",OFFSET(IndData!D4,$E$14,0)) -> Belgium | D19: =IF(OFFSET(IndData!E4,$E$14,0)="","",OFFSET(IndData!E4,$E$14,0)) | E19: =IF(OFFSET(IndData!F4,$E$14,0)="","",OFFSET(IndData!F4,$E$14,0)) | F19: =IF(OFFSET(IndData!G4,$E$14,0)="","",OFFSET(IndData!G4,$E$14,0)) | G19: =IF(OFFSET(IndData!H4,$E$14,0)="","",OFFSET(IndData!H4,$E$14,0)) | H19: =IF(OFFSET(IndData!I4,$E$14,0)="","",OFFSET(IndData!I4,$E$14,0)) | I19: =IF(OFFSET(IndData!J4,$E$14,0)="","",OFFSET(IndData!J4,$E$14,0)) | ... Q19: =IF(OFFSET(IndData!R4,$E$14,0)="","",OFFSET(IndData!R4,$E$14,0))
B20: =IF(OFFSET(IndData!C5,$E$14,0)="","",OFFSET(IndData!C5,$E$14,0)) -> BG | C20: =IF(OFFSET(IndData!D5,$E$14,0)="","",OFFSET(IndData!D5,$E$14,0)) -> Bulgaria | D20: =IF(OFFSET(IndData!E5,$E$14,0)="","",OFFSET(IndData!E5,$E$14,0)) | E20: =IF(OFFSET(IndData!F5,$E$14,0)="","",OFFSET(IndData!F5,$E$14,0)) | F20: =IF(OFFSET(IndData!G5,$E$14,0)="","",OFFSET(IndData!G5,$E$14,0)) | G20: =IF(OFFSET(IndData!H5,$E$14,0)="","",OFFSET(IndData!H5,$E$14,0)) | H20: =IF(OFFSET(IndData!I5,$E$14,0)="","",OFFSET(IndData!I5,$E$14,0)) | I20: =IF(OFFSET(IndData!J5,$E$14,0)="","",OFFSET(IndData!J5,$E$14,0)) | ... Q20: =IF(OFFSET(IndData!R5,$E$14,0)="","",OFFSET(IndData!R5,$E$14,0))
B21: =IF(OFFSET(IndData!C6,$E$14,0)="","",OFFSET(IndData!C6,$E$14,0)) -> CZ | C21: =IF(OFFSET(IndData!D6,$E$14,0)="","",OFFSET(IndData!D6,$E$14,0)) -> Czech Republic | D21: =IF(OFFSET(IndData!E6,$E$14,0)="","",OFFSET(IndData!E6,$E$14,0)) | E21: =IF(OFFSET(IndData!F6,$E$14,0)="","",OFFSET(IndData!F6,$E$14,0)) | F21: =IF(OFFSET(IndData!G6,$E$14,0)="","",OFFSET(IndData!G6,$E$14,0)) | G21: =IF(OFFSET(IndData!H6,$E$14,0)="","",OFFSET(IndData!H6,$E$14,0)) | H21: =IF(OFFSET(IndData!I6,$E$14,0)="","",OFFSET(IndData!I6,$E$14,0)) | I21: =IF(OFFSET(IndData!J6,$E$14,0)="","",OFFSET(IndData!J6,$E$14,0)) | ... Q21: =IF(OFFSET(IndData!R6,$E$14,0)="","",OFFSET(IndData!R6,$E$14,0))
B22: =IF(OFFSET(IndData!C7,$E$14,0)="","",OFFSET(IndData!C7,$E$14,0)) -> DK | C22: =IF(OFFSET(IndData!D7,$E$14,0)="","",OFFSET(IndData!D7,$E$14,0)) -> Denmark | D22: =IF(OFFSET(IndData!E7,$E$14,0)="","",OFFSET(IndData!E7,$E$14,0)) | E22: =IF(OFFSET(IndData!F7,$E$14,0)="","",OFFSET(IndData!F7,$E$14,0)) | F22: =IF(OFFSET(IndData!G7,$E$14,0)="","",OFFSET(IndData!G7,$E$14,0)) | G22: =IF(OFFSET(IndData!H7,$E$14,0)="","",OFFSET(IndData!H7,$E$14,0)) | H22: =IF(OFFSET(IndData!I7,$E$14,0)="","",OFFSET(IndData!I7,$E$14,0)) | I22: =IF(OFFSET(IndData!J7,$E$14,0)="","",OFFSET(IndData!J7,$E$14,0)) | ... Q22: =IF(OFFSET(IndData!R7,$E$14,0)="","",OFFSET(IndData!R7,$E$14,0))
B23: =IF(OFFSET(IndData!C8,$E$14,0)="","",OFFSET(IndData!C8,$E$14,0)) -> DE | C23: =IF(OFFSET(IndData!D8,$E$14,0)="","",OFFSET(IndData!D8,$E$14,0)) -> Germany | D23: =IF(OFFSET(IndData!E8,$E$14,0)="","",OFFSET(IndData!E8,$E$14,0)) | E23: =IF(OFFSET(IndData!F8,$E$14,0)="","",OFFSET(IndData!F8,$E$14,0)) | F23: =IF(OFFSET(IndData!G8,$E$14,0)="","",OFFSET(IndData!G8,$E$14,0)) | G23: =IF(OFFSET(IndData!H8,$E$14,0)="","",OFFSET(IndData!H8,$E$14,0)) | H23: =IF(OFFSET(IndData!I8,$E$14,0)="","",OFFSET(IndData!I8,$E$14,0)) | I23: =IF(OFFSET(IndData!J8,$E$14,0)="","",OFFSET(IndData!J8,$E$14,0)) | ... Q23: =IF(OFFSET(IndData!R8,$E$14,0)="","",OFFSET(IndData!R8,$E$14,0))
B24: =IF(OFFSET(IndData!C9,$E$14,0)="","",OFFSET(IndData!C9,$E$14,0)) -> EE | C24: =IF(OFFSET(IndData!D9,$E$14,0)="","",OFFSET(IndData!D9,$E$14,0)) -> Estonia | D24: =IF(OFFSET(IndData!E9,$E$14,0)="","",OFFSET(IndData!E9,$E$14,0)) | E24: =IF(OFFSET(IndData!F9,$E$14,0)="","",OFFSET(IndData!F9,$E$14,0)) | F24: =IF(OFFSET(IndData!G9,$E$14,0)="","",OFFSET(IndData!G9,$E$14,0)) | G24: =IF(OFFSET(IndData!H9,$E$14,0)="","",OFFSET(IndData!H9,$E$14,0)) | H24: =IF(OFFSET(IndData!I9,$E$14,0)="","",OFFSET(IndData!I9,$E$14,0)) | I24: =IF(OFFSET(IndData!J9,$E$14,0)="","",OFFSET(IndData!J9,$E$14,0)) | ... Q24: =IF(OFFSET(IndData!R9,$E$14,0)="","",OFFSET(IndData!R9,$E$14,0))
B25: =IF(OFFSET(IndData!C10,$E$14,0)="","",OFFSET(IndData!C10,$E$14,0)) -> IE | C25: =IF(OFFSET(IndData!D10,$E$14,0)="","",OFFSET(IndData!D10,$E$14,0)) -> Ireland | D25: =IF(OFFSET(IndData!E10,$E$14,0)="","",OFFSET(IndData!E10,$E$14,0)) | E25: =IF(OFFSET(IndData!F10,$E$14,0)="","",OFFSET(IndData!F10,$E$14,0)) | F25: =IF(OFFSET(IndData!G10,$E$14,0)="","",OFFSET(IndData!G10,$E$14,0)) | G25: =IF(OFFSET(IndData!H10,$E$14,0)="","",OFFSET(IndData!H10,$E$14,0)) | H25: =IF(OFFSET(IndData!I10,$E$14,0)="","",OFFSET(IndData!I10,$E$14,0)) | I25: =IF(OFFSET(IndData!J10,$E$14,0)="","",OFFSET(IndData!J10,$E$14,0)) | ... Q25: =IF(OFFSET(IndData!R10,$E$14,0)="","",OFFSET(IndData!R10,$E$14,0))
B26: =IF(OFFSET(IndData!C11,$E$14,0)="","",OFFSET(IndData!C11,$E$14,0)) -> EL | C26: =IF(OFFSET(IndData!D11,$E$14,0)="","",OFFSET(IndData!D11,$E$14,0)) -> Greece | D26: =IF(OFFSET(IndData!E11,$E$14,0)="","",OFFSET(IndData!E11,$E$14,0)) | E26: =IF(OFFSET(IndData!F11,$E$14,0)="","",OFFSET(IndData!F11,$E$14,0)) | F26: =IF(OFFSET(IndData!G11,$E$14,0)="","",OFFSET(IndData!G11,$E$14,0)) | G26: =IF(OFFSET(IndData!H11,$E$14,0)="","",OFFSET(IndData!H11,$E$14,0)) | H26: =IF(OFFSET(IndData!I11,$E$14,0)="","",OFFSET(IndData!I11,$E$14,0)) | I26: =IF(OFFSET(IndData!J11,$E$14,0)="","",OFFSET(IndData!J11,$E$14,0)) | ... Q26: =IF(OFFSET(IndData!R11,$E$14,0)="","",OFFSET(IndData!R11,$E$14,0))
B27: =IF(OFFSET(IndData!C12,$E$14,0)="","",OFFSET(IndData!C12,$E$14,0)) -> ES | C27: =IF(OFFSET(IndData!D12,$E$14,0)="","",OFFSET(IndData!D12,$E$14,0)) -> Spain | D27: =IF(OFFSET(IndData!E12,$E$14,0)="","",OFFSET(IndData!E12,$E$14,0)) | E27: =IF(OFFSET(IndData!F12,$E$14,0)="","",OFFSET(IndData!F12,$E$14,0)) | F27: =IF(OFFSET(IndData!G12,$E$14,0)="","",OFFSET(IndData!G12,$E$14,0)) | G27: =IF(OFFSET(IndData!H12,$E$14,0)="","",OFFSET(IndData!H12,$E$14,0)) | H27: =IF(OFFSET(IndData!I12,$E$14,0)="","",OFFSET(IndData!I12,$E$14,0)) | I27: =IF(OFFSET(IndData!J12,$E$14,0)="","",OFFSET(IndData!J12,$E$14,0)) | ... Q27: =IF(OFFSET(IndData!R12,$E$14,0)="","",OFFSET(IndData!R12,$E$14,0))
B28: =IF(OFFSET(IndData!C13,$E$14,0)="","",OFFSET(IndData!C13,$E$14,0)) -> FR | C28: =IF(OFFSET(IndData!D13,$E$14,0)="","",OFFSET(IndData!D13,$E$14,0)) -> France | D28: =IF(OFFSET(IndData!E13,$E$14,0)="","",OFFSET(IndData!E13,$E$14,0)) | E28: =IF(OFFSET(IndData!F13,$E$14,0)="","",OFFSET(IndData!F13,$E$14,0)) | F28: =IF(OFFSET(IndData!G13,$E$14,0)="","",OFFSET(IndData!G13,$E$14,0)) | G28: =IF(OFFSET(IndData!H13,$E$14,0)="","",OFFSET(IndData!H13,$E$14,0)) | H28: =IF(OFFSET(IndData!I13,$E$14,0)="","",OFFSET(IndData!I13,$E$14,0)) | I28: =IF(OFFSET(IndData!J13,$E$14,0)="","",OFFSET(IndData!J13,$E$14,0)) | ... Q28: =IF(OFFSET(IndData!R13,$E$14,0)="","",OFFSET(IndData!R13,$E$14,0))
B29: =IF(OFFSET(IndData!C14,$E$14,0)="","",OFFSET(IndData!C14,$E$14,0)) -> HR | C29: =IF(OFFSET(IndData!D14,$E$14,0)="","",OFFSET(IndData!D14,$E$14,0)) -> Croatia | D29: =IF(OFFSET(IndData!E14,$E$14,0)="","",OFFSET(IndData!E14,$E$14,0)) | E29: =IF(OFFSET(IndData!F14,$E$14,0)="","",OFFSET(IndData!F14,$E$14,0)) | F29: =IF(OFFSET(IndData!G14,$E$14,0)="","",OFFSET(IndData!G14,$E$14,0)) | G29: =IF(OFFSET(IndData!H14,$E$14,0)="","",OFFSET(IndData!H14,$E$14,0)) | H29: =IF(OFFSET(IndData!I14,$E$14,0)="","",OFFSET(IndData!I14,$E$14,0)) | I29: =IF(OFFSET(IndData!J14,$E$14,0)="","",OFFSET(IndData!J14,$E$14,0)) | ... Q29: =IF(OFFSET(IndData!R14,$E$14,0)="","",OFFSET(IndData!R14,$E$14,0))
... B51: =IF(OFFSET(IndData!C36,$E$14,0)="","",OFFSET(IndData!C36,$E$14,0)) -> TR | C51: =IF(OFFSET(IndData!D36,$E$14,0)="","",OFFSET(IndData!D36,$E$14,0)) -> Turkey | D51: =IF(OFFSET(IndData!E36,$E$14,0)="","",OFFSET(IndData!E36,$E$14,0)) | E51: =IF(OFFSET(IndData!F36,$E$14,0)="","",OFFSET(IndData!F36,$E$14,0)) | F51: =IF(OFFSET(IndData!G36,$E$14,0)="","",OFFSET(IndData!G36,$E$14,0)) | G51: =IF(OFFSET(IndData!H36,$E$14,0)="","",OFFSET(IndData!H36,$E$14,0)) | H51: =IF(OFFSET(IndData!I36,$E$14,0)="","",OFFSET(IndData!I36,$E$14,0)) | I51: =IF(OFFSET(IndData!J36,$E$14,0)="","",OFFSET(IndData!J36,$E$14,0)) | ... Q51: =IF(OFFSET(IndData!R36,$E$14,0)="","",OFFSET(IndData!R36,$E$14,0))
A53: References to sources
B55: Country values and flags are derived from
C56: Source number | D56: Eurostat table | F56: Download date
C57: =IndSources!C25 -> S0143 | D57: =IndSources!D25 -> educ_uoe_enrs04 | F57: =IndSources!E25 -> "10 October 2017" | I57: ED3f
C58: =IndSources!C26 -> S0145 | D58: =IndSources!D26 -> educ_uoe_enrs04 | F58: =IndSources!E26 -> "10 October 2017" | I58: ED35f
C59: =IndSources!C27 -> S0228 | D59: =IndSources!D27 -> educ_uoe_enra16 | F59: =IndSources!E27 -> "10 October 2017" | I59: ED3f
C60: =IndSources!C28 -> S0232 | D60: =IndSources!D28 -> educ_uoe_enra16 | F60: =IndSources!E28 -> "10 October 2017" | I60: ED35f
B61: EU28 value calculated by Cedefop from the same sources.
A63: Further specification
B65: Indicator formula: ED35f / ED3f *100
B67: A | C67: Indicator values and flags for individual countries:
C68: 1 | D68: The 2013 to 2015 values for the 33 countries are derived from sources S0143, S0145.
D69: The data for EL in 2015 are missing in the sources S0143, S0145.
D70: But they are available in the sources S0228, S0232.
C71: 2 | D71: Case IE:
D72: a | E72: 2013 value included (there are no flags), but it does not seem meaningful (probably a transition effect).
E73: Null values in 2014 and 2015 numerator terms (which have "z" flags) interpreted as zero. (Denominator terms are available.)
D74: b | E74: (2013 as in main case)
E75: 2014 and 2015: zero and "z" flag.
C76: 3 | D76: Case EL:
D77: a | E77: No problem in 2013 and 2014.
E78: For 2015 all terms are missing (null values without flags for numerator as well as denominator terms) in the sources S0143, S0145.
E79: These terms are extracted from S0228, S0232 instead.
D80: b | E80: (2013 and 2014 as in main case)
E81: 2015: calculate as in main case, but with data from alternative source; no flag.
C82: 4 | D82: Case NL:
D83: a | E83: In main sources (S0143, S0145) the terms for NL (numerator as well as denominator) are missing for 2013 and 2014 (no flags), but available for 2015.
E84: In the alternative sources (S0228, S0232), the situation for NL is identical.
D85: b | E85: 2012 and 2013: null, no flag.
E86: ( 2015 as in main case)
B87: B | C87: Time series of indicator values for "EU28":
C88: 1 | D88: For 25 of the 28 EU Member States, all the elements of the numerator and the denominator of the indicator are available.
D89: (Numerator: sources S0145; denominator: sources S0143.)
D90: The exceptions are IE, EL, NL.
C91: 2 | D91: Case IE:
D92: a | E92: (2013 as main case)
D93: b | E93: 2014 and 2015:
E94: 1 | F94: Numerator zero.
E95: 2 | F95: Denominator as main case (from S0143).
C96: 3 | D96: Case EL:
D97: a | E97: (2013 and 2014 as main case)
D98: b | E98: 2015:
E99: 1 | F99: Numerator from S0232.
E100: 2 | F100: Denominator from S0228.
C101: 4 | D101: Case NL:
D102: a | E102: (2015 as main case)
D103: b | E103: 2013 and 2014:
E104: 1 | F104: Numerator copied from 2015.
E105: 2 | F105: Denominator copied from 2015.
B106: D | C106: Flags attached to "EU28" values:
C107: 1 | D107: Flag "Calculated".
B108: E | C108: Note attached to "EU28" values:
C109: 1 | D109: The EU28 values are based on 28 countries, with partial information for NL.
D110: NL: | E110: missing 2013 and 2014 data imputed by copying 2015 data.

Sheet Ind1075
A2: Description | D2: Offset | E2: =ROW(IndList!A11)-ROW(IndList!A3) -> 8
B3: Indicator number
C4: =OFFSET(IndList!B3,$E$2,0) -> IND1075
B5: Label
C6: =OFFSET(IndList!C3,$E$2,0) -> Employees of small firms participating in CVT courses (%)
B7: Description
C8: =OFFSET(IndList!D3,$E$2,0) -> Number of employees in small enterprises who have participated in employer-sponsored CVT courses during the reference calendar year (12 months) as a percentage of all employees in all small enterprises surveyed (small enterprises covered by the survey are those from 10 to 49 employees).
B9: Group
C10: =OFFSET(IndList!E3,$E$2,0) -> Access, attractiveness and flexibility
B11: Source
C12: =OFFSET(IndList!F3,$E$2,0) -> Eurostat, CVTS
A14: Indicator values and flags | D14: Offset | E14: =ROW(IndData!A275)-ROW(IndData!A3) -> 272
B16: Geographical unit | D16: 2010 | F16: 2011 | H16: 2012 | J16: 2013 | L16: 2014 | N16: 2015 | P16: 2016
D17: Value | E17: Flag | F17: Value | G17: Flag | H17: Value | I17: Flag | J17: Value | K17: Flag | L17: Value | M17: Flag | N17: Value | O17: Flag | P17: Value | Q17: Flag
B18: =IF(OFFSET(IndData!C3,$E$14,0)="","",OFFSET(IndData!C3,$E$14,0)) -> EU28 | C18: =IF(OFFSET(IndData!D3,$E$14,0)="","",OFFSET(IndData!D3,$E$14,0)) | D18: =IF(OFFSET(IndData!E3,$E$14,0)="","",OFFSET(IndData!E3,$E$14,0)) -> 25 | E18: =IF(OFFSET(IndData!F3,$E$14,0)="","",OFFSET(IndData!F3,$E$14,0)) -> e | F18: =IF(OFFSET(IndData!G3,$E$14,0)="","",OFFSET(IndData!G3,$E$14,0)) | G18: =IF(OFFSET(IndData!H3,$E$14,0)="","",OFFSET(IndData!H3,$E$14,0)) | H18: =IF(OFFSET(IndData!I3,$E$14,0)="","",OFFSET(IndData!I3,$E$14,0)) | I18: =IF(OFFSET(IndData!J3,$E$14,0)="","",OFFSET(IndData!J3,$E$14,0)) | ... Q18: =IF(OFFSET(IndData!R3,$E$14,0)="","",OFFSET(IndData!R3,$E$14,0))
B19: =IF(OFFSET(IndData!C4,$E$14,0)="","",OFFSET(IndData!C4,$E$14,0)) -> BE | C19: =IF(OFFSET(IndData!D4,$E$14,0)="","",OFFSET(IndData!D4,$E$14,0)) -> Belgium | D19: =IF(OFFSET(IndData!E4,$E$14,0)="","",OFFSET(IndData!E4,$E$14,0)) -> 34 | E19: =IF(OFFSET(IndData!F4,$E$14,0)="","",OFFSET(IndData!F4,$E$14,0)) | F19: =IF(OFFSET(IndData!G4,$E$14,0)="","",OFFSET(IndData!G4,$E$14,0)) | G19: =IF(OFFSET(IndData!H4,$E$14,0)="","",OFFSET(IndData!H4,$E$14,0)) | H19: =IF(OFFSET(IndData!I4,$E$14,0)="","",OFFSET(IndData!I4,$E$14,0)) | I19: =IF(OFFSET(IndData!J4,$E$14,0)="","",OFFSET(IndData!J4,$E$14,0)) | ... Q19: =IF(OFFSET(IndData!R4,$E$14,0)="","",OFFSET(IndData!R4,$E$14,0))
B20: =IF(OFFSET(IndData!C5,$E$14,0)="","",OFFSET(IndData!C5,$E$14,0)) -> BG | C20: =IF(OFFSET(IndData!D5,$E$14,0)="","",OFFSET(IndData!D5,$E$14,0)) -> Bulgaria | D20: =IF(OFFSET(IndData!E5,$E$14,0)="","",OFFSET(IndData!E5,$E$14,0)) -> 8 | E20: =IF(OFFSET(IndData!F5,$E$14,0)="","",OFFSET(IndData!F5,$E$14,0)) | F20: =IF(OFFSET(IndData!G5,$E$14,0)="","",OFFSET(IndData!G5,$E$14,0)) | G20: =IF(OFFSET(IndData!H5,$E$14,0)="","",OFFSET(IndData!H5,$E$14,0)) | H20: =IF(OFFSET(IndData!I5,$E$14,0)="","",OFFSET(IndData!I5,$E$14,0)) | I20: =IF(OFFSET(IndData!J5,$E$14,0)="","",OFFSET(IndData!J5,$E$14,0)) | ... Q20: =IF(OFFSET(IndData!R5,$E$14,0)="","",OFFSET(IndData!R5,$E$14,0))
B21: =IF(OFFSET(IndData!C6,$E$14,0)="","",OFFSET(IndData!C6,$E$14,0)) -> CZ | C21: =IF(OFFSET(IndData!D6,$E$14,0)="","",OFFSET(IndData!D6,$E$14,0)) -> Czech Republic | D21: =IF(OFFSET(IndData!E6,$E$14,0)="","",OFFSET(IndData!E6,$E$14,0)) -> 46 | E21: =IF(OFFSET(IndData!F6,$E$14,0)="","",OFFSET(IndData!F6,$E$14,0)) | F21: =IF(OFFSET(IndData!G6,$E$14,0)="","",OFFSET(IndData!G6,$E$14,0)) | G21: =IF(OFFSET(IndData!H6,$E$14,0)="","",OFFSET(IndData!H6,$E$14,0)) | H21: =IF(OFFSET(IndData!I6,$E$14,0)="","",OFFSET(IndData!I6,$E$14,0)) | I21: =IF(OFFSET(IndData!J6,$E$14,0)="","",OFFSET(IndData!J6,$E$14,0)) | ... Q21: =IF(OFFSET(IndData!R6,$E$14,0)="","",OFFSET(IndData!R6,$E$14,0))
B22: =IF(OFFSET(IndData!C7,$E$14,0)="","",OFFSET(IndData!C7,$E$14,0)) -> DK | C22: =IF(OFFSET(IndData!D7,$E$14,0)="","",OFFSET(IndData!D7,$E$14,0)) -> Denmark | D22: =IF(OFFSET(IndData!E7,$E$14,0)="","",OFFSET(IndData!E7,$E$14,0)) -> 36 | E22: =IF(OFFSET(IndData!F7,$E$14,0)="","",OFFSET(IndData!F7,$E$14,0)) | F22: =IF(OFFSET(IndData!G7,$E$14,0)="","",OFFSET(IndData!G7,$E$14,0)) | G22: =IF(OFFSET(IndData!H7,$E$14,0)="","",OFFSET(IndData!H7,$E$14,0)) | H22: =IF(OFFSET(IndData!I7,$E$14,0)="","",OFFSET(IndData!I7,$E$14,0)) | I22: =IF(OFFSET(IndData!J7,$E$14,0)="","",OFFSET(IndData!J7,$E$14,0)) | ... Q22: =IF(OFFSET(IndData!R7,$E$14,0)="","",OFFSET(IndData!R7,$E$14,0))
B23: =IF(OFFSET(IndData!C8,$E$14,0)="","",OFFSET(IndData!C8,$E$14,0)) -> DE | C23: =IF(OFFSET(IndData!D8,$E$14,0)="","",OFFSET(IndData!D8,$E$14,0)) -> Germany | D23: =IF(OFFSET(IndData!E8,$E$14,0)="","",OFFSET(IndData!E8,$E$14,0)) -> 28 | E23: =IF(OFFSET(IndData!F8,$E$14,0)="","",OFFSET(IndData!F8,$E$14,0)) | F23: =IF(OFFSET(IndData!G8,$E$14,0)="","",OFFSET(IndData!G8,$E$14,0)) | G23: =IF(OFFSET(IndData!H8,$E$14,0)="","",OFFSET(IndData!H8,$E$14,0)) | H23: =IF(OFFSET(IndData!I8,$E$14,0)="","",OFFSET(IndData!I8,$E$14,0)) | I23: =IF(OFFSET(IndData!J8,$E$14,0)="","",OFFSET(IndData!J8,$E$14,0)) | ... Q23: =IF(OFFSET(IndData!R8,$E$14,0)="","",OFFSET(IndData!R8,$E$14,0))
B24: =IF(OFFSET(IndData!C9,$E$14,0)="","",OFFSET(IndData!C9,$E$14,0)) -> EE | C24: =IF(OFFSET(IndData!D9,$E$14,0)="","",OFFSET(IndData!D9,$E$14,0)) -> Estonia | D24: =IF(OFFSET(IndData!E9,$E$14,0)="","",OFFSET(IndData!E9,$E$14,0)) -> 22 | E24: =IF(OFFSET(IndData!F9,$E$14,0)="","",OFFSET(IndData!F9,$E$14,0)) | F24: =IF(OFFSET(IndData!G9,$E$14,0)="","",OFFSET(IndData!G9,$E$14,0)) | G24: =IF(OFFSET(IndData!H9,$E$14,0)="","",OFFSET(IndData!H9,$E$14,0)) | H24: =IF(OFFSET(IndData!I9,$E$14,0)="","",OFFSET(IndData!I9,$E$14,0)) | I24: =IF(OFFSET(IndData!J9,$E$14,0)="","",OFFSET(IndData!J9,$E$14,0)) | ... Q24: =IF(OFFSET(IndData!R9,$E$14,0)="","",OFFSET(IndData!R9,$E$14,0))
B25: =IF(OFFSET(IndData!C10,$E$14,0)="","",OFFSET(IndData!C10,$E$14,0)) -> IE | C25: =IF(OFFSET(IndData!D10,$E$14,0)="","",OFFSET(IndData!D10,$E$14,0)) -> Ireland | D25: =IF(OFFSET(IndData!E10,$E$14,0)="","",OFFSET(IndData!E10,$E$14,0)) | E25: =IF(OFFSET(IndData!F10,$E$14,0)="","",OFFSET(IndData!F10,$E$14,0)) | F25: =IF(OFFSET(IndData!G10,$E$14,0)="","",OFFSET(IndData!G10,$E$14,0)) | G25: =IF(OFFSET(IndData!H10,$E$14,0)="","",OFFSET(IndData!H10,$E$14,0)) | H25: =IF(OFFSET(IndData!I10,$E$14,0)="","",OFFSET(IndData!I10,$E$14,0)) | I25: =IF(OFFSET(IndData!J10,$E$14,0)="","",OFFSET(IndData!J10,$E$14,0)) | ... Q25: =IF(OFFSET(IndData!R10,$E$14,0)="","",OFFSET(IndData!R10,$E$14,0))
B26: =IF(OFFSET(IndData!C11,$E$14,0)="","",OFFSET(IndData!C11,$E$14,0)) -> EL | C26: =IF(OFFSET(IndData!D11,$E$14,0)="","",OFFSET(IndData!D11,$E$14,0)) -> Greece | D26: =IF(OFFSET(IndData!E11,$E$14,0)="","",OFFSET(IndData!E11,$E$14,0)) -> 7 | E26: =IF(OFFSET(IndData!F11,$E$14,0)="","",OFFSET(IndData!F11,$E$14,0)) | F26: =IF(OFFSET(IndData!G11,$E$14,0)="","",OFFSET(IndData!G11,$E$14,0)) | G26: =IF(OFFSET(IndData!H11,$E$14,0)="","",OFFSET(IndData!H11,$E$14,0)) | H26: =IF(OFFSET(IndData!I11,$E$14,0)="","",OFFSET(IndData!I11,$E$14,0)) | I26: =IF(OFFSET(IndData!J11,$E$14,0)="","",OFFSET(IndData!J11,$E$14,0)) | ... Q26: =IF(OFFSET(IndData!R11,$E$14,0)="","",OFFSET(IndData!R11,$E$14,0))
B27: =IF(OFFSET(IndData!C12,$E$14,0)="","",OFFSET(IndData!C12,$E$14,0)) -> ES | C27: =IF(OFFSET(IndData!D12,$E$14,0)="","",OFFSET(IndData!D12,$E$14,0)) -> Spain | D27: =IF(OFFSET(IndData!E12,$E$14,0)="","",OFFSET(IndData!E12,$E$14,0)) -> 35 | E27: =IF(OFFSET(IndData!F12,$E$14,0)="","",OFFSET(IndData!F12,$E$14,0)) | F27: =IF(OFFSET(IndData!G12,$E$14,0)="","",OFFSET(IndData!G12,$E$14,0)) | G27: =IF(OFFSET(IndData!H12,$E$14,0)="","",OFFSET(IndData!H12,$E$14,0)) | H27: =IF(OFFSET(IndData!I12,$E$14,0)="","",OFFSET(IndData!I12,$E$14,0)) | I27: =IF(OFFSET(IndData!J12,$E$14,0)="","",OFFSET(IndData!J12,$E$14,0)) | ... Q27: =IF(OFFSET(IndData!R12,$E$14,0)="","",OFFSET(IndData!R12,$E$14,0))
B28: =IF(OFFSET(IndData!C13,$E$14,0)="","",OFFSET(IndData!C13,$E$14,0)) -> FR | C28: =IF(OFFSET(IndData!D13,$E$14,0)="","",OFFSET(IndData!D13,$E$14,0)) -> France | D28: =IF(OFFSET(IndData!E13,$E$14,0)="","",OFFSET(IndData!E13,$E$14,0)) -> 27 | E28: =IF(OFFSET(IndData!F13,$E$14,0)="","",OFFSET(IndData!F13,$E$14,0)) | F28: =IF(OFFSET(IndData!G13,$E$14,0)="","",OFFSET(IndData!G13,$E$14,0)) | G28: =IF(OFFSET(IndData!H13,$E$14,0)="","",OFFSET(IndData!H13,$E$14,0)) | H28: =IF(OFFSET(IndData!I13,$E$14,0)="","",OFFSET(IndData!I13,$E$14,0)) | I28: =IF(OFFSET(IndData!J13,$E$14,0)="","",OFFSET(IndData!J13,$E$14,0)) | ... Q28: =IF(OFFSET(IndData!R13,$E$14,0)="","",OFFSET(IndData!R13,$E$14,0))
B29: =IF(OFFSET(IndData!C14,$E$14,0)="","",OFFSET(IndData!C14,$E$14,0)) -> HR | C29: =IF(OFFSET(IndData!D14,$E$14,0)="","",OFFSET(IndData!D14,$E$14,0)) -> Croatia | D29: =IF(OFFSET(IndData!E14,$E$14,0)="","",OFFSET(IndData!E14,$E$14,0)) -> 19 | E29: =IF(OFFSET(IndData!F14,$E$14,0)="","",OFFSET(IndData!F14,$E$14,0)) | F29: =IF(OFFSET(IndData!G14,$E$14,0)="","",OFFSET(IndData!G14,$E$14,0)) | G29: =IF(OFFSET(IndData!H14,$E$14,0)="","",OFFSET(IndData!H14,$E$14,0)) | H29: =IF(OFFSET(IndData!I14,$E$14,0)="","",OFFSET(IndData!I14,$E$14,0)) | I29: =IF(OFFSET(IndData!J14,$E$14,0)="","",OFFSET(IndData!J14,$E$14,0)) | ... Q29: =IF(OFFSET(IndData!R14,$E$14,0)="","",OFFSET(IndData!R14,$E$14,0))
... B51: =IF(OFFSET(IndData!C36,$E$14,0)="","",OFFSET(IndData!C36,$E$14,0)) -> TR | C51: =IF(OFFSET(IndData!D36,$E$14,0)="","",OFFSET(IndData!D36,$E$14,0)) -> Turkey | D51: =IF(OFFSET(IndData!E36,$E$14,0)="","",OFFSET(IndData!E36,$E$14,0)) | E51: =IF(OFFSET(IndData!F36,$E$14,0)="","",OFFSET(IndData!F36,$E$14,0)) | F51: =IF(OFFSET(IndData!G36,$E$14,0)="","",OFFSET(IndData!G36,$E$14,0)) | G51: =IF(OFFSET(IndData!H36,$E$14,0)="","",OFFSET(IndData!H36,$E$14,0)) | H51: =IF(OFFSET(IndData!I36,$E$14,0)="","",OFFSET(IndData!I36,$E$14,0)) | I51: =IF(OFFSET(IndData!J36,$E$14,0)="","",OFFSET(IndData!J36,$E$14,0)) | ... Q51: =IF(OFFSET(IndData!R36,$E$14,0)="","",OFFSET(IndData!R36,$E$14,0))
A53: References to sources
B55: Country values and flags are derived from
C56: Source number | D56: Eurostat table | F56: Download date
C57: =IndSources!C29 -> S0221 | D57: =IndSources!D29 -> trng_cvts42 | F57: =IndSources!E29 -> "15 July 2017"
B58: EU28 value derived from the same source.

Sheet Ind1080
A2: Description | D2: Offset | E2: =ROW(IndList!A12)-ROW(IndList!A3) -> 9
B3: Indicator number
C4: =OFFSET(IndList!B3,$E$2,0) -> IND1080b
B5: Label
C6: =OFFSET(IndList!C3,$E$2,0) -> Young VET graduates in further education and training (%)
B7: Description
C8: =OFFSET(IndList!D3,$E$2,0) -> Percentage of the population aged 18-24 with a medium-level vocational qualification (ISCED 3 or 4) as their highest educational attainment who participated in education and training over four weeks prior to the survey.
B9: Group
C10: =OFFSET(IndList!E3,$E$2,0) -> Access, attractiveness and flexibility
B11: Source
C12: =OFFSET(IndList!F3,$E$2,0) -> Eurostat calculations based on LFS
A14: Indicator values and flags | D14: Offset | E14: =ROW(IndData!A309)-ROW(IndData!A3) -> 306
B16: Geographical unit | D16: 2010 | F16: 2011 | H16: 2012 | J16: 2013 | L16: 2014 | N16: 2015 | P16: 2016
D17: Value | E17: Flag | F17: Value | G17: Flag | H17: Value | I17: Flag | J17: Value | K17: Flag | L17: Value | M17: Flag | N17: Value | O17: Flag | P17: Value | Q17: Flag
B18: =IF(OFFSET(IndData!C3,$E$14,0)="","",OFFSET(IndData!C3,$E$14,0)) -> EU28 | C18: =IF(OFFSET(IndData!D3,$E$14,0)="","",OFFSET(IndData!D3,$E$14,0)) | D18: =IF(OFFSET(IndData!E3,$E$14,0)="","",OFFSET(IndData!E3,$E$14,0)) | E18: =IF(OFFSET(IndData!F3,$E$14,0)="","",OFFSET(IndData!F3,$E$14,0)) | F18: =IF(OFFSET(IndData!G3,$E$14,0)="","",OFFSET(IndData!G3,$E$14,0)) | G18: =IF(OFFSET(IndData!H3,$E$14,0)="","",OFFSET(IndData!H3,$E$14,0)) | H18: =IF(OFFSET(IndData!I3,$E$14,0)="","",OFFSET(IndData!I3,$E$14,0)) | I18: =IF(OFFSET(IndData!J3,$E$14,0)="","",OFFSET(IndData!J3,$E$14,0)) | ... Q18: =IF(OFFSET(IndData!R3,$E$14,0)="","",OFFSET(IndData!R3,$E$14,0))
B19: =IF(OFFSET(IndData!C4,$E$14,0)="","",OFFSET(IndData!C4,$E$14,0)) -> BE | C19: =IF(OFFSET(IndData!D4,$E$14,0)="","",OFFSET(IndData!D4,$E$14,0)) -> Belgium | D19: =IF(OFFSET(IndData!E4,$E$14,0)="","",OFFSET(IndData!E4,$E$14,0)) | E19: =IF(OFFSET(IndData!F4,$E$14,0)="","",OFFSET(IndData!F4,$E$14,0)) | F19: =IF(OFFSET(IndData!G4,$E$14,0)="","",OFFSET(IndData!G4,$E$14,0)) | G19: =IF(OFFSET(IndData!H4,$E$14,0)="","",OFFSET(IndData!H4,$E$14,0)) | H19: =IF(OFFSET(IndData!I4,$E$14,0)="","",OFFSET(IndData!I4,$E$14,0)) | I19: =IF(OFFSET(IndData!J4,$E$14,0)="","",OFFSET(IndData!J4,$E$14,0)) | ... Q19: =IF(OFFSET(IndData!R4,$E$14,0)="","",OFFSET(IndData!R4,$E$14,0))
B20: =IF(OFFSET(IndData!C5,$E$14,0)="","",OFFSET(IndData!C5,$E$14,0)) -> BG | C20: =IF(OFFSET(IndData!D5,$E$14,0)="","",OFFSET(IndData!D5,$E$14,0)) -> Bulgaria | D20: =IF(OFFSET(IndData!E5,$E$14,0)="","",OFFSET(IndData!E5,$E$14,0)) | E20: =IF(OFFSET(IndData!F5,$E$14,0)="","",OFFSET(IndData!F5,$E$14,0)) | F20: =IF(OFFSET(IndData!G5,$E$14,0)="","",OFFSET(IndData!G5,$E$14,0)) | G20: =IF(OFFSET(IndData!H5,$E$14,0)="","",OFFSET(IndData!H5,$E$14,0)) | H20: =IF(OFFSET(IndData!I5,$E$14,0)="","",OFFSET(IndData!I5,$E$14,0)) | I20: =IF(OFFSET(IndData!J5,$E$14,0)="","",OFFSET(IndData!J5,$E$14,0)) | ... Q20: =IF(OFFSET(IndData!R5,$E$14,0)="","",OFFSET(IndData!R5,$E$14,0))
B21: =IF(OFFSET(IndData!C6,$E$14,0)="","",OFFSET(IndData!C6,$E$14,0)) -> CZ | C21: =IF(OFFSET(IndData!D6,$E$14,0)="","",OFFSET(IndData!D6,$E$14,0)) -> Czech Republic | D21: =IF(OFFSET(IndData!E6,$E$14,0)="","",OFFSET(IndData!E6,$E$14,0)) | E21: =IF(OFFSET(IndData!F6,$E$14,0)="","",OFFSET(IndData!F6,$E$14,0)) | F21: =IF(OFFSET(IndData!G6,$E$14,0)="","",OFFSET(IndData!G6,$E$14,0)) | G21: =IF(OFFSET(IndData!H6,$E$14,0)="","",OFFSET(IndData!H6,$E$14,0)) | H21: =IF(OFFSET(IndData!I6,$E$14,0)="","",OFFSET(IndData!I6,$E$14,0)) | I21: =IF(OFFSET(IndData!J6,$E$14,0)="","",OFFSET(IndData!J6,$E$14,0)) | ... Q21: =IF(OFFSET(IndData!R6,$E$14,0)="","",OFFSET(IndData!R6,$E$14,0))
B22: =IF(OFFSET(IndData!C7,$E$14,0)="","",OFFSET(IndData!C7,$E$14,0)) -> DK | C22: =IF(OFFSET(IndData!D7,$E$14,0)="","",OFFSET(IndData!D7,$E$14,0)) -> Denmark | D22: =IF(OFFSET(IndData!E7,$E$14,0)="","",OFFSET(IndData!E7,$E$14,0)) | E22: =IF(OFFSET(IndData!F7,$E$14,0)="","",OFFSET(IndData!F7,$E$14,0)) | F22: =IF(OFFSET(IndData!G7,$E$14,0)="","",OFFSET(IndData!G7,$E$14,0)) | G22: =IF(OFFSET(IndData!H7,$E$14,0)="","",OFFSET(IndData!H7,$E$14,0)) | H22: =IF(OFFSET(IndData!I7,$E$14,0)="","",OFFSET(IndData!I7,$E$14,0)) | I22: =IF(OFFSET(IndData!J7,$E$14,0)="","",OFFSET(IndData!J7,$E$14,0)) | ... Q22: =IF(OFFSET(IndData!R7,$E$14,0)="","",OFFSET(IndData!R7,$E$14,0)) -> b
B23: =IF(OFFSET(IndData!C8,$E$14,0)="","",OFFSET(IndData!C8,$E$14,0)) -> DE | C23: =IF(OFFSET(IndData!D8,$E$14,0)="","",OFFSET(IndData!D8,$E$14,0)) -> Germany | D23: =IF(OFFSET(IndData!E8,$E$14,0)="","",OFFSET(IndData!E8,$E$14,0)) | E23: =IF(OFFSET(IndData!F8,$E$14,0)="","",OFFSET(IndData!F8,$E$14,0)) | F23: =IF(OFFSET(IndData!G8,$E$14,0)="","",OFFSET(IndData!G8,$E$14,0)) | G23: =IF(OFFSET(IndData!H8,$E$14,0)="","",OFFSET(IndData!H8,$E$14,0)) | H23: =IF(OFFSET(IndData!I8,$E$14,0)="","",OFFSET(IndData!I8,$E$14,0)) | I23: =IF(OFFSET(IndData!J8,$E$14,0)="","",OFFSET(IndData!J8,$E$14,0)) | ... Q23: =IF(OFFSET(IndData!R8,$E$14,0)="","",OFFSET(IndData!R8,$E$14,0))
B24: =IF(OFFSET(IndData!C9,$E$14,0)="","",OFFSET(IndData!C9,$E$14,0)) -> EE | C24: =IF(OFFSET(IndData!D9,$E$14,0)="","",OFFSET(IndData!D9,$E$14,0)) -> Estonia | D24: =IF(OFFSET(IndData!E9,$E$14,0)="","",OFFSET(IndData!E9,$E$14,0)) | E24: =IF(OFFSET(IndData!F9,$E$14,0)="","",OFFSET(IndData!F9,$E$14,0)) | F24: =IF(OFFSET(IndData!G9,$E$14,0)="","",OFFSET(IndData!G9,$E$14,0)) | G24: =IF(OFFSET(IndData!H9,$E$14,0)="","",OFFSET(IndData!H9,$E$14,0)) | H24: =IF(OFFSET(IndData!I9,$E$14,0)="","",OFFSET(IndData!I9,$E$14,0)) | I24: =IF(OFFSET(IndData!J9,$E$14,0)="","",OFFSET(IndData!J9,$E$14,0)) | ... Q24: =IF(OFFSET(IndData!R9,$E$14,0)="","",OFFSET(IndData!R9,$E$14,0))
B25: =IF(OFFSET(IndData!C10,$E$14,0)="","",OFFSET(IndData!C10,$E$14,0)) -> IE | C25: =IF(OFFSET(IndData!D10,$E$14,0)="","",OFFSET(IndData!D10,$E$14,0)) -> Ireland | D25: =IF(OFFSET(IndData!E10,$E$14,0)="","",OFFSET(IndData!E10,$E$14,0)) | E25: =IF(OFFSET(IndData!F10,$E$14,0)="","",OFFSET(IndData!F10,$E$14,0)) | F25: =IF(OFFSET(IndData!G10,$E$14,0)="","",OFFSET(IndData!G10,$E$14,0)) | G25: =IF(OFFSET(IndData!H10,$E$14,0)="","",OFFSET(IndData!H10,$E$14,0)) | H25: =IF(OFFSET(IndData!I10,$E$14,0)="","",OFFSET(IndData!I10,$E$14,0)) | I25: =IF(OFFSET(IndData!J10,$E$14,0)="","",OFFSET(IndData!J10,$E$14,0)) | ... Q25: =IF(OFFSET(IndData!R10,$E$14,0)="","",OFFSET(IndData!R10,$E$14,0))
B26: =IF(OFFSET(IndData!C11,$E$14,0)="","",OFFSET(IndData!C11,$E$14,0)) -> EL | C26: =IF(OFFSET(IndData!D11,$E$14,0)="","",OFFSET(IndData!D11,$E$14,0)) -> Greece | D26: =IF(OFFSET(IndData!E11,$E$14,0)="","",OFFSET(IndData!E11,$E$14,0)) | E26: =IF(OFFSET(IndData!F11,$E$14,0)="","",OFFSET(IndData!F11,$E$14,0)) | F26: =IF(OFFSET(IndData!G11,$E$14,0)="","",OFFSET(IndData!G11,$E$14,0)) | G26: =IF(OFFSET(IndData!H11,$E$14,0)="","",OFFSET(IndData!H11,$E$14,0)) | H26: =IF(OFFSET(IndData!I11,$E$14,0)="","",OFFSET(IndData!I11,$E$14,0)) | I26: =IF(OFFSET(IndData!J11,$E$14,0)="","",OFFSET(IndData!J11,$E$14,0)) | ... Q26: =IF(OFFSET(IndData!R11,$E$14,0)="","",OFFSET(IndData!R11,$E$14,0))
B27: =IF(OFFSET(IndData!C12,$E$14,0)="","",OFFSET(IndData!C12,$E$14,0)) -> ES | C27: =IF(OFFSET(IndData!D12,$E$14,0)="","",OFFSET(IndData!D12,$E$14,0)) -> Spain | D27: =IF(OFFSET(IndData!E12,$E$14,0)="","",OFFSET(IndData!E12,$E$14,0)) | E27: =IF(OFFSET(IndData!F12,$E$14,0)="","",OFFSET(IndData!F12,$E$14,0)) | F27: =IF(OFFSET(IndData!G12,$E$14,0)="","",OFFSET(IndData!G12,$E$14,0)) | G27: =IF(OFFSET(IndData!H12,$E$14,0)="","",OFFSET(IndData!H12,$E$14,0)) | H27: =IF(OFFSET(IndData!I12,$E$14,0)="","",OFFSET(IndData!I12,$E$14,0)) | I27: =IF(OFFSET(IndData!J12,$E$14,0)="","",OFFSET(IndData!J12,$E$14,0)) | ... Q27: =IF(OFFSET(IndData!R12,$E$14,0)="","",OFFSET(IndData!R12,$E$14,0))
B28: =IF(OFFSET(IndData!C13,$E$14,0)="","",OFFSET(IndData!C13,$E$14,0)) -> FR | C28: =IF(OFFSET(IndData!D13,$E$14,0)="","",OFFSET(IndData!D13,$E$14,0)) -> France | D28: =IF(OFFSET(IndData!E13,$E$14,0)="","",OFFSET(IndData!E13,$E$14,0)) | E28: =IF(OFFSET(IndData!F13,$E$14,0)="","",OFFSET(IndData!F13,$E$14,0)) | F28: =IF(OFFSET(IndData!G13,$E$14,0)="","",OFFSET(IndData!G13,$E$14,0)) | G28: =IF(OFFSET(IndData!H13,$E$14,0)="","",OFFSET(IndData!H13,$E$14,0)) | H28: =IF(OFFSET(IndData!I13,$E$14,0)="","",OFFSET(IndData!I13,$E$14,0)) | I28: =IF(OFFSET(IndData!J13,$E$14,0)="","",OFFSET(IndData!J13,$E$14,0)) | ... Q28: =IF(OFFSET(IndData!R13,$E$14,0)="","",OFFSET(IndData!R13,$E$14,0))
B29: =IF(OFFSET(IndData!C14,$E$14,0)="","",OFFSET(IndData!C14,$E$14,0)) -> HR | C29: =IF(OFFSET(IndData!D14,$E$14,0)="","",OFFSET(IndData!D14,$E$14,0)) -> Croatia | D29: =IF(OFFSET(IndData!E14,$E$14,0)="","",OFFSET(IndData!E14,$E$14,0)) | E29: =IF(OFFSET(IndData!F14,$E$14,0)="","",OFFSET(IndData!F14,$E$14,0)) | F29: =IF(OFFSET(IndData!G14,$E$14,0)="","",OFFSET(IndData!G14,$E$14,0)) | G29: =IF(OFFSET(IndData!H14,$E$14,0)="","",OFFSET(IndData!H14,$E$14,0)) | H29: =IF(OFFSET(IndData!I14,$E$14,0)="","",OFFSET(IndData!I14,$E$14,0)) | I29: =IF(OFFSET(IndData!J14,$E$14,0)="","",OFFSET(IndData!J14,$E$14,0)) | ... Q29: =IF(OFFSET(IndData!R14,$E$14,0)="","",OFFSET(IndData!R14,$E$14,0))
... B51: =IF(OFFSET(IndData!C36,$E$14,0)="","",OFFSET(IndData!C36,$E$14,0)) -> TR | C51: =IF(OFFSET(IndData!D36,$E$14,0)="","",OFFSET(IndData!D36,$E$14,0)) -> Turkey | D51: =IF(OFFSET(IndData!E36,$E$14,0)="","",OFFSET(IndData!E36,$E$14,0)) | E51: =IF(OFFSET(IndData!F36,$E$14,0)="","",OFFSET(IndData!F36,$E$14,0)) | F51: =IF(OFFSET(IndData!G36,$E$14,0)="","",OFFSET(IndData!G36,$E$14,0)) | G51: =IF(OFFSET(IndData!H36,$E$14,0)="","",OFFSET(IndData!H36,$E$14,0)) | H51: =IF(OFFSET(IndData!I36,$E$14,0)="","",OFFSET(IndData!I36,$E$14,0)) | I51: =IF(OFFSET(IndData!J36,$E$14,0)="","",OFFSET(IndData!J36,$E$14,0)) | ... Q51: =IF(OFFSET(IndData!R36,$E$14,0)="","",OFFSET(IndData!R36,$E$14,0))
A53: References to sources
B55: Country values and flags are derived from
C56: Source number | D56: Eurostat table | F56: Download date
C57: =IndSources!C30 -> S0199 | D57: - | F57: =IndSources!E30 -> "15 June 2017"
B58: EU28 value derived from the same source.

Sheet Ind1090
A2: Description | D2: Offset | E2: =ROW(IndList!A13)-ROW(IndList!A3) -> 10
B3: Indicator number
C4: =OFFSET(IndList!B3,$E$2,0) -> IND1090
B5: Label
C6: =OFFSET(IndList!C3,$E$2,0) -> Older adults in lifelong learning (%)
B7: Description
C8: =OFFSET(IndList!D3,$E$2,0) -> Percentage of the population aged 50-64 who participated in education and training over the four weeks prior to the survey.
B9: Group
C10: =OFFSET(IndList!E3,$E$2,0) -> Access, attractiveness and flexibility
B11: Source
C12: =OFFSET(IndList!F3,$E$2,0) -> Cedefop calculations based on Eurostat, LFS
A14: Indicator values and flags | D14: Offset | E14: =ROW(IndData!A343)-ROW(IndData!A3) -> 340
B16: Geographical unit | D16: 2010 | F16: 2011 | H16: 2012 | J16: 2013 | L16: 2014 | N16: 2015 | P16: 2016
D17: Value | E17: Flag | F17: Value | G17: Flag | H17: Value | I17: Flag | J17: Value | K17: Flag | L17: Value | M17: Flag | N17: Value | O17: Flag | P17: Value | Q17: Flag
B18: =IF(OFFSET(IndData!C3,$E$14,0)="","",OFFSET(IndData!C3,$E$14,0)) -> EU28 | C18: =IF(OFFSET(IndData!D3,$E$14,0)="","",OFFSET(IndData!D3,$E$14,0)) | D18: =IF(OFFSET(IndData!E3,$E$14,0)="","",OFFSET(IndData!E3,$E$14,0)) -> 5.3424755 | E18: =IF(OFFSET(IndData!F3,$E$14,0)="","",OFFSET(IndData!F3,$E$14,0)) | F18: =IF(OFFSET(IndData!G3,$E$14,0)="","",OFFSET(IndData!G3,$E$14,0)) -> 5.1212257 | G18: =IF(OFFSET(IndData!H3,$E$14,0)="","",OFFSET(IndData!H3,$E$14,0)) | H18: =IF(OFFSET(IndData!I3,$E$14,0)="","",OFFSET(IndData!I3,$E$14,0)) -> 5.336553 | I18: =IF(OFFSET(IndData!J3,$E$14,0)="","",OFFSET(IndData!J3,$E$14,0)) | ... Q18: =IF(OFFSET(IndData!R3,$E$14,0)="","",OFFSET(IndData!R3,$E$14,0))
B19: =IF(OFFSET(IndData!C4,$E$14,0)="","",OFFSET(IndData!C4,$E$14,0)) -> BE | C19: =IF(OFFSET(IndData!D4,$E$14,0)="","",OFFSET(IndData!D4,$E$14,0)) -> Belgium | D19: =IF(OFFSET(IndData!E4,$E$14,0)="","",OFFSET(IndData!E4,$E$14,0)) -> 4.695858 | E19: =IF(OFFSET(IndData!F4,$E$14,0)="","",OFFSET(IndData!F4,$E$14,0)) | F19: =IF(OFFSET(IndData!G4,$E$14,0)="","",OFFSET(IndData!G4,$E$14,0)) -> 4.6211238 | G19: =IF(OFFSET(IndData!H4,$E$14,0)="","",OFFSET(IndData!H4,$E$14,0)) | H19: =IF(OFFSET(IndData!I4,$E$14,0)="","",OFFSET(IndData!I4,$E$14,0)) -> 4.4562457 | I19: =IF(OFFSET(IndData!J4,$E$14,0)="","",OFFSET(IndData!J4,$E$14,0)) | ... Q19: =IF(OFFSET(IndData!R4,$E$14,0)="","",OFFSET(IndData!R4,$E$14,0))
B20: =IF(OFFSET(IndData!C5,$E$14,0)="","",OFFSET(IndData!C5,$E$14,0)) -> BG | C20: =IF(OFFSET(IndData!D5,$E$14,0)="","",OFFSET(IndData!D5,$E$14,0)) -> Bulgaria | D20: =IF(OFFSET(IndData!E5,$E$14,0)="","",OFFSET(IndData!E5,$E$14,0)) | E20: =IF(OFFSET(IndData!F5,$E$14,0)="","",OFFSET(IndData!F5,$E$14,0)) -> bu | F20: =IF(OFFSET(IndData!G5,$E$14,0)="","",OFFSET(IndData!G5,$E$14,0)) | G20: =IF(OFFSET(IndData!H5,$E$14,0)="","",OFFSET(IndData!H5,$E$14,0)) -> bu | H20: =IF(OFFSET(IndData!I5,$E$14,0)="","",OFFSET(IndData!I5,$E$14,0)) | I20: =IF(OFFSET(IndData!J5,$E$14,0)="","",OFFSET(IndData!J5,$E$14,0)) -> u | ... Q20: =IF(OFFSET(IndData!R5,$E$14,0)="","",OFFSET(IndData!R5,$E$14,0)) -> u
B21: =IF(OFFSET(IndData!C6,$E$14,0)="","",OFFSET(IndData!C6,$E$14,0)) -> CZ | C21: =IF(OFFSET(IndData!D6,$E$14,0)="","",OFFSET(IndData!D6,$E$14,0)) -> Czech Republic | D21: =IF(OFFSET(IndData!E6,$E$14,0)="","",OFFSET(IndData!E6,$E$14,0)) -> 3.4896001 | E21: =IF(OFFSET(IndData!F6,$E$14,0)="","",OFFSET(IndData!F6,$E$14,0)) | F21: =IF(OFFSET(IndData!G6,$E$14,0)="","",OFFSET(IndData!G6,$E$14,0)) -> 6.3134474 | G21: =IF(OFFSET(IndData!H6,$E$14,0)="","",OFFSET(IndData!H6,$E$14,0)) -> b | H21: =IF(OFFSET(IndData!I6,$E$14,0)="","",OFFSET(IndData!I6,$E$14,0)) -> 6.086054 | I21: =IF(OFFSET(IndData!J6,$E$14,0)="","",OFFSET(IndData!J6,$E$14,0)) | ... Q21: =IF(OFFSET(IndData!R6,$E$14,0)="","",OFFSET(IndData!R6,$E$14,0))
B22: =IF(OFFSET(IndData!C7,$E$14,0)="","",OFFSET(IndData!C7,$E$14,0)) -> DK | C22: =IF(OFFSET(IndData!D7,$E$14,0)="","",OFFSET(IndData!D7,$E$14,0)) -> Denmark | D22: =IF(OFFSET(IndData!E7,$E$14,0)="","",OFFSET(IndData!E7,$E$14,0)) -> 26.75616 | E22: =IF(OFFSET(IndData!F7,$E$14,0)="","",OFFSET(IndData!F7,$E$14,0)) | F22: =IF(OFFSET(IndData!G7,$E$14,0)="","",OFFSET(IndData!G7,$E$14,0)) -> 25.728653 | G22: =IF(OFFSET(IndData!H7,$E$14,0)="","",OFFSET(IndData!H7,$E$14,0)) | H22: =IF(OFFSET(IndData!I7,$E$14,0)="","",OFFSET(IndData!I7,$E$14,0)) -> 25.049088 | I22: =IF(OFFSET(IndData!J7,$E$14,0)="","",OFFSET(IndData!J7,$E$14,0)) | ... Q22: =IF(OFFSET(IndData!R7,$E$14,0)="","",OFFSET(IndData!R7,$E$14,0)) -> b
B23: =IF(OFFSET(IndData!C8,$E$14,0)="","",OFFSET(IndData!C8,$E$14,0)) -> DE | C23: =IF(OFFSET(IndData!D8,$E$14,0)="","",OFFSET(IndData!D8,$E$14,0)) -> Germany | D23: =IF(OFFSET(IndData!E8,$E$14,0)="","",OFFSET(IndData!E8,$E$14,0)) -> 3.7235498 | E23: =IF(OFFSET(IndData!F8,$E$14,0)="","",OFFSET(IndData!F8,$E$14,0)) -> b | F23: =IF(OFFSET(IndData!G8,$E$14,0)="","",OFFSET(IndData!G8,$E$14,0)) -> 3.6203692 | G23: =IF(OFFSET(IndData!H8,$E$14,0)="","",OFFSET(IndData!H8,$E$14,0)) | H23: =IF(OFFSET(IndData!I8,$E$14,0)="","",OFFSET(IndData!I8,$E$14,0)) -> 3.6783091 | I23: =IF(OFFSET(IndData!J8,$E$14,0)="","",OFFSET(IndData!J8,$E$14,0)) | ... Q23: =IF(OFFSET(IndData!R8,$E$14,0)="","",OFFSET(IndData!R8,$E$14,0))
B24: =IF(OFFSET(IndData!C9,$E$14,0)="","",OFFSET(IndData!C9,$E$14,0)) -> EE | C24: =IF(OFFSET(IndData!D9,$E$14,0)="","",OFFSET(IndData!D9,$E$14,0)) -> Estonia | D24: =IF(OFFSET(IndData!E9,$E$14,0)="","",OFFSET(IndData!E9,$E$14,0)) -> 5.9444662 | E24: =IF(OFFSET(IndData!F9,$E$14,0)="","",OFFSET(IndData!F9,$E$14,0)) | F24: =IF(OFFSET(IndData!G9,$E$14,0)="","",OFFSET(IndData!G9,$E$14,0)) -> 5.681382 | G24: =IF(OFFSET(IndData!H9,$E$14,0)="","",OFFSET(IndData!H9,$E$14,0)) | H24: =IF(OFFSET(IndData!I9,$E$14,0)="","",OFFSET(IndData!I9,$E$14,0)) -> 6.3951275 | I24: =IF(OFFSET(IndData!J9,$E$14,0)="","",OFFSET(IndData!J9,$E$14,0)) | ... Q24: =IF(OFFSET(IndData!R9,$E$14,0)="","",OFFSET(IndData!R9,$E$14,0))
B25: =IF(OFFSET(IndData!C10,$E$14,0)="","",OFFSET(IndData!C10,$E$14,0)) -> IE | C25: =IF(OFFSET(IndData!D10,$E$14,0)="","",OFFSET(IndData!D10,$E$14,0)) -> Ireland | D25: =IF(OFFSET(IndData!E10,$E$14,0)="","",OFFSET(IndData!E10,$E$14,0)) -> 3.9174972 | E25: =IF(OFFSET(IndData!F10,$E$14,0)="","",OFFSET(IndData!F10,$E$14,0)) | F25: =IF(OFFSET(IndData!G10,$E$14,0)="","",OFFSET(IndData!G10,$E$14,0)) -> 3.7943696 | G25: =IF(OFFSET(IndData!H10,$E$14,0)="","",OFFSET(IndData!H10,$E$14,0)) | H25: =IF(OFFSET(IndData!I10,$E$14,0)="","",OFFSET(IndData!I10,$E$14,0)) -> 3.9887565 | I25: =IF(OFFSET(IndData!J10,$E$14,0)="","",OFFSET(IndData!J10,$E$14,0)) | ... Q25: =IF(OFFSET(IndData!R10,$E$14,0)="","",OFFSET(IndData!R10,$E$14,0))
B26: =IF(OFFSET(IndData!C11,$E$14,0)="","",OFFSET(IndData!C11,$E$14,0)) -> EL | C26: =IF(OFFSET(IndData!D11,$E$14,0)="","",OFFSET(IndData!D11,$E$14,0)) -> Greece | D26: =IF(OFFSET(IndData!E11,$E$14,0)="","",OFFSET(IndData!E11,$E$14,0)) -> 0.80906933 | E26: =IF(OFFSET(IndData!F11,$E$14,0)="","",OFFSET(IndData!F11,$E$14,0)) | F26: =IF(OFFSET(IndData!G11,$E$14,0)="","",OFFSET(IndData!G11,$E$14,0)) -> 0.55145296 | G26: =IF(OFFSET(IndData!H11,$E$14,0)="","",OFFSET(IndData!H11,$E$14,0)) | H26: =IF(OFFSET(IndData!I11,$E$14,0)="","",OFFSET(IndData!I11,$E$14,0)) -> 0.92516745 | I26: =IF(OFFSET(IndData!J11,$E$14,0)="","",OFFSET(IndData!J11,$E$14,0)) | ... Q26: =IF(OFFSET(IndData!R11,$E$14,0)="","",OFFSET(IndData!R11,$E$14,0))
B27: =IF(OFFSET(IndData!C12,$E$14,0)="","",OFFSET(IndData!C12,$E$14,0)) -> ES | C27: =IF(OFFSET(IndData!D12,$E$14,0)="","",OFFSET(IndData!D12,$E$14,0)) -> Spain | D27: =IF(OFFSET(IndData!E12,$E$14,0)="","",OFFSET(IndData!E12,$E$14,0)) -> 5.8065072 | E27: =IF(OFFSET(IndData!F12,$E$14,0)="","",OFFSET(IndData!F12,$E$14,0)) | F27: =IF(OFFSET(IndData!G12,$E$14,0)="","",OFFSET(IndData!G12,$E$14,0)) -> 5.7982545 | G27: =IF(OFFSET(IndData!H12,$E$14,0)="","",OFFSET(IndData!H12,$E$14,0)) | H27: =IF(OFFSET(IndData!I12,$E$14,0)="","",OFFSET(IndData!I12,$E$14,0)) -> 6.0209084 | I27: =IF(OFFSET(IndData!J12,$E$14,0)="","",OFFSET(IndData!J12,$E$14,0)) | ... Q27: =IF(OFFSET(IndData!R12,$E$14,0)="","",OFFSET(IndData!R12,$E$14,0))
B28: =IF(OFFSET(IndData!C13,$E$14,0)="","",OFFSET(IndData!C13,$E$14,0)) -> FR | C28: =IF(OFFSET(IndData!D13,$E$14,0)="","",OFFSET(IndData!D13,$E$14,0)) -> France | D28: =IF(OFFSET(IndData!E13,$E$14,0)="","",OFFSET(IndData!E13,$E$14,0)) -> 2.6339156 | E28: =IF(OFFSET(IndData!F13,$E$14,0)="","",OFFSET(IndData!F13,$E$14,0)) | F28: =IF(OFFSET(IndData!G13,$E$14,0)="","",OFFSET(IndData!G13,$E$14,0)) -> 3.034161 | G28: =IF(OFFSET(IndData!H13,$E$14,0)="","",OFFSET(IndData!H13,$E$14,0)) | H28: =IF(OFFSET(IndData!I13,$E$14,0)="","",OFFSET(IndData!I13,$E$14,0)) -> 3.1777525 | I28: =IF(OFFSET(IndData!J13,$E$14,0)="","",OFFSET(IndData!J13,$E$14,0)) | ... Q28: =IF(OFFSET(IndData!R13,$E$14,0)="","",OFFSET(IndData!R13,$E$14,0))
B29: =IF(OFFSET(IndData!C14,$E$14,0)="","",OFFSET(IndData!C14,$E$14,0)) -> HR | C29: =IF(OFFSET(IndData!D14,$E$14,0)="","",OFFSET(IndData!D14,$E$14,0)) -> Croatia | D29: =IF(OFFSET(IndData!E14,$E$14,0)="","",OFFSET(IndData!E14,$E$14,0)) -> 0.11203227 | E29: =IF(OFFSET(IndData!F14,$E$14,0)="","",OFFSET(IndData!F14,$E$14,0)) -> u | F29: =IF(OFFSET(IndData!G14,$E$14,0)="","",OFFSET(IndData!G14,$E$14,0)) -> 0.22050717 | G29: =IF(OFFSET(IndData!H14,$E$14,0)="","",OFFSET(IndData!H14,$E$14,0)) -> u | H29: =IF(OFFSET(IndData!I14,$E$14,0)="","",OFFSET(IndData!I14,$E$14,0)) -> 0.28590279 | I29: =IF(OFFSET(IndData!J14,$E$14,0)="","",OFFSET(IndData!J14,$E$14,0)) -> u | ... Q29: =IF(OFFSET(IndData!R14,$E$14,0)="","",OFFSET(IndData!R14,$E$14,0)) -> u
... B51: =IF(OFFSET(IndData!C36,$E$14,0)="","",OFFSET(IndData!C36,$E$14,0)) -> TR | C51: =IF(OFFSET(IndData!D36,$E$14,0)="","",OFFSET(IndData!D36,$E$14,0)) -> Turkey | D51: =IF(OFFSET(IndData!E36,$E$14,0)="","",OFFSET(IndData!E36,$E$14,0)) -> 0.29616839 | E51: =IF(OFFSET(IndData!F36,$E$14,0)="","",OFFSET(IndData!F36,$E$14,0)) | F51: =IF(OFFSET(IndData!G36,$E$14,0)="","",OFFSET(IndData!G36,$E$14,0)) -> 0.34182299 | G51: =IF(OFFSET(IndData!H36,$E$14,0)="","",OFFSET(IndData!H36,$E$14,0)) | H51: =IF(OFFSET(IndData!I36,$E$14,0)="","",OFFSET(IndData!I36,$E$14,0)) -> 0.3783191 | I51: =IF(OFFSET(IndData!J36,$E$14,0)="","",OFFSET(IndData!J36,$E$14,0)) | ... Q51: =IF(OFFSET(IndData!R36,$E$14,0)="","",OFFSET(IndData!R36,$E$14,0))
A53: References to sources
B55: Country values and flags are derived from
C56: Source number | D56: Eurostat table | F56: Download date
C57: =IndSources!C31 -> S0168 | D57: =IndSources!D31 -> trng_lfse_01 | F57: =IndSources!E31 -> "3 May 2017" | I57: (Source of indicator 1050)
C58: =IndSources!C32 -> S0180 | D58: =IndSources!D32 -> lfsa_pgaied | F58: =IndSources!E32 -> "7 May 2017" | I58: FED_NFE
C59: =IndSources!C33 -> S0181 | D59: =IndSources!D33 -> lfsa_pgaied | F59: =IndSources!E33 -> "7 May 2017" | I59: NO_FED_NFE
B60: EU28 value derived from the same sources.
A62: Further specification
B65: Indicator formula: FED_NFE / (FED_NFE + NO_FED_NFE) *100
B67: A | C67: Indicator values and flags for individual countries and for EU28, overview:
C68: 1 | D68: The 2010 to 2016 values and flags for the 33 countries are derived from sources S0180 and S0181.
C69: 2 | D69: The 2010 to 2016 values and flags for EU28 are derived from sources S0180 and S0181 in the same way as the series for an individual country.
C70: 3 | D70: Denominator term NO_FED_NFE:
D71: a | E71: Complete data.
D72: b | E72: There are a number of flags. These are all "b" flags. They are a subset of the flags attached to the FED_NFE term.
C73: 4 | D73: Numerator (and denominator term) FED_NFE: all values missing, with "u" flags ("low reliability") attached.
D74: a | E74: Cases:
E75: 1 | F75: Value available, no flag.
E76: 2 | F76: Value available, flag "b".
E77: 3 | F77: Value available, flag "u".
E78: 4 | F78: Value missing, flag "u".
E79: 5 | F79: Value missing, flags "bu".
D80: b | E80: Note: inconsistency in case BG:
E81: 1 | F81: Numerator (and denominator term) FED_NFE, 2010 to 2015: all values missing, with "u" flags ("low reliability") attached.
E82: 2 | F82: Numerator (and denominator term) FED_NFE 2016: value available, with "u" flag ("low reliability") attached.
B83: B | C83: Indicator values for individual countries and for EU28, strategy:
C84: 1 | D84: Case FED_NFE term missing: indicator value missing.
C85: 2 | D85: Case FED_NFE term available: calculate indicator value.
B86: C | C86: Flags attached to indicator values for individual countries and for EU28, strategy:
C87: 1 | D87: Copy flags of term FED_NFE.
B88: D | C88: After comparison with the time series of indicator 1050 (extracted from S0168), three "b" flags seem to be missing in the time series of indicator 1090 as derived from S0180, S0181.
C89: These flags are added to the time series of indicator 1090.
C90: The three cases are: EU28, 2013; NL, 2011; NL, 2013.
B91: E | C91: Notes (first overview of indicator values and flags):
C92: 1 | D92: Case EE: remarkable increase between 2015 (5,4%) and 2016 (10,7%) (no flags).

Sheet Ind1100
A2: Description | D2: Offset | E2: =ROW(IndList!A14)-ROW(IndList!A3) -> 11
B3: Indicator number
C4: =OFFSET(IndList!B3,$E$2,0) -> IND1100
B5: Label
C6: =OFFSET(IndList!C3,$E$2,0) -> Low-educated adults in lifelong learning (%)
B7: Description
C8: =OFFSET(IndList!D3,$E$2,0) -> Percentage of the population aged 25-64 with lowest level of educational attainment (ISCED 0-2) who participated in education and training over the four weeks prior to the survey.
B9: Group
C10: =OFFSET(IndList!E3,$E$2,0) -> Access, attractiveness and flexibility
B11: Source
C12: =OFFSET(IndList!F3,$E$2,0) -> Eurostat, LFS
A14: Indicator values and flags | D14: Offset | E14: =ROW(IndData!A377)-ROW(IndData!A3) -> 374
B16: Geographical unit | D16: 2010 | F16: 2011 | H16: 2012 | J16: 2013 | L16: 2014 | N16: 2015 | P16: 2016
D17: Value | E17: Flag | F17: Value | G17: Flag | H17: Value | I17: Flag | J17: Value | K17: Flag | L17: Value | M17: Flag | N17: Value | O17: Flag | P17: Value | Q17: Flag
B18: =IF(OFFSET(IndData!C3,$E$14,0)="","",OFFSET(IndData!C3,$E$14,0)) -> EU28 | C18: =IF(OFFSET(IndData!D3,$E$14,0)="","",OFFSET(IndData!D3,$E$14,0)) | D18: =IF(OFFSET(IndData!E3,$E$14,0)="","",OFFSET(IndData!E3,$E$14,0)) -> 3.9 | E18: =IF(OFFSET(IndData!F3,$E$14,0)="","",OFFSET(IndData!F3,$E$14,0)) | F18: =IF(OFFSET(IndData!G3,$E$14,0)="","",OFFSET(IndData!G3,$E$14,0)) -> 4 | G18: =IF(OFFSET(IndData!H3,$E$14,0)="","",OFFSET(IndData!H3,$E$14,0)) | H18: =IF(OFFSET(IndData!I3,$E$14,0)="","",OFFSET(IndData!I3,$E$14,0)) -> 3.9 | I18: =IF(OFFSET(IndData!J3,$E$14,0)="","",OFFSET(IndData!J3,$E$14,0)) | ... Q18: =IF(OFFSET(IndData!R3,$E$14,0)="","",OFFSET(IndData!R3,$E$14,0))
B19: =IF(OFFSET(IndData!C4,$E$14,0)="","",OFFSET(IndData!C4,$E$14,0)) -> BE | C19: =IF(OFFSET(IndData!D4,$E$14,0)="","",OFFSET(IndData!D4,$E$14,0)) -> Belgium | D19: =IF(OFFSET(IndData!E4,$E$14,0)="","",OFFSET(IndData!E4,$E$14,0)) -> 3.2 | E19: =IF(OFFSET(IndData!F4,$E$14,0)="","",OFFSET(IndData!F4,$E$14,0)) | F19: =IF(OFFSET(IndData!G4,$E$14,0)="","",OFFSET(IndData!G4,$E$14,0)) -> 3.2 | G19: =IF(OFFSET(IndData!H4,$E$14,0)="","",OFFSET(IndData!H4,$E$14,0)) | H19: =IF(OFFSET(IndData!I4,$E$14,0)="","",OFFSET(IndData!I4,$E$14,0)) -> 2.9 | I19: =IF(OFFSET(IndData!J4,$E$14,0)="","",OFFSET(IndData!J4,$E$14,0)) | ... Q19: =IF(OFFSET(IndData!R4,$E$14,0)="","",OFFSET(IndData!R4,$E$14,0))
B20: =IF(OFFSET(IndData!C5,$E$14,0)="","",OFFSET(IndData!C5,$E$14,0)) -> BG | C20: =IF(OFFSET(IndData!D5,$E$14,0)="","",OFFSET(IndData!D5,$E$14,0)) -> Bulgaria | D20: =IF(OFFSET(IndData!E5,$E$14,0)="","",OFFSET(IndData!E5,$E$14,0)) | E20: =IF(OFFSET(IndData!F5,$E$14,0)="","",OFFSET(IndData!F5,$E$14,0)) -> u | F20: =IF(OFFSET(IndData!G5,$E$14,0)="","",OFFSET(IndData!G5,$E$14,0)) | G20: =IF(OFFSET(IndData!H5,$E$14,0)="","",OFFSET(IndData!H5,$E$14,0)) -> u | H20: =IF(OFFSET(IndData!I5,$E$14,0)="","",OFFSET(IndData!I5,$E$14,0)) -> 0.5 | I20: =IF(OFFSET(IndData!J5,$E$14,0)="","",OFFSET(IndData!J5,$E$14,0)) -> u | ... Q20: =IF(OFFSET(IndData!R5,$E$14,0)="","",OFFSET(IndData!R5,$E$14,0)) -> u
B21: =IF(OFFSET(IndData!C6,$E$14,0)="","",OFFSET(IndData!C6,$E$14,0)) -> CZ | C21: =IF(OFFSET(IndData!D6,$E$14,0)="","",OFFSET(IndData!D6,$E$14,0)) -> Czech Republic | D21: =IF(OFFSET(IndData!E6,$E$14,0)="","",OFFSET(IndData!E6,$E$14,0)) -> 1.4 | E21: =IF(OFFSET(IndData!F6,$E$14,0)="","",OFFSET(IndData!F6,$E$14,0)) | F21: =IF(OFFSET(IndData!G6,$E$14,0)="","",OFFSET(IndData!G6,$E$14,0)) -> 2.8 | G21: =IF(OFFSET(IndData!H6,$E$14,0)="","",OFFSET(IndData!H6,$E$14,0)) -> b | H21: =IF(OFFSET(IndData!I6,$E$14,0)="","",OFFSET(IndData!I6,$E$14,0)) -> 2.4 | I21: =IF(OFFSET(IndData!J6,$E$14,0)="","",OFFSET(IndData!J6,$E$14,0)) | ... Q21: =IF(OFFSET(IndData!R6,$E$14,0)="","",OFFSET(IndData!R6,$E$14,0))
B22: =IF(OFFSET(IndData!C7,$E$14,0)="","",OFFSET(IndData!C7,$E$14,0)) -> DK | C22: =IF(OFFSET(IndData!D7,$E$14,0)="","",OFFSET(IndData!D7,$E$14,0)) -> Denmark | D22: =IF(OFFSET(IndData!E7,$E$14,0)="","",OFFSET(IndData!E7,$E$14,0)) -> 23.6 | E22: =IF(OFFSET(IndData!F7,$E$14,0)="","",OFFSET(IndData!F7,$E$14,0)) | F22: =IF(OFFSET(IndData!G7,$E$14,0)="","",OFFSET(IndData!G7,$E$14,0)) -> 23.4 | G22: =IF(OFFSET(IndData!H7,$E$14,0)="","",OFFSET(IndData!H7,$E$14,0)) | H22: =IF(OFFSET(IndData!I7,$E$14,0)="","",OFFSET(IndData!I7,$E$14,0)) -> 22.4 | I22: =IF(OFFSET(IndData!J7,$E$14,0)="","",OFFSET(IndData!J7,$E$14,0)) | ... Q22: =IF(OFFSET(IndData!R7,$E$14,0)="","",OFFSET(IndData!R7,$E$14,0)) -> b
B23: =IF(OFFSET(IndData!C8,$E$14,0)="","",OFFSET(IndData!C8,$E$14,0)) -> DE | C23: =IF(OFFSET(IndData!D8,$E$14,0)="","",OFFSET(IndData!D8,$E$14,0)) -> Germany | D23: =IF(OFFSET(IndData!E8,$E$14,0)="","",OFFSET(IndData!E8,$E$14,0)) -> 2.9 | E23: =IF(OFFSET(IndData!F8,$E$14,0)="","",OFFSET(IndData!F8,$E$14,0)) -> b | F23: =IF(OFFSET(IndData!G8,$E$14,0)="","",OFFSET(IndData!G8,$E$14,0)) -> 3.1 | G23: =IF(OFFSET(IndData!H8,$E$14,0)="","",OFFSET(IndData!H8,$E$14,0)) | H23: =IF(OFFSET(IndData!I8,$E$14,0)="","",OFFSET(IndData!I8,$E$14,0)) -> 3.2 | I23: =IF(OFFSET(IndData!J8,$E$14,0)="","",OFFSET(IndData!J8,$E$14,0)) | ... Q23: =IF(OFFSET(IndData!R8,$E$14,0)="","",OFFSET(IndData!R8,$E$14,0))
B24: =IF(OFFSET(IndData!C9,$E$14,0)="","",OFFSET(IndData!C9,$E$14,0)) -> EE | C24: =IF(OFFSET(IndData!D9,$E$14,0)="","",OFFSET(IndData!D9,$E$14,0)) -> Estonia | D24: =IF(OFFSET(IndData!E9,$E$14,0)="","",OFFSET(IndData!E9,$E$14,0)) -> 2 | E24: =IF(OFFSET(IndData!F9,$E$14,0)="","",OFFSET(IndData!F9,$E$14,0)) -> u | F24: =IF(OFFSET(IndData!G9,$E$14,0)="","",OFFSET(IndData!G9,$E$14,0)) -> 3.5 | G24: =IF(OFFSET(IndData!H9,$E$14,0)="","",OFFSET(IndData!H9,$E$14,0)) | H24: =IF(OFFSET(IndData!I9,$E$14,0)="","",OFFSET(IndData!I9,$E$14,0)) -> 3.9 | I24: =IF(OFFSET(IndData!J9,$E$14,0)="","",OFFSET(IndData!J9,$E$14,0)) | ... Q24: =IF(OFFSET(IndData!R9,$E$14,0)="","",OFFSET(IndData!R9,$E$14,0))
B25: =IF(OFFSET(IndData!C10,$E$14,0)="","",OFFSET(IndData!C10,$E$14,0)) -> IE | C25: =IF(OFFSET(IndData!D10,$E$14,0)="","",OFFSET(IndData!D10,$E$14,0)) -> Ireland | D25: =IF(OFFSET(IndData!E10,$E$14,0)="","",OFFSET(IndData!E10,$E$14,0)) -> 2.8 | E25: =IF(OFFSET(IndData!F10,$E$14,0)="","",OFFSET(IndData!F10,$E$14,0)) | F25: =IF(OFFSET(IndData!G10,$E$14,0)="","",OFFSET(IndData!G10,$E$14,0)) -> 3 | G25: =IF(OFFSET(IndData!H10,$E$14,0)="","",OFFSET(IndData!H10,$E$14,0)) | H25: =IF(OFFSET(IndData!I10,$E$14,0)="","",OFFSET(IndData!I10,$E$14,0)) -> 3.2 | I25: =IF(OFFSET(IndData!J10,$E$14,0)="","",OFFSET(IndData!J10,$E$14,0)) | ... Q25: =IF(OFFSET(IndData!R10,$E$14,0)="","",OFFSET(IndData!R10,$E$14,0))
B26: =IF(OFFSET(IndData!C11,$E$14,0)="","",OFFSET(IndData!C11,$E$14,0)) -> EL | C26: =IF(OFFSET(IndData!D11,$E$14,0)="","",OFFSET(IndData!D11,$E$14,0)) -> Greece | D26: =IF(OFFSET(IndData!E11,$E$14,0)="","",OFFSET(IndData!E11,$E$14,0)) -> 0.5 | E26: =IF(OFFSET(IndData!F11,$E$14,0)="","",OFFSET(IndData!F11,$E$14,0)) | F26: =IF(OFFSET(IndData!G11,$E$14,0)="","",OFFSET(IndData!G11,$E$14,0)) -> 0.4 | G26: =IF(OFFSET(IndData!H11,$E$14,0)="","",OFFSET(IndData!H11,$E$14,0)) | H26: =IF(OFFSET(IndData!I11,$E$14,0)="","",OFFSET(IndData!I11,$E$14,0)) -> 0.4 | I26: =IF(OFFSET(IndData!J11,$E$14,0)="","",OFFSET(IndData!J11,$E$14,0)) | ... Q26: =IF(OFFSET(IndData!R11,$E$14,0)="","",OFFSET(IndData!R11,$E$14,0))
B27: =IF(OFFSET(IndData!C12,$E$14,0)="","",OFFSET(IndData!C12,$E$14,0)) -> ES | C27: =IF(OFFSET(IndData!D12,$E$14,0)="","",OFFSET(IndData!D12,$E$14,0)) -> Spain | D27: =IF(OFFSET(IndData!E12,$E$14,0)="","",OFFSET(IndData!E12,$E$14,0)) -> 4.9 | E27: =IF(OFFSET(IndData!F12,$E$14,0)="","",OFFSET(IndData!F12,$E$14,0)) | F27: =IF(OFFSET(IndData!G12,$E$14,0)="","",OFFSET(IndData!G12,$E$14,0)) -> 4.7 | G27: =IF(OFFSET(IndData!H12,$E$14,0)="","",OFFSET(IndData!H12,$E$14,0)) | H27: =IF(OFFSET(IndData!I12,$E$14,0)="","",OFFSET(IndData!I12,$E$14,0)) -> 4.7 | I27: =IF(OFFSET(IndData!J12,$E$14,0)="","",OFFSET(IndData!J12,$E$14,0)) | ... Q27: =IF(OFFSET(IndData!R12,$E$14,0)="","",OFFSET(IndData!R12,$E$14,0))
B28: =IF(OFFSET(IndData!C13,$E$14,0)="","",OFFSET(IndData!C13,$E$14,0)) -> FR | C28: =IF(OFFSET(IndData!D13,$E$14,0)="","",OFFSET(IndData!D13,$E$14,0)) -> France | D28: =IF(OFFSET(IndData!E13,$E$14,0)="","",OFFSET(IndData!E13,$E$14,0)) -> 2.3 | E28: =IF(OFFSET(IndData!F13,$E$14,0)="","",OFFSET(IndData!F13,$E$14,0)) | F28: =IF(OFFSET(IndData!G13,$E$14,0)="","",OFFSET(IndData!G13,$E$14,0)) -> 2.5 | G28: =IF(OFFSET(IndData!H13,$E$14,0)="","",OFFSET(IndData!H13,$E$14,0)) | H28: =IF(OFFSET(IndData!I13,$E$14,0)="","",OFFSET(IndData!I13,$E$14,0)) -> 2.5 | I28: =IF(OFFSET(IndData!J13,$E$14,0)="","",OFFSET(IndData!J13,$E$14,0)) | ... Q28: =IF(OFFSET(IndData!R13,$E$14,0)="","",OFFSET(IndData!R13,$E$14,0))
B29: =IF(OFFSET(IndData!C14,$E$14,0)="","",OFFSET(IndData!C14,$E$14,0)) -> HR | C29: =IF(OFFSET(IndData!D14,$E$14,0)="","",OFFSET(IndData!D14,$E$14,0)) -> Croatia | D29: =IF(OFFSET(IndData!E14,$E$14,0)="","",OFFSET(IndData!E14,$E$14,0)) | E29: =IF(OFFSET(IndData!F14,$E$14,0)="","",OFFSET(IndData!F14,$E$14,0)) -> bu | F29: =IF(OFFSET(IndData!G14,$E$14,0)="","",OFFSET(IndData!G14,$E$14,0)) | G29: =IF(OFFSET(IndData!H14,$E$14,0)="","",OFFSET(IndData!H14,$E$14,0)) -> u | H29: =IF(OFFSET(IndData!I14,$E$14,0)="","",OFFSET(IndData!I14,$E$14,0)) | I29: =IF(OFFSET(IndData!J14,$E$14,0)="","",OFFSET(IndData!J14,$E$14,0)) -> u | ... Q29: =IF(OFFSET(IndData!R14,$E$14,0)="","",OFFSET(IndData!R14,$E$14,0)) -> u
... B51: =IF(OFFSET(IndData!C36,$E$14,0)="","",OFFSET(IndData!C36,$E$14,0)) -> TR | C51: =IF(OFFSET(IndData!D36,$E$14,0)="","",OFFSET(IndData!D36,$E$14,0)) -> Turkey | D51: =IF(OFFSET(IndData!E36,$E$14,0)="","",OFFSET(IndData!E36,$E$14,0)) -> 1.3 | E51: =IF(OFFSET(IndData!F36,$E$14,0)="","",OFFSET(IndData!F36,$E$14,0)) | F51: =IF(OFFSET(IndData!G36,$E$14,0)="","",OFFSET(IndData!G36,$E$14,0)) -> 1.6 | G51: =IF(OFFSET(IndData!H36,$E$14,0)="","",OFFSET(IndData!H36,$E$14,0)) | H51: =IF(OFFSET(IndData!I36,$E$14,0)="","",OFFSET(IndData!I36,$E$14,0)) -> 1.9 | I51: =IF(OFFSET(IndData!J36,$E$14,0)="","",OFFSET(IndData!J36,$E$14,0)) | ... Q51: =IF(OFFSET(IndData!R36,$E$14,0)="","",OFFSET(IndData!R36,$E$14,0))
A53: References to sources
B55: Country values and flags are derived from
C56: Source number | D56: Eurostat table | F56: Download date
C57: =IndSources!C34 -> S0170 | D57: =IndSources!D34 -> trng_lfse_03 | F57: =IndSources!E34 -> "3 May 2017"
B58: EU28 value derived from the same source.
A60: Further specification
B62: Notes (first overview of indicator values and flags):
C63: Cases CY, PL, SI, MK
C64: 1 | D64: Some indicator values with "u" flags.
C65: 2 | D65: All indicator values available.
C66: Cases LV, RO
C67: 1 | D67: Some indicator values with "u" flags.
C68: 2 | D68: Some indicator values missing, some available.
C69: Case LT, SK
C70: 1 | D70: All indicator values with "u" flags.
C71: 2 | D71: All indicator values missing.
C72: Cases BG, HR
C73: 1 | D73: All indicator values with "u" flags.
C74: 2 | D74: Some indicator values missing, some available.

Sheet Ind1110
A2: Description | D2: Offset | E2: =ROW(IndList!A15)-ROW(IndList!A3) -> 12
B3: Indicator number
C4: =OFFSET(IndList!B3,$E$2,0) -> IND1110
B5: Label
C6: =OFFSET(IndList!C3,$E$2,0) -> Unemployed adults in lifelong learning (%)
B7: Description
C8: =OFFSET(IndList!D3,$E$2,0) -> Percentage of the unemployed population aged 25-64 who participated in education and training over the four weeks prior to the survey.
B9: Group
C10: =OFFSET(IndList!E3,$E$2,0) -> Access, attractiveness and flexibility
B11: Source
C12: =OFFSET(IndList!F3,$E$2,0) -> Eurostat, LFS
A14: Indicator values and flags | D14: Offset | E14: =ROW(IndData!A411)-ROW(IndData!A3) -> 408
B16: Geographical unit | D16: 2010 | F16: 2011 | H16: 2012 | J16: 2013 | L16: 2014 | N16: 2015 | P16: 2016
D17: Value | E17: Flag | F17: Value | G17: Flag | H17: Value | I17: Flag | J17: Value | K17: Flag | L17: Value | M17: Flag | N17: Value | O17: Flag | P17: Value | Q17: Flag
B18: =IF(OFFSET(IndData!C3,$E$14,0)="","",OFFSET(IndData!C3,$E$14,0)) -> EU28 | C18: =IF(OFFSET(IndData!D3,$E$14,0)="","",OFFSET(IndData!D3,$E$14,0)) | D18: =IF(OFFSET(IndData!E3,$E$14,0)="","",OFFSET(IndData!E3,$E$14,0)) -> 9.5 | E18: =IF(OFFSET(IndData!F3,$E$14,0)="","",OFFSET(IndData!F3,$E$14,0)) | F18: =IF(OFFSET(IndData!G3,$E$14,0)="","",OFFSET(IndData!G3,$E$14,0)) -> 9.5 | G18: =IF(OFFSET(IndData!H3,$E$14,0)="","",OFFSET(IndData!H3,$E$14,0)) | H18: =IF(OFFSET(IndData!I3,$E$14,0)="","",OFFSET(IndData!I3,$E$14,0)) -> 9.4 | I18: =IF(OFFSET(IndData!J3,$E$14,0)="","",OFFSET(IndData!J3,$E$14,0)) | ... Q18: =IF(OFFSET(IndData!R3,$E$14,0)="","",OFFSET(IndData!R3,$E$14,0))
B19: =IF(OFFSET(IndData!C4,$E$14,0)="","",OFFSET(IndData!C4,$E$14,0)) -> BE | C19: =IF(OFFSET(IndData!D4,$E$14,0)="","",OFFSET(IndData!D4,$E$14,0)) -> Belgium | D19: =IF(OFFSET(IndData!E4,$E$14,0)="","",OFFSET(IndData!E4,$E$14,0)) -> 9.7 | E19: =IF(OFFSET(IndData!F4,$E$14,0)="","",OFFSET(IndData!F4,$E$14,0)) | F19: =IF(OFFSET(IndData!G4,$E$14,0)="","",OFFSET(IndData!G4,$E$14,0)) -> 9.5 | G19: =IF(OFFSET(IndData!H4,$E$14,0)="","",OFFSET(IndData!H4,$E$14,0)) | H19: =IF(OFFSET(IndData!I4,$E$14,0)="","",OFFSET(IndData!I4,$E$14,0)) -> 10.2 | I19: =IF(OFFSET(IndData!J4,$E$14,0)="","",OFFSET(IndData!J4,$E$14,0)) | ... Q19: =IF(OFFSET(IndData!R4,$E$14,0)="","",OFFSET(IndData!R4,$E$14,0))
B20: =IF(OFFSET(IndData!C5,$E$14,0)="","",OFFSET(IndData!C5,$E$14,0)) -> BG | C20: =IF(OFFSET(IndData!D5,$E$14,0)="","",OFFSET(IndData!D5,$E$14,0)) -> Bulgaria | D20: =IF(OFFSET(IndData!E5,$E$14,0)="","",OFFSET(IndData!E5,$E$14,0)) | E20: =IF(OFFSET(IndData!F5,$E$14,0)="","",OFFSET(IndData!F5,$E$14,0)) -> u | F20: =IF(OFFSET(IndData!G5,$E$14,0)="","",OFFSET(IndData!G5,$E$14,0)) -> 1.2 | G20: =IF(OFFSET(IndData!H5,$E$14,0)="","",OFFSET(IndData!H5,$E$14,0)) -> u | H20: =IF(OFFSET(IndData!I5,$E$14,0)="","",OFFSET(IndData!I5,$E$14,0)) -> 1.5 | I20: =IF(OFFSET(IndData!J5,$E$14,0)="","",OFFSET(IndData!J5,$E$14,0)) -> u | ... Q20: =IF(OFFSET(IndData!R5,$E$14,0)="","",OFFSET(IndData!R5,$E$14,0)) -> u
B21: =IF(OFFSET(IndData!C6,$E$14,0)="","",OFFSET(IndData!C6,$E$14,0)) -> CZ | C21: =IF(OFFSET(IndData!D6,$E$14,0)="","",OFFSET(IndData!D6,$E$14,0)) -> Czech Republic | D21: =IF(OFFSET(IndData!E6,$E$14,0)="","",OFFSET(IndData!E6,$E$14,0)) -> 5.4 | E21: =IF(OFFSET(IndData!F6,$E$14,0)="","",OFFSET(IndData!F6,$E$14,0)) | F21: =IF(OFFSET(IndData!G6,$E$14,0)="","",OFFSET(IndData!G6,$E$14,0)) -> 7.6 | G21: =IF(OFFSET(IndData!H6,$E$14,0)="","",OFFSET(IndData!H6,$E$14,0)) -> b | H21: =IF(OFFSET(IndData!I6,$E$14,0)="","",OFFSET(IndData!I6,$E$14,0)) -> 6.5 | I21: =IF(OFFSET(IndData!J6,$E$14,0)="","",OFFSET(IndData!J6,$E$14,0)) | ... Q21: =IF(OFFSET(IndData!R6,$E$14,0)="","",OFFSET(IndData!R6,$E$14,0))
B22: =IF(OFFSET(IndData!C7,$E$14,0)="","",OFFSET(IndData!C7,$E$14,0)) -> DK | C22: =IF(OFFSET(IndData!D7,$E$14,0)="","",OFFSET(IndData!D7,$E$14,0)) -> Denmark | D22: =IF(OFFSET(IndData!E7,$E$14,0)="","",OFFSET(IndData!E7,$E$14,0)) -> 33.6 | E22: =IF(OFFSET(IndData!F7,$E$14,0)="","",OFFSET(IndData!F7,$E$14,0)) | F22: =IF(OFFSET(IndData!G7,$E$14,0)="","",OFFSET(IndData!G7,$E$14,0)) -> 35.1 | G22: =IF(OFFSET(IndData!H7,$E$14,0)="","",OFFSET(IndData!H7,$E$14,0)) | H22: =IF(OFFSET(IndData!I7,$E$14,0)="","",OFFSET(IndData!I7,$E$14,0)) -> 32.7 | I22: =IF(OFFSET(IndData!J7,$E$14,0)="","",OFFSET(IndData!J7,$E$14,0)) | ... Q22: =IF(OFFSET(IndData!R7,$E$14,0)="","",OFFSET(IndData!R7,$E$14,0)) -> b
B23: =IF(OFFSET(IndData!C8,$E$14,0)="","",OFFSET(IndData!C8,$E$14,0)) -> DE | C23: =IF(OFFSET(IndData!D8,$E$14,0)="","",OFFSET(IndData!D8,$E$14,0)) -> Germany | D23: =IF(OFFSET(IndData!E8,$E$14,0)="","",OFFSET(IndData!E8,$E$14,0)) -> 5.8 | E23: =IF(OFFSET(IndData!F8,$E$14,0)="","",OFFSET(IndData!F8,$E$14,0)) -> b | F23: =IF(OFFSET(IndData!G8,$E$14,0)="","",OFFSET(IndData!G8,$E$14,0)) -> 5.2 | G23: =IF(OFFSET(IndData!H8,$E$14,0)="","",OFFSET(IndData!H8,$E$14,0)) -> b | H23: =IF(OFFSET(IndData!I8,$E$14,0)="","",OFFSET(IndData!I8,$E$14,0)) -> 5.6 | I23: =IF(OFFSET(IndData!J8,$E$14,0)="","",OFFSET(IndData!J8,$E$14,0)) | ... Q23: =IF(OFFSET(IndData!R8,$E$14,0)="","",OFFSET(IndData!R8,$E$14,0))
B24: =IF(OFFSET(IndData!C9,$E$14,0)="","",OFFSET(IndData!C9,$E$14,0)) -> EE | C24: =IF(OFFSET(IndData!D9,$E$14,0)="","",OFFSET(IndData!D9,$E$14,0)) -> Estonia | D24: =IF(OFFSET(IndData!E9,$E$14,0)="","",OFFSET(IndData!E9,$E$14,0)) -> 7.1 | E24: =IF(OFFSET(IndData!F9,$E$14,0)="","",OFFSET(IndData!F9,$E$14,0)) | F24: =IF(OFFSET(IndData!G9,$E$14,0)="","",OFFSET(IndData!G9,$E$14,0)) -> 8.6 | G24: =IF(OFFSET(IndData!H9,$E$14,0)="","",OFFSET(IndData!H9,$E$14,0)) | H24: =IF(OFFSET(IndData!I9,$E$14,0)="","",OFFSET(IndData!I9,$E$14,0)) -> 11.7 | I24: =IF(OFFSET(IndData!J9,$E$14,0)="","",OFFSET(IndData!J9,$E$14,0)) | ... Q24: =IF(OFFSET(IndData!R9,$E$14,0)="","",OFFSET(IndData!R9,$E$14,0))
B25: =IF(OFFSET(IndData!C10,$E$14,0)="","",OFFSET(IndData!C10,$E$14,0)) -> IE | C25: =IF(OFFSET(IndData!D10,$E$14,0)="","",OFFSET(IndData!D10,$E$14,0)) -> Ireland | D25: =IF(OFFSET(IndData!E10,$E$14,0)="","",OFFSET(IndData!E10,$E$14,0)) -> 7.4 | E25: =IF(OFFSET(IndData!F10,$E$14,0)="","",OFFSET(IndData!F10,$E$14,0)) | F25: =IF(OFFSET(IndData!G10,$E$14,0)="","",OFFSET(IndData!G10,$E$14,0)) -> 6.6 | G25: =IF(OFFSET(IndData!H10,$E$14,0)="","",OFFSET(IndData!H10,$E$14,0)) | H25: =IF(OFFSET(IndData!I10,$E$14,0)="","",OFFSET(IndData!I10,$E$14,0)) -> 7.4 | I25: =IF(OFFSET(IndData!J10,$E$14,0)="","",OFFSET(IndData!J10,$E$14,0)) | ... Q25: =IF(OFFSET(IndData!R10,$E$14,0)="","",OFFSET(IndData!R10,$E$14,0))
B26: =IF(OFFSET(IndData!C11,$E$14,0)="","",OFFSET(IndData!C11,$E$14,0)) -> EL | C26: =IF(OFFSET(IndData!D11,$E$14,0)="","",OFFSET(IndData!D11,$E$14,0)) -> Greece | D26: =IF(OFFSET(IndData!E11,$E$14,0)="","",OFFSET(IndData!E11,$E$14,0)) -> 3.7 | E26: =IF(OFFSET(IndData!F11,$E$14,0)="","",OFFSET(IndData!F11,$E$14,0)) | F26: =IF(OFFSET(IndData!G11,$E$14,0)="","",OFFSET(IndData!G11,$E$14,0)) -> 3.3 | G26: =IF(OFFSET(IndData!H11,$E$14,0)="","",OFFSET(IndData!H11,$E$14,0)) | H26: =IF(OFFSET(IndData!I11,$E$14,0)="","",OFFSET(IndData!I11,$E$14,0)) -> 3.3 | I26: =IF(OFFSET(IndData!J11,$E$14,0)="","",OFFSET(IndData!J11,$E$14,0)) | ... Q26: =IF(OFFSET(IndData!R11,$E$14,0)="","",OFFSET(IndData!R11,$E$14,0))
B27: =IF(OFFSET(IndData!C12,$E$14,0)="","",OFFSET(IndData!C12,$E$14,0)) -> ES | C27: =IF(OFFSET(IndData!D12,$E$14,0)="","",OFFSET(IndData!D12,$E$14,0)) -> Spain | D27: =IF(OFFSET(IndData!E12,$E$14,0)="","",OFFSET(IndData!E12,$E$14,0)) -> 13.5 | E27: =IF(OFFSET(IndData!F12,$E$14,0)="","",OFFSET(IndData!F12,$E$14,0)) | F27: =IF(OFFSET(IndData!G12,$E$14,0)="","",OFFSET(IndData!G12,$E$14,0)) -> 13.6 | G27: =IF(OFFSET(IndData!H12,$E$14,0)="","",OFFSET(IndData!H12,$E$14,0)) | H27: =IF(OFFSET(IndData!I12,$E$14,0)="","",OFFSET(IndData!I12,$E$14,0)) -> 13.2 | I27: =IF(OFFSET(IndData!J12,$E$14,0)="","",OFFSET(IndData!J12,$E$14,0)) | ... Q27: =IF(OFFSET(IndData!R12,$E$14,0)="","",OFFSET(IndData!R12,$E$14,0))
B28: =IF(OFFSET(IndData!C13,$E$14,0)="","",OFFSET(IndData!C13,$E$14,0)) -> FR | C28: =IF(OFFSET(IndData!D13,$E$14,0)="","",OFFSET(IndData!D13,$E$14,0)) -> France | D28: =IF(OFFSET(IndData!E13,$E$14,0)="","",OFFSET(IndData!E13,$E$14,0)) -> 5 | E28: =IF(OFFSET(IndData!F13,$E$14,0)="","",OFFSET(IndData!F13,$E$14,0)) | F28: =IF(OFFSET(IndData!G13,$E$14,0)="","",OFFSET(IndData!G13,$E$14,0)) -> 5.2 | G28: =IF(OFFSET(IndData!H13,$E$14,0)="","",OFFSET(IndData!H13,$E$14,0)) | H28: =IF(OFFSET(IndData!I13,$E$14,0)="","",OFFSET(IndData!I13,$E$14,0)) -> 5.4 | I28: =IF(OFFSET(IndData!J13,$E$14,0)="","",OFFSET(IndData!J13,$E$14,0)) | ... Q28: =IF(OFFSET(IndData!R13,$E$14,0)="","",OFFSET(IndData!R13,$E$14,0))
B29: =IF(OFFSET(IndData!C14,$E$14,0)="","",OFFSET(IndData!C14,$E$14,0)) -> HR | C29: =IF(OFFSET(IndData!D14,$E$14,0)="","",OFFSET(IndData!D14,$E$14,0)) -> Croatia | D29: =IF(OFFSET(IndData!E14,$E$14,0)="","",OFFSET(IndData!E14,$E$14,0)) -> 2.4 | E29: =IF(OFFSET(IndData!F14,$E$14,0)="","",OFFSET(IndData!F14,$E$14,0)) -> u | F29: =IF(OFFSET(IndData!G14,$E$14,0)="","",OFFSET(IndData!G14,$E$14,0)) -> 3.2 | G29: =IF(OFFSET(IndData!H14,$E$14,0)="","",OFFSET(IndData!H14,$E$14,0)) -> u | H29: =IF(OFFSET(IndData!I14,$E$14,0)="","",OFFSET(IndData!I14,$E$14,0)) -> 2.5 | I29: =IF(OFFSET(IndData!J14,$E$14,0)="","",OFFSET(IndData!J14,$E$14,0)) -> u | ... Q29: =IF(OFFSET(IndData!R14,$E$14,0)="","",OFFSET(IndData!R14,$E$14,0)) -> u
... B51: =IF(OFFSET(IndData!C36,$E$14,0)="","",OFFSET(IndData!C36,$E$14,0)) -> TR | C51: =IF(OFFSET(IndData!D36,$E$14,0)="","",OFFSET(IndData!D36,$E$14,0)) -> Turkey | D51: =IF(OFFSET(IndData!E36,$E$14,0)="","",OFFSET(IndData!E36,$E$14,0)) -> 5.4 | E51: =IF(OFFSET(IndData!F36,$E$14,0)="","",OFFSET(IndData!F36,$E$14,0)) | F51: =IF(OFFSET(IndData!G36,$E$14,0)="","",OFFSET(IndData!G36,$E$14,0)) -> 6.3 | G51: =IF(OFFSET(IndData!H36,$E$14,0)="","",OFFSET(IndData!H36,$E$14,0)) | H51: =IF(OFFSET(IndData!I36,$E$14,0)="","",OFFSET(IndData!I36,$E$14,0)) -> 7.3 | I51: =IF(OFFSET(IndData!J36,$E$14,0)="","",OFFSET(IndData!J36,$E$14,0)) | ... Q51: =IF(OFFSET(IndData!R36,$E$14,0)="","",OFFSET(IndData!R36,$E$14,0))
A53: References to sources
B55: Country values and flags are derived from
C56: Source number | D56: Eurostat table | F56: Download date
C57: =IndSources!C35 -> S0169 | D57: =IndSources!D35 -> trng_lfse_02 | F57: =IndSources!E35 -> "3 May 2017"
B58: EU28 value derived from the same source.
A60: Further specification
B62: Cases CY, HU, MT, SK:
B63: 1 | C63: Some indicator values with "u" flags.
B64: 2 | C64: All indicator values available.
B65: Case RO:
B66: 1 | C66: Some indicator values with "u" flags.
B67: 2 | C67: Some indicator values missing, some available.
B68: Cases BG, LT:
B69: 1 | C69: All indicator values with "u" flags.
B70: 2 | C70: Some indicator values missing, some available.
B71: Case HR:
B72: 1 | C72: All indicator values with "u" flags.
B73: 2 | C73: All indicator values available.

Sheet Ind1120
A2: Description | D2: Offset | E2: =ROW(IndList!A16)-ROW(IndList!A3) -> 13
B3: Indicator number
C4: =OFFSET(IndList!B3,$E$2,0) -> IND1120
B5: Label
C6: =OFFSET(IndList!C3,$E$2,0) -> Individuals who wanted to participate in training but did not (%)
B7: Description
C8: =OFFSET(IndList!D3,$E$2,0) -> Percentage of individuals aged 25-64 wanting to participate in education or training but did not do so.
B9: Group
C10: =OFFSET(IndList!E3,$E$2,0) -> Access, attractiveness and flexibility
B11: Source
C12: =OFFSET(IndList!F3,$E$2,0) -> Eurostat, AES
A14: Indicator values and flags | D14: Offset | E14: =ROW(IndData!A445)-ROW(IndData!A3) -> 442
B16: Geographical unit | D16: 2010 | F16: 2011 | H16: 2012 | J16: 2013 | L16: 2014 | N16: 2015 | P16: 2016
D17: Value | E17: Flag | F17: Value | G17: Flag | H17: Value | I17: Flag | J17: Value | K17: Flag | L17: Value | M17: Flag | N17: Value | O17: Flag | P17: Value | Q17: Flag
B18: =IF(OFFSET(IndData!C3,$E$14,0)="","",OFFSET(IndData!C3,$E$14,0)) -> EU28 | C18: =IF(OFFSET(IndData!D3,$E$14,0)="","",OFFSET(IndData!D3,$E$14,0)) | D18: =IF(OFFSET(IndData!E3,$E$14,0)="","",OFFSET(IndData!E3,$E$14,0)) | E18: =IF(OFFSET(IndData!F3,$E$14,0)="","",OFFSET(IndData!F3,$E$14,0)) | F18: =IF(OFFSET(IndData!G3,$E$14,0)="","",OFFSET(IndData!G3,$E$14,0)) -> 9.5 | G18: =IF(OFFSET(IndData!H3,$E$14,0)="","",OFFSET(IndData!H3,$E$14,0)) -> e | H18: =IF(OFFSET(IndData!I3,$E$14,0)="","",OFFSET(IndData!I3,$E$14,0)) | I18: =IF(OFFSET(IndData!J3,$E$14,0)="","",OFFSET(IndData!J3,$E$14,0)) | ... Q18: =IF(OFFSET(IndData!R3,$E$14,0)="","",OFFSET(IndData!R3,$E$14,0))
B19: =IF(OFFSET(IndData!C4,$E$14,0)="","",OFFSET(IndData!C4,$E$14,0)) -> BE | C19: =IF(OFFSET(IndData!D4,$E$14,0)="","",OFFSET(IndData!D4,$E$14,0)) -> Belgium | D19: =IF(OFFSET(IndData!E4,$E$14,0)="","",OFFSET(IndData!E4,$E$14,0)) | E19: =IF(OFFSET(IndData!F4,$E$14,0)="","",OFFSET(IndData!F4,$E$14,0)) | F19: =IF(OFFSET(IndData!G4,$E$14,0)="","",OFFSET(IndData!G4,$E$14,0)) -> 12.8 | G19: =IF(OFFSET(IndData!H4,$E$14,0)="","",OFFSET(IndData!H4,$E$14,0)) | H19: =IF(OFFSET(IndData!I4,$E$14,0)="","",OFFSET(IndData!I4,$E$14,0)) | I19: =IF(OFFSET(IndData!J4,$E$14,0)="","",OFFSET(IndData!J4,$E$14,0)) | ... Q19: =IF(OFFSET(IndData!R4,$E$14,0)="","",OFFSET(IndData!R4,$E$14,0))
B20: =IF(OFFSET(IndData!C5,$E$14,0)="","",OFFSET(IndData!C5,$E$14,0)) -> BG | C20: =IF(OFFSET(IndData!D5,$E$14,0)="","",OFFSET(IndData!D5,$E$14,0)) -> Bulgaria | D20: =IF(OFFSET(IndData!E5,$E$14,0)="","",OFFSET(IndData!E5,$E$14,0)) | E20: =IF(OFFSET(IndData!F5,$E$14,0)="","",OFFSET(IndData!F5,$E$14,0)) | F20: =IF(OFFSET(IndData!G5,$E$14,0)="","",OFFSET(IndData!G5,$E$14,0)) -> 5.9 | G20: =IF(OFFSET(IndData!H5,$E$14,0)="","",OFFSET(IndData!H5,$E$14,0)) | H20: =IF(OFFSET(IndData!I5,$E$14,0)="","",OFFSET(IndData!I5,$E$14,0)) | I20: =IF(OFFSET(IndData!J5,$E$14,0)="","",OFFSET(IndData!J5,$E$14,0)) | ... Q20: =IF(OFFSET(IndData!R5,$E$14,0)="","",OFFSET(IndData!R5,$E$14,0))
B21: =IF(OFFSET(IndData!C6,$E$14,0)="","",OFFSET(IndData!C6,$E$14,0)) -> CZ | C21: =IF(OFFSET(IndData!D6,$E$14,0)="","",OFFSET(IndData!D6,$E$14,0)) -> Czech Republic | D21: =IF(OFFSET(IndData!E6,$E$14,0)="","",OFFSET(IndData!E6,$E$14,0)) | E21: =IF(OFFSET(IndData!F6,$E$14,0)="","",OFFSET(IndData!F6,$E$14,0)) | F21: =IF(OFFSET(IndData!G6,$E$14,0)="","",OFFSET(IndData!G6,$E$14,0)) -> 4.8 | G21: =IF(OFFSET(IndData!H6,$E$14,0)="","",OFFSET(IndData!H6,$E$14,0)) | H21: =IF(OFFSET(IndData!I6,$E$14,0)="","",OFFSET(IndData!I6,$E$14,0)) | I21: =IF(OFFSET(IndData!J6,$E$14,0)="","",OFFSET(IndData!J6,$E$14,0)) | ... Q21: =IF(OFFSET(IndData!R6,$E$14,0)="","",OFFSET(IndData!R6,$E$14,0))
B22: =IF(OFFSET(IndData!C7,$E$14,0)="","",OFFSET(IndData!C7,$E$14,0)) -> DK | C22: =IF(OFFSET(IndData!D7,$E$14,0)="","",OFFSET(IndData!D7,$E$14,0)) -> Denmark | D22: =IF(OFFSET(IndData!E7,$E$14,0)="","",OFFSET(IndData!E7,$E$14,0)) | E22: =IF(OFFSET(IndData!F7,$E$14,0)="","",OFFSET(IndData!F7,$E$14,0)) | F22: =IF(OFFSET(IndData!G7,$E$14,0)="","",OFFSET(IndData!G7,$E$14,0)) -> 12.5 | G22: =IF(OFFSET(IndData!H7,$E$14,0)="","",OFFSET(IndData!H7,$E$14,0)) | H22: =IF(OFFSET(IndData!I7,$E$14,0)="","",OFFSET(IndData!I7,$E$14,0)) | I22: =IF(OFFSET(IndData!J7,$E$14,0)="","",OFFSET(IndData!J7,$E$14,0)) | ... Q22: =IF(OFFSET(IndData!R7,$E$14,0)="","",OFFSET(IndData!R7,$E$14,0))
B23: =IF(OFFSET(IndData!C8,$E$14,0)="","",OFFSET(IndData!C8,$E$14,0)) -> DE | C23: =IF(OFFSET(IndData!D8,$E$14,0)="","",OFFSET(IndData!D8,$E$14,0)) -> Germany | D23: =IF(OFFSET(IndData!E8,$E$14,0)="","",OFFSET(IndData!E8,$E$14,0)) | E23: =IF(OFFSET(IndData!F8,$E$14,0)="","",OFFSET(IndData!F8,$E$14,0)) | F23: =IF(OFFSET(IndData!G8,$E$14,0)="","",OFFSET(IndData!G8,$E$14,0)) -> 5.6 | G23: =IF(OFFSET(IndData!H8,$E$14,0)="","",OFFSET(IndData!H8,$E$14,0)) | H23: =IF(OFFSET(IndData!I8,$E$14,0)="","",OFFSET(IndData!I8,$E$14,0)) | I23: =IF(OFFSET(IndData!J8,$E$14,0)="","",OFFSET(IndData!J8,$E$14,0)) | ... Q23: =IF(OFFSET(IndData!R8,$E$14,0)="","",OFFSET(IndData!R8,$E$14,0))
B24: =IF(OFFSET(IndData!C9,$E$14,0)="","",OFFSET(IndData!C9,$E$14,0)) -> EE | C24: =IF(OFFSET(IndData!D9,$E$14,0)="","",OFFSET(IndData!D9,$E$14,0)) -> Estonia | D24: =IF(OFFSET(IndData!E9,$E$14,0)="","",OFFSET(IndData!E9,$E$14,0)) | E24: =IF(OFFSET(IndData!F9,$E$14,0)="","",OFFSET(IndData!F9,$E$14,0)) | F24: =IF(OFFSET(IndData!G9,$E$14,0)="","",OFFSET(IndData!G9,$E$14,0)) -> 15.8 | G24: =IF(OFFSET(IndData!H9,$E$14,0)="","",OFFSET(IndData!H9,$E$14,0)) | H24: =IF(OFFSET(IndData!I9,$E$14,0)="","",OFFSET(IndData!I9,$E$14,0)) | I24: =IF(OFFSET(IndData!J9,$E$14,0)="","",OFFSET(IndData!J9,$E$14,0)) | ... Q24: =IF(OFFSET(IndData!R9,$E$14,0)="","",OFFSET(IndData!R9,$E$14,0))
B25: =IF(OFFSET(IndData!C10,$E$14,0)="","",OFFSET(IndData!C10,$E$14,0)) -> IE | C25: =IF(OFFSET(IndData!D10,$E$14,0)="","",OFFSET(IndData!D10,$E$14,0)) -> Ireland | D25: =IF(OFFSET(IndData!E10,$E$14,0)="","",OFFSET(IndData!E10,$E$14,0)) | E25: =IF(OFFSET(IndData!F10,$E$14,0)="","",OFFSET(IndData!F10,$E$14,0)) | F25: =IF(OFFSET(IndData!G10,$E$14,0)="","",OFFSET(IndData!G10,$E$14,0)) -> 55.1 | G25: =IF(OFFSET(IndData!H10,$E$14,0)="","",OFFSET(IndData!H10,$E$14,0)) | H25: =IF(OFFSET(IndData!I10,$E$14,0)="","",OFFSET(IndData!I10,$E$14,0)) | I25: =IF(OFFSET(IndData!J10,$E$14,0)="","",OFFSET(IndData!J10,$E$14,0)) | ... Q25: =IF(OFFSET(IndData!R10,$E$14,0)="","",OFFSET(IndData!R10,$E$14,0))
B26: =IF(OFFSET(IndData!C11,$E$14,0)="","",OFFSET(IndData!C11,$E$14,0)) -> EL | C26: =IF(OFFSET(IndData!D11,$E$14,0)="","",OFFSET(IndData!D11,$E$14,0)) -> Greece | D26: =IF(OFFSET(IndData!E11,$E$14,0)="","",OFFSET(IndData!E11,$E$14,0)) | E26: =IF(OFFSET(IndData!F11,$E$14,0)="","",OFFSET(IndData!F11,$E$14,0)) | F26: =IF(OFFSET(IndData!G11,$E$14,0)="","",OFFSET(IndData!G11,$E$14,0)) -> 17.3 | G26: =IF(OFFSET(IndData!H11,$E$14,0)="","",OFFSET(IndData!H11,$E$14,0)) | H26: =IF(OFFSET(IndData!I11,$E$14,0)="","",OFFSET(IndData!I11,$E$14,0)) | I26: =IF(OFFSET(IndData!J11,$E$14,0)="","",OFFSET(IndData!J11,$E$14,0)) | ... Q26: =IF(OFFSET(IndData!R11,$E$14,0)="","",OFFSET(IndData!R11,$E$14,0))
B27: =IF(OFFSET(IndData!C12,$E$14,0)="","",OFFSET(IndData!C12,$E$14,0)) -> ES | C27: =IF(OFFSET(IndData!D12,$E$14,0)="","",OFFSET(IndData!D12,$E$14,0)) -> Spain | D27: =IF(OFFSET(IndData!E12,$E$14,0)="","",OFFSET(IndData!E12,$E$14,0)) | E27: =IF(OFFSET(IndData!F12,$E$14,0)="","",OFFSET(IndData!F12,$E$14,0)) | F27: =IF(OFFSET(IndData!G12,$E$14,0)="","",OFFSET(IndData!G12,$E$14,0)) -> 10.2 | G27: =IF(OFFSET(IndData!H12,$E$14,0)="","",OFFSET(IndData!H12,$E$14,0)) | H27: =IF(OFFSET(IndData!I12,$E$14,0)="","",OFFSET(IndData!I12,$E$14,0)) | I27: =IF(OFFSET(IndData!J12,$E$14,0)="","",OFFSET(IndData!J12,$E$14,0)) | ... Q27: =IF(OFFSET(IndData!R12,$E$14,0)="","",OFFSET(IndData!R12,$E$14,0))
B28: =IF(OFFSET(IndData!C13,$E$14,0)="","",OFFSET(IndData!C13,$E$14,0)) -> FR | C28: =IF(OFFSET(IndData!D13,$E$14,0)="","",OFFSET(IndData!D13,$E$14,0)) -> France | D28: =IF(OFFSET(IndData!E13,$E$14,0)="","",OFFSET(IndData!E13,$E$14,0)) | E28: =IF(OFFSET(IndData!F13,$E$14,0)="","",OFFSET(IndData!F13,$E$14,0)) | F28: =IF(OFFSET(IndData!G13,$E$14,0)="","",OFFSET(IndData!G13,$E$14,0)) -> 13.8 | G28: =IF(OFFSET(IndData!H13,$E$14,0)="","",OFFSET(IndData!H13,$E$14,0)) | H28: =IF(OFFSET(IndData!I13,$E$14,0)="","",OFFSET(IndData!I13,$E$14,0)) | I28: =IF(OFFSET(IndData!J13,$E$14,0)="","",OFFSET(IndData!J13,$E$14,0)) | ... Q28: =IF(OFFSET(IndData!R13,$E$14,0)="","",OFFSET(IndData!R13,$E$14,0))
B29: =IF(OFFSET(IndData!C14,$E$14,0)="","",OFFSET(IndData!C14,$E$14,0)) -> HR | C29: =IF(OFFSET(IndData!D14,$E$14,0)="","",OFFSET(IndData!D14,$E$14,0)) -> Croatia | D29: =IF(OFFSET(IndData!E14,$E$14,0)="","",OFFSET(IndData!E14,$E$14,0)) | E29: =IF(OFFSET(IndData!F14,$E$14,0)="","",OFFSET(IndData!F14,$E$14,0)) | F29: =IF(OFFSET(IndData!G14,$E$14,0)="","",OFFSET(IndData!G14,$E$14,0)) | G29: =IF(OFFSET(IndData!H14,$E$14,0)="","",OFFSET(IndData!H14,$E$14,0)) | H29: =IF(OFFSET(IndData!I14,$E$14,0)="","",OFFSET(IndData!I14,$E$14,0)) | I29: =IF(OFFSET(IndData!J14,$E$14,0)="","",OFFSET(IndData!J14,$E$14,0)) | ... Q29: =IF(OFFSET(IndData!R14,$E$14,0)="","",OFFSET(IndData!R14,$E$14,0))
... B51: =IF(OFFSET(IndData!C36,$E$14,0)="","",OFFSET(IndData!C36,$E$14,0)) -> TR | C51: =IF(OFFSET(IndData!D36,$E$14,0)="","",OFFSET(IndData!D36,$E$14,0)) -> Turkey | D51: =IF(OFFSET(IndData!E36,$E$14,0)="","",OFFSET(IndData!E36,$E$14,0)) | E51: =IF(OFFSET(IndData!F36,$E$14,0)="","",OFFSET(IndData!F36,$E$14,0)) | F51: =IF(OFFSET(IndData!G36,$E$14,0)="","",OFFSET(IndData!G36,$E$14,0)) -> 11.8 | G51: =IF(OFFSET(IndData!H36,$E$14,0)="","",OFFSET(IndData!H36,$E$14,0)) | H51: =IF(OFFSET(IndData!I36,$E$14,0)="","",OFFSET(IndData!I36,$E$14,0)) | I51: =IF(OFFSET(IndData!J36,$E$14,0)="","",OFFSET(IndData!J36,$E$14,0)) | ... Q51: =IF(OFFSET(IndData!R36,$E$14,0)="","",OFFSET(IndData!R36,$E$14,0))
A53: References to sources
B55: Country values and flags are derived from
C56: Source number | D56: Eurostat table | F56: Download date
C57: =IndSources!C36 -> S0224 | D57: =IndSources!D36 -> trng_aes_175 | F57: =IndSources!E36 -> "16 July 2017"
B58: EU28 value derived from the same source.

Sheet Ind1130
A2: Description | D2: Offset | E2: =ROW(IndList!A17)-ROW(IndList!A3) -> 14
B3: Indicator number
C4: =OFFSET(IndList!B3,$E$2,0) -> IND1130
B5: Label
C6: =OFFSET(IndList!C3,$E$2,0) -> Job-related non-formal education and training (%)
B7: Description
C8: =OFFSET(IndList!D3,$E$2,0) -> Non-formal job-related learning activities as % of all non-formal learning activities. The indicator considers activities carried out in the 12 months prior to the survey by adults aged 25-64.
B9: Group
C10: =OFFSET(IndList!E3,$E$2,0) -> Access, attractiveness and flexibility
B11: Source
C12: =OFFSET(IndList!F3,$E$2,0) -> Eurostat, AES
A14: Indicator values and flags | D14: Offset | E14: =ROW(IndData!A479)-ROW(IndData!A3) -> 476
B16: Geographical unit | D16: 2010 | F16: 2011 | H16: 2012 | J16: 2013 | L16: 2014 | N16: 2015 | P16: 2016
D17: Value | E17: Flag | F17: Value | G17: Flag | H17: Value | I17: Flag | J17: Value | K17: Flag | L17: Value | M17: Flag | N17: Value | O17: Flag | P17: Value | Q17: Flag
B18: =IF(OFFSET(IndData!C3,$E$14,0)="","",OFFSET(IndData!C3,$E$14,0)) -> EU28 | C18: =IF(OFFSET(IndData!D3,$E$14,0)="","",OFFSET(IndData!D3,$E$14,0)) | D18: =IF(OFFSET(IndData!E3,$E$14,0)="","",OFFSET(IndData!E3,$E$14,0)) | E18: =IF(OFFSET(IndData!F3,$E$14,0)="","",OFFSET(IndData!F3,$E$14,0)) | F18: =IF(OFFSET(IndData!G3,$E$14,0)="","",OFFSET(IndData!G3,$E$14,0)) -> 80.2 | G18: =IF(OFFSET(IndData!H3,$E$14,0)="","",OFFSET(IndData!H3,$E$14,0)) -> e | H18: =IF(OFFSET(IndData!I3,$E$14,0)="","",OFFSET(IndData!I3,$E$14,0)) | I18: =IF(OFFSET(IndData!J3,$E$14,0)="","",OFFSET(IndData!J3,$E$14,0)) | ... Q18: =IF(OFFSET(IndData!R3,$E$14,0)="","",OFFSET(IndData!R3,$E$14,0))
B19: =IF(OFFSET(IndData!C4,$E$14,0)="","",OFFSET(IndData!C4,$E$14,0)) -> BE | C19: =IF(OFFSET(IndData!D4,$E$14,0)="","",OFFSET(IndData!D4,$E$14,0)) -> Belgium | D19: =IF(OFFSET(IndData!E4,$E$14,0)="","",OFFSET(IndData!E4,$E$14,0)) | E19: =IF(OFFSET(IndData!F4,$E$14,0)="","",OFFSET(IndData!F4,$E$14,0)) | F19: =IF(OFFSET(IndData!G4,$E$14,0)="","",OFFSET(IndData!G4,$E$14,0)) -> 89.3 | G19: =IF(OFFSET(IndData!H4,$E$14,0)="","",OFFSET(IndData!H4,$E$14,0)) | H19: =IF(OFFSET(IndData!I4,$E$14,0)="","",OFFSET(IndData!I4,$E$14,0)) | I19: =IF(OFFSET(IndData!J4,$E$14,0)="","",OFFSET(IndData!J4,$E$14,0)) | ... Q19: =IF(OFFSET(IndData!R4,$E$14,0)="","",OFFSET(IndData!R4,$E$14,0))
B20: =IF(OFFSET(IndData!C5,$E$14,0)="","",OFFSET(IndData!C5,$E$14,0)) -> BG | C20: =IF(OFFSET(IndData!D5,$E$14,0)="","",OFFSET(IndData!D5,$E$14,0)) -> Bulgaria | D20: =IF(OFFSET(IndData!E5,$E$14,0)="","",OFFSET(IndData!E5,$E$14,0)) | E20: =IF(OFFSET(IndData!F5,$E$14,0)="","",OFFSET(IndData!F5,$E$14,0)) | F20: =IF(OFFSET(IndData!G5,$E$14,0)="","",OFFSET(IndData!G5,$E$14,0)) -> 93.6 | G20: =IF(OFFSET(IndData!H5,$E$14,0)="","",OFFSET(IndData!H5,$E$14,0)) | H20: =IF(OFFSET(IndData!I5,$E$14,0)="","",OFFSET(IndData!I5,$E$14,0)) | I20: =IF(OFFSET(IndData!J5,$E$14,0)="","",OFFSET(IndData!J5,$E$14,0)) | ... Q20: =IF(OFFSET(IndData!R5,$E$14,0)="","",OFFSET(IndData!R5,$E$14,0))
B21: =IF(OFFSET(IndData!C6,$E$14,0)="","",OFFSET(IndData!C6,$E$14,0)) -> CZ | C21: =IF(OFFSET(IndData!D6,$E$14,0)="","",OFFSET(IndData!D6,$E$14,0)) -> Czech Republic | D21: =IF(OFFSET(IndData!E6,$E$14,0)="","",OFFSET(IndData!E6,$E$14,0)) | E21: =IF(OFFSET(IndData!F6,$E$14,0)="","",OFFSET(IndData!F6,$E$14,0)) | F21: =IF(OFFSET(IndData!G6,$E$14,0)="","",OFFSET(IndData!G6,$E$14,0)) -> 82.5 | G21: =IF(OFFSET(IndData!H6,$E$14,0)="","",OFFSET(IndData!H6,$E$14,0)) | H21: =IF(OFFSET(IndData!I6,$E$14,0)="","",OFFSET(IndData!I6,$E$14,0)) | I21: =IF(OFFSET(IndData!J6,$E$14,0)="","",OFFSET(IndData!J6,$E$14,0)) | ... Q21: =IF(OFFSET(IndData!R6,$E$14,0)="","",OFFSET(IndData!R6,$E$14,0))
B22: =IF(OFFSET(IndData!C7,$E$14,0)="","",OFFSET(IndData!C7,$E$14,0)) -> DK | C22: =IF(OFFSET(IndData!D7,$E$14,0)="","",OFFSET(IndData!D7,$E$14,0)) -> Denmark | D22: =IF(OFFSET(IndData!E7,$E$14,0)="","",OFFSET(IndData!E7,$E$14,0)) | E22: =IF(OFFSET(IndData!F7,$E$14,0)="","",OFFSET(IndData!F7,$E$14,0)) | F22: =IF(OFFSET(IndData!G7,$E$14,0)="","",OFFSET(IndData!G7,$E$14,0)) -> 83 | G22: =IF(OFFSET(IndData!H7,$E$14,0)="","",OFFSET(IndData!H7,$E$14,0)) | H22: =IF(OFFSET(IndData!I7,$E$14,0)="","",OFFSET(IndData!I7,$E$14,0)) | I22: =IF(OFFSET(IndData!J7,$E$14,0)="","",OFFSET(IndData!J7,$E$14,0)) | ... Q22: =IF(OFFSET(IndData!R7,$E$14,0)="","",OFFSET(IndData!R7,$E$14,0))
B23: =IF(OFFSET(IndData!C8,$E$14,0)="","",OFFSET(IndData!C8,$E$14,0)) -> DE | C23: =IF(OFFSET(IndData!D8,$E$14,0)="","",OFFSET(IndData!D8,$E$14,0)) -> Germany | D23: =IF(OFFSET(IndData!E8,$E$14,0)="","",OFFSET(IndData!E8,$E$14,0)) | E23: =IF(OFFSET(IndData!F8,$E$14,0)="","",OFFSET(IndData!F8,$E$14,0)) | F23: =IF(OFFSET(IndData!G8,$E$14,0)="","",OFFSET(IndData!G8,$E$14,0)) -> 82.9 | G23: =IF(OFFSET(IndData!H8,$E$14,0)="","",OFFSET(IndData!H8,$E$14,0)) | H23: =IF(OFFSET(IndData!I8,$E$14,0)="","",OFFSET(IndData!I8,$E$14,0)) | I23: =IF(OFFSET(IndData!J8,$E$14,0)="","",OFFSET(IndData!J8,$E$14,0)) | ... Q23: =IF(OFFSET(IndData!R8,$E$14,0)="","",OFFSET(IndData!R8,$E$14,0))
B24: =IF(OFFSET(IndData!C9,$E$14,0)="","",OFFSET(IndData!C9,$E$14,0)) -> EE | C24: =IF(OFFSET(IndData!D9,$E$14,0)="","",OFFSET(IndData!D9,$E$14,0)) -> Estonia | D24: =IF(OFFSET(IndData!E9,$E$14,0)="","",OFFSET(IndData!E9,$E$14,0)) | E24: =IF(OFFSET(IndData!F9,$E$14,0)="","",OFFSET(IndData!F9,$E$14,0)) | F24: =IF(OFFSET(IndData!G9,$E$14,0)="","",OFFSET(IndData!G9,$E$14,0)) -> 83.6 | G24: =IF(OFFSET(IndData!H9,$E$14,0)="","",OFFSET(IndData!H9,$E$14,0)) | H24: =IF(OFFSET(IndData!I9,$E$14,0)="","",OFFSET(IndData!I9,$E$14,0)) | I24: =IF(OFFSET(IndData!J9,$E$14,0)="","",OFFSET(IndData!J9,$E$14,0)) | ... Q24: =IF(OFFSET(IndData!R9,$E$14,0)="","",OFFSET(IndData!R9,$E$14,0))
B25: =IF(OFFSET(IndData!C10,$E$14,0)="","",OFFSET(IndData!C10,$E$14,0)) -> IE | C25: =IF(OFFSET(IndData!D10,$E$14,0)="","",OFFSET(IndData!D10,$E$14,0)) -> Ireland | D25: =IF(OFFSET(IndData!E10,$E$14,0)="","",OFFSET(IndData!E10,$E$14,0)) | E25: =IF(OFFSET(IndData!F10,$E$14,0)="","",OFFSET(IndData!F10,$E$14,0)) | F25: =IF(OFFSET(IndData!G10,$E$14,0)="","",OFFSET(IndData!G10,$E$14,0)) -> 86.6 | G25: =IF(OFFSET(IndData!H10,$E$14,0)="","",OFFSET(IndData!H10,$E$14,0)) | H25: =IF(OFFSET(IndData!I10,$E$14,0)="","",OFFSET(IndData!I10,$E$14,0)) | I25: =IF(OFFSET(IndData!J10,$E$14,0)="","",OFFSET(IndData!J10,$E$14,0)) | ... Q25: =IF(OFFSET(IndData!R10,$E$14,0)="","",OFFSET(IndData!R10,$E$14,0))
B26: =IF(OFFSET(IndData!C11,$E$14,0)="","",OFFSET(IndData!C11,$E$14,0)) -> EL | C26: =IF(OFFSET(IndData!D11,$E$14,0)="","",OFFSET(IndData!D11,$E$14,0)) -> Greece | D26: =IF(OFFSET(IndData!E11,$E$14,0)="","",OFFSET(IndData!E11,$E$14,0)) | E26: =IF(OFFSET(IndData!F11,$E$14,0)="","",OFFSET(IndData!F11,$E$14,0)) | F26: =IF(OFFSET(IndData!G11,$E$14,0)="","",OFFSET(IndData!G11,$E$14,0)) -> 71.2 | G26: =IF(OFFSET(IndData!H11,$E$14,0)="","",OFFSET(IndData!H11,$E$14,0)) | H26: =IF(OFFSET(IndData!I11,$E$14,0)="","",OFFSET(IndData!I11,$E$14,0)) | I26: =IF(OFFSET(IndData!J11,$E$14,0)="","",OFFSET(IndData!J11,$E$14,0)) | ... Q26: =IF(OFFSET(IndData!R11,$E$14,0)="","",OFFSET(IndData!R11,$E$14,0))
B27: =IF(OFFSET(IndData!C12,$E$14,0)="","",OFFSET(IndData!C12,$E$14,0)) -> ES | C27: =IF(OFFSET(IndData!D12,$E$14,0)="","",OFFSET(IndData!D12,$E$14,0)) -> Spain | D27: =IF(OFFSET(IndData!E12,$E$14,0)="","",OFFSET(IndData!E12,$E$14,0)) | E27: =IF(OFFSET(IndData!F12,$E$14,0)="","",OFFSET(IndData!F12,$E$14,0)) | F27: =IF(OFFSET(IndData!G12,$E$14,0)="","",OFFSET(IndData!G12,$E$14,0)) -> 82.5 | G27: =IF(OFFSET(IndData!H12,$E$14,0)="","",OFFSET(IndData!H12,$E$14,0)) | H27: =IF(OFFSET(IndData!I12,$E$14,0)="","",OFFSET(IndData!I12,$E$14,0)) | I27: =IF(OFFSET(IndData!J12,$E$14,0)="","",OFFSET(IndData!J12,$E$14,0)) | ... Q27: =IF(OFFSET(IndData!R12,$E$14,0)="","",OFFSET(IndData!R12,$E$14,0))
B28: =IF(OFFSET(IndData!C13,$E$14,0)="","",OFFSET(IndData!C13,$E$14,0)) -> FR | C28: =IF(OFFSET(IndData!D13,$E$14,0)="","",OFFSET(IndData!D13,$E$14,0)) -> France | D28: =IF(OFFSET(IndData!E13,$E$14,0)="","",OFFSET(IndData!E13,$E$14,0)) | E28: =IF(OFFSET(IndData!F13,$E$14,0)="","",OFFSET(IndData!F13,$E$14,0)) | F28: =IF(OFFSET(IndData!G13,$E$14,0)="","",OFFSET(IndData!G13,$E$14,0)) -> 74.9 | G28: =IF(OFFSET(IndData!H13,$E$14,0)="","",OFFSET(IndData!H13,$E$14,0)) -> b | H28: =IF(OFFSET(IndData!I13,$E$14,0)="","",OFFSET(IndData!I13,$E$14,0)) | I28: =IF(OFFSET(IndData!J13,$E$14,0)="","",OFFSET(IndData!J13,$E$14,0)) | ... Q28: =IF(OFFSET(IndData!R13,$E$14,0)="","",OFFSET(IndData!R13,$E$14,0))
B29: =IF(OFFSET(IndData!C14,$E$14,0)="","",OFFSET(IndData!C14,$E$14,0)) -> HR | C29: =IF(OFFSET(IndData!D14,$E$14,0)="","",OFFSET(IndData!D14,$E$14,0)) -> Croatia | D29: =IF(OFFSET(IndData!E14,$E$14,0)="","",OFFSET(IndData!E14,$E$14,0)) | E29: =IF(OFFSET(IndData!F14,$E$14,0)="","",OFFSET(IndData!F14,$E$14,0)) | F29: =IF(OFFSET(IndData!G14,$E$14,0)="","",OFFSET(IndData!G14,$E$14,0)) | G29: =IF(OFFSET(IndData!H14,$E$14,0)="","",OFFSET(IndData!H14,$E$14,0)) | H29: =IF(OFFSET(IndData!I14,$E$14,0)="","",OFFSET(IndData!I14,$E$14,0)) | I29: =IF(OFFSET(IndData!J14,$E$14,0)="","",OFFSET(IndData!J14,$E$14,0)) | ... Q29: =IF(OFFSET(IndData!R14,$E$14,0)="","",OFFSET(IndData!R14,$E$14,0))
... B51: =IF(OFFSET(IndData!C36,$E$14,0)="","",OFFSET(IndData!C36,$E$14,0)) -> TR | C51: =IF(OFFSET(IndData!D36,$E$14,0)="","",OFFSET(IndData!D36,$E$14,0)) -> Turkey | D51: =IF(OFFSET(IndData!E36,$E$14,0)="","",OFFSET(IndData!E36,$E$14,0)) | E51: =IF(OFFSET(IndData!F36,$E$14,0)="","",OFFSET(IndData!F36,$E$14,0)) | F51: =IF(OFFSET(IndData!G36,$E$14,0)="","",OFFSET(IndData!G36,$E$14,0)) -> 68.8 | G51: =IF(OFFSET(IndData!H36,$E$14,0)="","",OFFSET(IndData!H36,$E$14,0)) | H51: =IF(OFFSET(IndData!I36,$E$14,0)="","",OFFSET(IndData!I36,$E$14,0)) | I51: =IF(OFFSET(IndData!J36,$E$14,0)="","",OFFSET(IndData!J36,$E$14,0)) | ... Q51: =IF(OFFSET(IndData!R36,$E$14,0)="","",OFFSET(IndData!R36,$E$14,0))
A53: References to sources
B55: Country values and flags are derived from
C56: Source number | D56: Eurostat table | F56: Download date
C57: =IndSources!C37 -> S0225 | D57: =IndSources!D37 -> trng_aes_188 | F57: =IndSources!E37 -> "18 July 2017"
B58: EU28 value derived from the same source.

Sheet Ind2010
A2: Description | D2: Offset | E2: =ROW(IndList!A18)-ROW(IndList!A3) -> 15
B3: Indicator number
C4: =OFFSET(IndList!B3,$E$2,0) -> IND2010
B5: Label
C6: =OFFSET(IndList!C3,$E$2,0) -> IVET public expenditure (% of GDP)
B7: Description
C8: =OFFSET(IndList!D3,$E$2,0) -> Annual public expenditure on vocational education at upper secondary and post-secondary level (ISCED 3 and 4) as a percentage of GDP.
B9: Group
C10: =OFFSET(IndList!E3,$E$2,0) -> Skill development and labour market relevance
B11: Source
C12: =OFFSET(IndList!F3,$E$2,0) -> Eurostat, UOE
A14: Indicator values and flags | D14: Offset | E14: =ROW(IndData!A513)-ROW(IndData!A3) -> 510
B16: Geographical unit | D16: 2010 | F16: 2011 | H16: 2012 | J16: 2013 | L16: 2014 | N16: 2015 | P16: 2016
D17: Value | E17: Flag | F17: Value | G17: Flag | H17: Value | I17: Flag | J17: Value | K17: Flag | L17: Value | M17: Flag | N17: Value | O17: Flag | P17: Value | Q17: Flag
B18: =IF(OFFSET(IndData!C3,$E$14,0)="","",OFFSET(IndData!C3,$E$14,0)) -> EU28 | C18: =IF(OFFSET(IndData!D3,$E$14,0)="","",OFFSET(IndData!D3,$E$14,0)) | D18: =IF(OFFSET(IndData!E3,$E$14,0)="","",OFFSET(IndData!E3,$E$14,0)) | E18: =IF(OFFSET(IndData!F3,$E$14,0)="","",OFFSET(IndData!F3,$E$14,0)) | F18: =IF(OFFSET(IndData!G3,$E$14,0)="","",OFFSET(IndData!G3,$E$14,0)) | G18: =IF(OFFSET(IndData!H3,$E$14,0)="","",OFFSET(IndData!H3,$E$14,0)) | H18: =IF(OFFSET(IndData!I3,$E$14,0)="","",OFFSET(IndData!I3,$E$14,0)) -> 0.58250602 | I18: =IF(OFFSET(IndData!J3,$E$14,0)="","",OFFSET(IndData!J3,$E$14,0)) -> Calculated | ... Q18: =IF(OFFSET(IndData!R3,$E$14,0)="","",OFFSET(IndData!R3,$E$14,0))
B19: =IF(OFFSET(IndData!C4,$E$14,0)="","",OFFSET(IndData!C4,$E$14,0)) -> BE | C19: =IF(OFFSET(IndData!D4,$E$14,0)="","",OFFSET(IndData!D4,$E$14,0)) -> Belgium | D19: =IF(OFFSET(IndData!E4,$E$14,0)="","",OFFSET(IndData!E4,$E$14,0)) | E19: =IF(OFFSET(IndData!F4,$E$14,0)="","",OFFSET(IndData!F4,$E$14,0)) | F19: =IF(OFFSET(IndData!G4,$E$14,0)="","",OFFSET(IndData!G4,$E$14,0)) | G19: =IF(OFFSET(IndData!H4,$E$14,0)="","",OFFSET(IndData!H4,$E$14,0)) | H19: =IF(OFFSET(IndData!I4,$E$14,0)="","",OFFSET(IndData!I4,$E$14,0)) -> 1.15 | I19: =IF(OFFSET(IndData!J4,$E$14,0)="","",OFFSET(IndData!J4,$E$14,0)) | ... Q19: =IF(OFFSET(IndData!R4,$E$14,0)="","",OFFSET(IndData!R4,$E$14,0))
B20: =IF(OFFSET(IndData!C5,$E$14,0)="","",OFFSET(IndData!C5,$E$14,0)) -> BG | C20: =IF(OFFSET(IndData!D5,$E$14,0)="","",OFFSET(IndData!D5,$E$14,0)) -> Bulgaria | D20: =IF(OFFSET(IndData!E5,$E$14,0)="","",OFFSET(IndData!E5,$E$14,0)) | E20: =IF(OFFSET(IndData!F5,$E$14,0)="","",OFFSET(IndData!F5,$E$14,0)) | F20: =IF(OFFSET(IndData!G5,$E$14,0)="","",OFFSET(IndData!G5,$E$14,0)) | G20: =IF(OFFSET(IndData!H5,$E$14,0)="","",OFFSET(IndData!H5,$E$14,0)) | H20: =IF(OFFSET(IndData!I5,$E$14,0)="","",OFFSET(IndData!I5,$E$14,0)) -> 0.44 | I20: =IF(OFFSET(IndData!J5,$E$14,0)="","",OFFSET(IndData!J5,$E$14,0)) | ... Q20: =IF(OFFSET(IndData!R5,$E$14,0)="","",OFFSET(IndData!R5,$E$14,0))
B21: =IF(OFFSET(IndData!C6,$E$14,0)="","",OFFSET(IndData!C6,$E$14,0)) -> CZ | C21: =IF(OFFSET(IndData!D6,$E$14,0)="","",OFFSET(IndData!D6,$E$14,0)) -> Czech Republic | D21: =IF(OFFSET(IndData!E6,$E$14,0)="","",OFFSET(IndData!E6,$E$14,0)) | E21: =IF(OFFSET(IndData!F6,$E$14,0)="","",OFFSET(IndData!F6,$E$14,0)) | F21: =IF(OFFSET(IndData!G6,$E$14,0)="","",OFFSET(IndData!G6,$E$14,0)) | G21: =IF(OFFSET(IndData!H6,$E$14,0)="","",OFFSET(IndData!H6,$E$14,0)) | H21: =IF(OFFSET(IndData!I6,$E$14,0)="","",OFFSET(IndData!I6,$E$14,0)) -> 0.8 | I21: =IF(OFFSET(IndData!J6,$E$14,0)="","",OFFSET(IndData!J6,$E$14,0)) | ... Q21: =IF(OFFSET(IndData!R6,$E$14,0)="","",OFFSET(IndData!R6,$E$14,0))
B22: =IF(OFFSET(IndData!C7,$E$14,0)="","",OFFSET(IndData!C7,$E$14,0)) -> DK | C22: =IF(OFFSET(IndData!D7,$E$14,0)="","",OFFSET(IndData!D7,$E$14,0)) -> Denmark | D22: =IF(OFFSET(IndData!E7,$E$14,0)="","",OFFSET(IndData!E7,$E$14,0)) | E22: =IF(OFFSET(IndData!F7,$E$14,0)="","",OFFSET(IndData!F7,$E$14,0)) | F22: =IF(OFFSET(IndData!G7,$E$14,0)="","",OFFSET(IndData!G7,$E$14,0)) | G22: =IF(OFFSET(IndData!H7,$E$14,0)="","",OFFSET(IndData!H7,$E$14,0)) | H22: =IF(OFFSET(IndData!I7,$E$14,0)="","",OFFSET(IndData!I7,$E$14,0)) | I22: =IF(OFFSET(IndData!J7,$E$14,0)="","",OFFSET(IndData!J7,$E$14,0)) | ... Q22: =IF(OFFSET(IndData!R7,$E$14,0)="","",OFFSET(IndData!R7,$E$14,0))
B23: =IF(OFFSET(IndData!C8,$E$14,0)="","",OFFSET(IndData!C8,$E$14,0)) -> DE | C23: =IF(OFFSET(IndData!D8,$E$14,0)="","",OFFSET(IndData!D8,$E$14,0)) -> Germany | D23: =IF(OFFSET(IndData!E8,$E$14,0)="","",OFFSET(IndData!E8,$E$14,0)) | E23: =IF(OFFSET(IndData!F8,$E$14,0)="","",OFFSET(IndData!F8,$E$14,0)) | F23: =IF(OFFSET(IndData!G8,$E$14,0)="","",OFFSET(IndData!G8,$E$14,0)) | G23: =IF(OFFSET(IndData!H8,$E$14,0)="","",OFFSET(IndData!H8,$E$14,0)) | H23: =IF(OFFSET(IndData!I8,$E$14,0)="","",OFFSET(IndData!I8,$E$14,0)) -> 0.6 | I23: =IF(OFFSET(IndData!J8,$E$14,0)="","",OFFSET(IndData!J8,$E$14,0)) | ... Q23: =IF(OFFSET(IndData!R8,$E$14,0)="","",OFFSET(IndData!R8,$E$14,0))
B24: =IF(OFFSET(IndData!C9,$E$14,0)="","",OFFSET(IndData!C9,$E$14,0)) -> EE | C24: =IF(OFFSET(IndData!D9,$E$14,0)="","",OFFSET(IndData!D9,$E$14,0)) -> Estonia | D24: =IF(OFFSET(IndData!E9,$E$14,0)="","",OFFSET(IndData!E9,$E$14,0)) | E24: =IF(OFFSET(IndData!F9,$E$14,0)="","",OFFSET(IndData!F9,$E$14,0)) | F24: =IF(OFFSET(IndData!G9,$E$14,0)="","",OFFSET(IndData!G9,$E$14,0)) | G24: =IF(OFFSET(IndData!H9,$E$14,0)="","",OFFSET(IndData!H9,$E$14,0)) | H24: =IF(OFFSET(IndData!I9,$E$14,0)="","",OFFSET(IndData!I9,$E$14,0)) -> 0.64 | I24: =IF(OFFSET(IndData!J9,$E$14,0)="","",OFFSET(IndData!J9,$E$14,0)) | ... Q24: =IF(OFFSET(IndData!R9,$E$14,0)="","",OFFSET(IndData!R9,$E$14,0))
B25: =IF(OFFSET(IndData!C10,$E$14,0)="","",OFFSET(IndData!C10,$E$14,0)) -> IE | C25: =IF(OFFSET(IndData!D10,$E$14,0)="","",OFFSET(IndData!D10,$E$14,0)) -> Ireland | D25: =IF(OFFSET(IndData!E10,$E$14,0)="","",OFFSET(IndData!E10,$E$14,0)) | E25: =IF(OFFSET(IndData!F10,$E$14,0)="","",OFFSET(IndData!F10,$E$14,0)) | F25: =IF(OFFSET(IndData!G10,$E$14,0)="","",OFFSET(IndData!G10,$E$14,0)) | G25: =IF(OFFSET(IndData!H10,$E$14,0)="","",OFFSET(IndData!H10,$E$14,0)) | H25: =IF(OFFSET(IndData!I10,$E$14,0)="","",OFFSET(IndData!I10,$E$14,0)) | I25: =IF(OFFSET(IndData!J10,$E$14,0)="","",OFFSET(IndData!J10,$E$14,0)) -> d | ... Q25: =IF(OFFSET(IndData!R10,$E$14,0)="","",OFFSET(IndData!R10,$E$14,0))
B26: =IF(OFFSET(IndData!C11,$E$14,0)="","",OFFSET(IndData!C11,$E$14,0)) -> EL | C26: =IF(OFFSET(IndData!D11,$E$14,0)="","",OFFSET(IndData!D11,$E$14,0)) -> Greece | D26: =IF(OFFSET(IndData!E11,$E$14,0)="","",OFFSET(IndData!E11,$E$14,0)) | E26: =IF(OFFSET(IndData!F11,$E$14,0)="","",OFFSET(IndData!F11,$E$14,0)) | F26: =IF(OFFSET(IndData!G11,$E$14,0)="","",OFFSET(IndData!G11,$E$14,0)) | G26: =IF(OFFSET(IndData!H11,$E$14,0)="","",OFFSET(IndData!H11,$E$14,0)) | H26: =IF(OFFSET(IndData!I11,$E$14,0)="","",OFFSET(IndData!I11,$E$14,0)) | I26: =IF(OFFSET(IndData!J11,$E$14,0)="","",OFFSET(IndData!J11,$E$14,0)) | ... Q26: =IF(OFFSET(IndData!R11,$E$14,0)="","",OFFSET(IndData!R11,$E$14,0))
B27: =IF(OFFSET(IndData!C12,$E$14,0)="","",OFFSET(IndData!C12,$E$14,0)) -> ES | C27: =IF(OFFSET(IndData!D12,$E$14,0)="","",OFFSET(IndData!D12,$E$14,0)) -> Spain | D27: =IF(OFFSET(IndData!E12,$E$14,0)="","",OFFSET(IndData!E12,$E$14,0)) | E27: =IF(OFFSET(IndData!F12,$E$14,0)="","",OFFSET(IndData!F12,$E$14,0)) | F27: =IF(OFFSET(IndData!G12,$E$14,0)="","",OFFSET(IndData!G12,$E$14,0)) | G27: =IF(OFFSET(IndData!H12,$E$14,0)="","",OFFSET(IndData!H12,$E$14,0)) | H27: =IF(OFFSET(IndData!I12,$E$14,0)="","",OFFSET(IndData!I12,$E$14,0)) -> 0.34 | I27: =IF(OFFSET(IndData!J12,$E$14,0)="","",OFFSET(IndData!J12,$E$14,0)) | ... Q27: =IF(OFFSET(IndData!R12,$E$14,0)="","",OFFSET(IndData!R12,$E$14,0))
B28: =IF(OFFSET(IndData!C13,$E$14,0)="","",OFFSET(IndData!C13,$E$14,0)) -> FR | C28: =IF(OFFSET(IndData!D13,$E$14,0)="","",OFFSET(IndData!D13,$E$14,0)) -> France | D28: =IF(OFFSET(IndData!E13,$E$14,0)="","",OFFSET(IndData!E13,$E$14,0)) | E28: =IF(OFFSET(IndData!F13,$E$14,0)="","",OFFSET(IndData!F13,$E$14,0)) | F28: =IF(OFFSET(IndData!G13,$E$14,0)="","",OFFSET(IndData!G13,$E$14,0)) | G28: =IF(OFFSET(IndData!H13,$E$14,0)="","",OFFSET(IndData!H13,$E$14,0)) | H28: =IF(OFFSET(IndData!I13,$E$14,0)="","",OFFSET(IndData!I13,$E$14,0)) | I28: =IF(OFFSET(IndData!J13,$E$14,0)="","",OFFSET(IndData!J13,$E$14,0)) | ... Q28: =IF(OFFSET(IndData!R13,$E$14,0)="","",OFFSET(IndData!R13,$E$14,0))
B29: =IF(OFFSET(IndData!C14,$E$14,0)="","",OFFSET(IndData!C14,$E$14,0)) -> HR | C29: =IF(OFFSET(IndData!D14,$E$14,0)="","",OFFSET(IndData!D14,$E$14,0)) -> Croatia | D29: =IF(OFFSET(IndData!E14,$E$14,0)="","",OFFSET(IndData!E14,$E$14,0)) | E29: =IF(OFFSET(IndData!F14,$E$14,0)="","",OFFSET(IndData!F14,$E$14,0)) | F29: =IF(OFFSET(IndData!G14,$E$14,0)="","",OFFSET(IndData!G14,$E$14,0)) | G29: =IF(OFFSET(IndData!H14,$E$14,0)="","",OFFSET(IndData!H14,$E$14,0)) | H29: =IF(OFFSET(IndData!I14,$E$14,0)="","",OFFSET(IndData!I14,$E$14,0)) | I29: =IF(OFFSET(IndData!J14,$E$14,0)="","",OFFSET(IndData!J14,$E$14,0)) | ... Q29: =IF(OFFSET(IndData!R14,$E$14,0)="","",OFFSET(IndData!R14,$E$14,0))
... B51: =IF(OFFSET(IndData!C36,$E$14,0)="","",OFFSET(IndData!C36,$E$14,0)) -> TR | C51: =IF(OFFSET(IndData!D36,$E$14,0)="","",OFFSET(IndData!D36,$E$14,0)) -> Turkey | D51: =IF(OFFSET(IndData!E36,$E$14,0)="","",OFFSET(IndData!E36,$E$14,0)) | E51: =IF(OFFSET(IndData!F36,$E$14,0)="","",OFFSET(IndData!F36,$E$14,0)) | F51: =IF(OFFSET(IndData!G36,$E$14,0)="","",OFFSET(IndData!G36,$E$14,0)) | G51: =IF(OFFSET(IndData!H36,$E$14,0)="","",OFFSET(IndData!H36,$E$14,0)) | H51: =IF(OFFSET(IndData!I36,$E$14,0)="","",OFFSET(IndData!I36,$E$14,0)) -> 0.45 | I51: =IF(OFFSET(IndData!J36,$E$14,0)="","",OFFSET(IndData!J36,$E$14,0)) | ... Q51: =IF(OFFSET(IndData!R36,$E$14,0)="","",OFFSET(IndData!R36,$E$14,0))
A53: References to sources
B55: Country values and flags are derived from
C56: Source number | D56: Eurostat table | F56: Download date
C57: =IndSources!C38 -> S0149 | D57: =IndSources!D38 -> educ_uoe_fine06 | F57: =IndSources!E38 -> "7 July 2017" | I57: EXPpc
B58: EU28 value calculated by Cedefop from the same source plus the source
C59: Source number | D59: Eurostat table | F59: Download date
C60: =IndSources!J3 -> S0206 | D60: =IndSources!K3 -> nama_10_gdp | F60: =IndSources!L3 -> "7 July 2017" | I60: GDPpc
A62: Further specification
B64: EXPpc is the indicator value (expenditure as percentage of GDP).
B65: GDPpc is a "gross domestic product" measure. It is only needed as a weight to calculate an EU aggregate value from the country indicator values.
B67: A | C67: Indicator values and flags for individual countries:
C68: 1 | D68: The 2012 to 2014 values and flags for the 33 countries are derived from source S0149.
C69: 2 | D69: Case DK:
D70: a | E70: Data:
F71: Value | G71: Flag
E72: 2012 | F72: 0
E73: 2013 | G73: d
E74: 2014
E75: Comment:
F76: It is difficult to make sense of this sequence. Why a 0 in 2012 but empty cells in 2013 and 2014? What is the role of the "d" flag, given that the sequence contains no interpretable data?
F77: Note: the 0 in 2012 appears meaningless, as DK has a well-established system of IVET (see, for example, indicator 1010).
D78: b | E78: Indicator values null, no flags.
C79: 3 | D79: Case IE:
D80: a | E80: 2012: | F80: missing, with "d" ("definition differs, see metadata") flag.
E81: 2013 and 2014: data available (no flags).
D82: b | E82: 2012: | F82: null, flag "d".
E83: (2013 and 2014 as main case)
C84: 4 | D84: Case EL:
D85: a | E85: No data (and no flags).
D86: b | E86: Indicator values null, no flags.
C87: 5 | D87: Case FR:
D88: a | E88: 2012: | F88: missing, no flag.
E89: 2013 and 2014: data available (no flags).
D90: b | E90: 2012: | F90: null, no flag.
E91: (2013 and 2014 as main case)
C92: 6 | D92: Case HR:
D93: a | E93: No data (and no flags).
D94: b | E94: Indicator values null, no flags.
C95: 7 | D95: Case IT:
D96: a | E96: No data (and no flags).
D97: b | E97: Indicator values null, no flags.
C98: 8 | D98: Case PL:
D99: a | E99: 2012 and 2013: data available, no flags.
E100: 2014: | F100: data available, "d" flag.
D101: b | E101: (2012 and 2013 as main case)
E102: 2014: | F102: indicator value with flag "d".
C103: 9 | D103: Case PT:
D104: a | E104: No data; flag "d" ("definition differs, see metadata") in 2014.
E105: Comment:
F106: it is difficult to make sense of the "d" flag (attached to latest missing value in a row of three).
D107: b | E107: Indicator values null, no flags.
C108: 10 | D108: Case SK:
D109: a | E109: 2012 | F109: data available, "d" flag.
E110: 2013 and 2014: data available, no flags.
D111: b | E111: 2012: | F111: indicator value with flag "d".
E112: (2013 and 2014 as main case)
C113: 11 | D113: Case MK:
D114: a | E114: No data (and no flags).
D115: b | E115: Indicator values null, no flags.
C116: 12 | D116: Case NO:
D117: a | E117: Data:
F118: Value | G118: Flag
E119: 2012 | G119: d
E120: 2013 | F120: 0 | G120: d
E121: 2014 | F121: 0.7
E122: Comment:
F123: Note: the 0 in 2013 appears meaningless, as NO has a well-established system of IVET (see, for example, indicator 1010).
D124: b | E124: 2012 and 2013: null, flag "d".
E125: (2014 as main case)
B126: B | C126: Time series of indicator values for "EU28":
C127: 1 | D127: The EU28 indicator value is estimated as a weighted average of the country indicator values.
D128: The weight of a country is a measure of the gross domestic product (expressed as a percentage of the EU gross domestic product) (GDPpc, source S0206).
C129: 2 | D129: The indicator time series are empty for 5 countries (DK, EL, HR, IT, PT).
...

Sheet Ind2025
A2: Description | D2: Offset | E2: =ROW(IndList!A19)-ROW(IndList!A3) -> 16
B3: Indicator number
C4: =OFFSET(IndList!B3,$E$2,0) -> IND2025b
B5: Label
C6: =OFFSET(IndList!C3,$E$2,0) -> IVET public expenditure per student (1000 PPS units)
B7: Description
C8: =OFFSET(IndList!D3,$E$2,0) -> Annual public expenditure (PPS) per student (FTE) in vocational upper secondary or post-secondary non-tertiary education (ISCED 3 and 4) in purchasing parity standard units (PPS) per student enrolled. The number of students enrolled used for the calculations is adjusted to the coverage of expenditure data and expressed in full-time equivalent (FTE).
B9: Group
C10: =OFFSET(IndList!E3,$E$2,0) -> Skill development and labour market relevance
B11: Source
C12: =OFFSET(IndList!F3,$E$2,0) -> Eurostat, UOE
A14: Indicator values and flags | D14: Offset | E14: =ROW(IndData!A547)-ROW(IndData!A3) -> 544
B16: Geographical unit | D16: 2010 | F16: 2011 | H16: 2012 | J16: 2013 | L16: 2014 | N16: 2015 | P16: 2016
D17: Value | E17: Flag | F17: Value | G17: Flag | H17: Value | I17: Flag | J17: Value | K17: Flag | L17: Value | M17: Flag | N17: Value | O17: Flag | P17: Value | Q17: Flag
B18: =IF(OFFSET(IndData!C3,$E$14,0)="","",OFFSET(IndData!C3,$E$14,0)) -> EU28 | C18: =IF(OFFSET(IndData!D3,$E$14,0)="","",OFFSET(IndData!D3,$E$14,0)) | D18: =IF(OFFSET(IndData!E3,$E$14,0)="","",OFFSET(IndData!E3,$E$14,0)) | E18: =IF(OFFSET(IndData!F3,$E$14,0)="","",OFFSET(IndData!F3,$E$14,0)) | F18: =IF(OFFSET(IndData!G3,$E$14,0)="","",OFFSET(IndData!G3,$E$14,0)) | G18: =IF(OFFSET(IndData!H3,$E$14,0)="","",OFFSET(IndData!H3,$E$14,0)) | H18: =IF(OFFSET(IndData!I3,$E$14,0)="","",OFFSET(IndData!I3,$E$14,0)) -> 5.7001987 | I18: =IF(OFFSET(IndData!J3,$E$14,0)="","",OFFSET(IndData!J3,$E$14,0)) -> Calculated | ... Q18: =IF(OFFSET(IndData!R3,$E$14,0)="","",OFFSET(IndData!R3,$E$14,0))
B19: =IF(OFFSET(IndData!C4,$E$14,0)="","",OFFSET(IndData!C4,$E$14,0)) -> BE | C19: =IF(OFFSET(IndData!D4,$E$14,0)="","",OFFSET(IndData!D4,$E$14,0)) -> Belgium | D19: =IF(OFFSET(IndData!E4,$E$14,0)="","",OFFSET(IndData!E4,$E$14,0)) | E19: =IF(OFFSET(IndData!F4,$E$14,0)="","",OFFSET(IndData!F4,$E$14,0)) | F19: =IF(OFFSET(IndData!G4,$E$14,0)="","",OFFSET(IndData!G4,$E$14,0)) | G19: =IF(OFFSET(IndData!H4,$E$14,0)="","",OFFSET(IndData!H4,$E$14,0)) | H19: =IF(OFFSET(IndData!I4,$E$14,0)="","",OFFSET(IndData!I4,$E$14,0)) -> 4.7333 | I19: =IF(OFFSET(IndData!J4,$E$14,0)="","",OFFSET(IndData!J4,$E$14,0)) | ... Q19: =IF(OFFSET(IndData!R4,$E$14,0)="","",OFFSET(IndData!R4,$E$14,0))
B20: =IF(OFFSET(IndData!C5,$E$14,0)="","",OFFSET(IndData!C5,$E$14,0)) -> BG | C20: =IF(OFFSET(IndData!D5,$E$14,0)="","",OFFSET(IndData!D5,$E$14,0)) -> Bulgaria | D20: =IF(OFFSET(IndData!E5,$E$14,0)="","",OFFSET(IndData!E5,$E$14,0)) | E20: =IF(OFFSET(IndData!F5,$E$14,0)="","",OFFSET(IndData!F5,$E$14,0)) | F20: =IF(OFFSET(IndData!G5,$E$14,0)="","",OFFSET(IndData!G5,$E$14,0)) | G20: =IF(OFFSET(IndData!H5,$E$14,0)="","",OFFSET(IndData!H5,$E$14,0)) | H20: =IF(OFFSET(IndData!I5,$E$14,0)="","",OFFSET(IndData!I5,$E$14,0)) -> 2.6525 | I20: =IF(OFFSET(IndData!J5,$E$14,0)="","",OFFSET(IndData!J5,$E$14,0)) | ... Q20: =IF(OFFSET(IndData!R5,$E$14,0)="","",OFFSET(IndData!R5,$E$14,0))
B21: =IF(OFFSET(IndData!C6,$E$14,0)="","",OFFSET(IndData!C6,$E$14,0)) -> CZ | C21: =IF(OFFSET(IndData!D6,$E$14,0)="","",OFFSET(IndData!D6,$E$14,0)) -> Czech Republic | D21: =IF(OFFSET(IndData!E6,$E$14,0)="","",OFFSET(IndData!E6,$E$14,0)) | E21: =IF(OFFSET(IndData!F6,$E$14,0)="","",OFFSET(IndData!F6,$E$14,0)) | F21: =IF(OFFSET(IndData!G6,$E$14,0)="","",OFFSET(IndData!G6,$E$14,0)) | G21: =IF(OFFSET(IndData!H6,$E$14,0)="","",OFFSET(IndData!H6,$E$14,0)) | H21: =IF(OFFSET(IndData!I6,$E$14,0)="","",OFFSET(IndData!I6,$E$14,0)) -> 5.1183 | I21: =IF(OFFSET(IndData!J6,$E$14,0)="","",OFFSET(IndData!J6,$E$14,0)) | ... Q21: =IF(OFFSET(IndData!R6,$E$14,0)="","",OFFSET(IndData!R6,$E$14,0))
B22: =IF(OFFSET(IndData!C7,$E$14,0)="","",OFFSET(IndData!C7,$E$14,0)) -> DK | C22: =IF(OFFSET(IndData!D7,$E$14,0)="","",OFFSET(IndData!D7,$E$14,0)) -> Denmark | D22: =IF(OFFSET(IndData!E7,$E$14,0)="","",OFFSET(IndData!E7,$E$14,0)) | E22: =IF(OFFSET(IndData!F7,$E$14,0)="","",OFFSET(IndData!F7,$E$14,0)) | F22: =IF(OFFSET(IndData!G7,$E$14,0)="","",OFFSET(IndData!G7,$E$14,0)) | G22: =IF(OFFSET(IndData!H7,$E$14,0)="","",OFFSET(IndData!H7,$E$14,0)) | H22: =IF(OFFSET(IndData!I7,$E$14,0)="","",OFFSET(IndData!I7,$E$14,0)) | I22: =IF(OFFSET(IndData!J7,$E$14,0)="","",OFFSET(IndData!J7,$E$14,0)) | ... Q22: =IF(OFFSET(IndData!R7,$E$14,0)="","",OFFSET(IndData!R7,$E$14,0))
B23: =IF(OFFSET(IndData!C8,$E$14,0)="","",OFFSET(IndData!C8,$E$14,0)) -> DE | C23: =IF(OFFSET(IndData!D8,$E$14,0)="","",OFFSET(IndData!D8,$E$14,0)) -> Germany | D23: =IF(OFFSET(IndData!E8,$E$14,0)="","",OFFSET(IndData!E8,$E$14,0)) | E23: =IF(OFFSET(IndData!F8,$E$14,0)="","",OFFSET(IndData!F8,$E$14,0)) | F23: =IF(OFFSET(IndData!G8,$E$14,0)="","",OFFSET(IndData!G8,$E$14,0)) | G23: =IF(OFFSET(IndData!H8,$E$14,0)="","",OFFSET(IndData!H8,$E$14,0)) | H23: =IF(OFFSET(IndData!I8,$E$14,0)="","",OFFSET(IndData!I8,$E$14,0)) -> 7.3209 | I23: =IF(OFFSET(IndData!J8,$E$14,0)="","",OFFSET(IndData!J8,$E$14,0)) | ... Q23: =IF(OFFSET(IndData!R8,$E$14,0)="","",OFFSET(IndData!R8,$E$14,0))
B24: =IF(OFFSET(IndData!C9,$E$14,0)="","",OFFSET(IndData!C9,$E$14,0)) -> EE | C24: =IF(OFFSET(IndData!D9,$E$14,0)="","",OFFSET(IndData!D9,$E$14,0)) -> Estonia | D24: =IF(OFFSET(IndData!E9,$E$14,0)="","",OFFSET(IndData!E9,$E$14,0)) | E24: =IF(OFFSET(IndData!F9,$E$14,0)="","",OFFSET(IndData!F9,$E$14,0)) | F24: =IF(OFFSET(IndData!G9,$E$14,0)="","",OFFSET(IndData!G9,$E$14,0)) | G24: =IF(OFFSET(IndData!H9,$E$14,0)="","",OFFSET(IndData!H9,$E$14,0)) | H24: =IF(OFFSET(IndData!I9,$E$14,0)="","",OFFSET(IndData!I9,$E$14,0)) -> 6.1645 | I24: =IF(OFFSET(IndData!J9,$E$14,0)="","",OFFSET(IndData!J9,$E$14,0)) | ... Q24: =IF(OFFSET(IndData!R9,$E$14,0)="","",OFFSET(IndData!R9,$E$14,0))
B25: =IF(OFFSET(IndData!C10,$E$14,0)="","",OFFSET(IndData!C10,$E$14,0)) -> IE | C25: =IF(OFFSET(IndData!D10,$E$14,0)="","",OFFSET(IndData!D10,$E$14,0)) -> Ireland | D25: =IF(OFFSET(IndData!E10,$E$14,0)="","",OFFSET(IndData!E10,$E$14,0)) | E25: =IF(OFFSET(IndData!F10,$E$14,0)="","",OFFSET(IndData!F10,$E$14,0)) | F25: =IF(OFFSET(IndData!G10,$E$14,0)="","",OFFSET(IndData!G10,$E$14,0)) | G25: =IF(OFFSET(IndData!H10,$E$14,0)="","",OFFSET(IndData!H10,$E$14,0)) | H25: =IF(OFFSET(IndData!I10,$E$14,0)="","",OFFSET(IndData!I10,$E$14,0)) | I25: =IF(OFFSET(IndData!J10,$E$14,0)="","",OFFSET(IndData!J10,$E$14,0)) | ... Q25: =IF(OFFSET(IndData!R10,$E$14,0)="","",OFFSET(IndData!R10,$E$14,0))
B26: =IF(OFFSET(IndData!C11,$E$14,0)="","",OFFSET(IndData!C11,$E$14,0)) -> EL | C26: =IF(OFFSET(IndData!D11,$E$14,0)="","",OFFSET(IndData!D11,$E$14,0)) -> Greece | D26: =IF(OFFSET(IndData!E11,$E$14,0)="","",OFFSET(IndData!E11,$E$14,0)) | E26: =IF(OFFSET(IndData!F11,$E$14,0)="","",OFFSET(IndData!F11,$E$14,0)) | F26: =IF(OFFSET(IndData!G11,$E$14,0)="","",OFFSET(IndData!G11,$E$14,0)) | G26: =IF(OFFSET(IndData!H11,$E$14,0)="","",OFFSET(IndData!H11,$E$14,0)) | H26: =IF(OFFSET(IndData!I11,$E$14,0)="","",OFFSET(IndData!I11,$E$14,0)) | I26: =IF(OFFSET(IndData!J11,$E$14,0)="","",OFFSET(IndData!J11,$E$14,0)) | ... Q26: =IF(OFFSET(IndData!R11,$E$14,0)="","",OFFSET(IndData!R11,$E$14,0))
