Workbook

Sheet Prices of profiles
A1: Prices for profiles
B2: Description of profile | C2: Short name | D2: Price per person-day (in €)
A3: a. | B3: Web developer (J2EE, Drupal, front-end) | C3: WD
A4: b. | B4: Senior expert (includes: Senior web developer (J2EE, Drupal); Senior Analyst & engineer; Senior User experience designer, Test Engineer) | C4: SE
A5: c. | B5: Project & Quality manager | C5: PM
A6: d. | B6: Onsite product manager | C6: PD
A7: e. | B7: Service Desk | C7: HD

Sheet Price for meetings
A1: Meetings costs over 4 years - Estimated
B3: I | C3: II
A4: Meetings | B4: Travel expenses per meeting | C4: Accommodation costs per day | D4: Price for person-days | F4: Price for meeting expenses | H4: TOTAL
A5: 6 meetings of 1 working day + 7 meetings of 2 working days in Cedefop | D5: 20 x (PM + SE) | E5: =20*'Prices of profiles'!D5 + 21 * 'Prices of profiles'!D4 -> 0 | F5: (6 x (I+II)) + (7 x (I+2II)) | G5: =6*(B5+C5)+7*(B5+2*C5) -> 0 | H5: =E5+G5 -> 0
A6: TOTAL for 4 years | E6: =SUM(E5:E5) -> 0 | G6: =SUM(G5:G5) -> 0 | H6: =SUM(H5:H5) -> 0
A9: Notes:
A10: _The work-days of the profiles participating at each meeting will be paid according to the price of each profile.
A11: _Please note that travel time will not be reimbursed or paid.
A12: _Accommodation costs are all inclusive and cover all daily expenses. This column will be used during the contract life to charge meeting costs depending on the actual number of days of the meeting.
A13: _ For the purposes of the evaluation, it is considered that 2 persons will participate in the Cedefop meetings (one PM and one SE).

Sheet Financial offer Europass
B2: Financial offer - Please fill-in the Green cells
B3: _To obtain the total price: (1) Enter the prices in the sheet "Prices of profiles" and "Price for meetings" (2) Fill-in the Green cells in the current sheet: number of person/days and Fixed Fee for Cloud Hosting and Service Desk (3) The total price for each row should be displayed automatically. It is obtained by adding the costs of all profiles (for each profile: number of person-days multiplied by the price of profile). It is your responsibility to verify that the figures are calculated correctly.
B5: 1st year
B6: Title of work package | C6: Number of person days (per profile) (*) | I6: Total price (€)
C7: WD | D7: SE | E7: PM | F7: PD | G7: HD | H7: TOTAL
B8: Migration of Europass website to Drupal (2.5.1 and award criterion 1) | H8: =SUM(C8:F8) -> 0 | I8: ='Prices of profiles'!D$3*$C8+'Prices of profiles'!D$4*$D8+'Prices of profiles'!D$5*$E8+'Prices of profiles'!D$6*$F8 -> 0
B9: Migration of all Europass services to the Cloud; take-over effort (including 1 work month of a senior analyst in Cedefop premises); set-up of Service Management; set-up all measures necessary for establishing the SLA (2.5.2 1-2-3-4 and award criterion 2) | H9: =SUM(C9:F9) -> 0 | I9: ='Prices of profiles'!D$3*$C9+'Prices of profiles'!D$4*$D9+'Prices of profiles'!D$5*$E9+'Prices of profiles'!D$6*$F9 -> 0
B10: Implementation of new technical architecture for EWA Editor (2.5.3 and award criterion 3) | H10: =SUM(C10:F10) -> 0 | I10: ='Prices of profiles'!D$3*$C10+'Prices of profiles'!D$4*$D10+'Prices of profiles'!D$5*$E10+'Prices of profiles'!D$6*$F10 -> 0
B11: Yearly effort for service desk (profile: HD) | G11: 75 | H11: =SUM(G11) -> 75 | I11: ='Prices of profiles'!D$7*$G11 -> 0
B12: Yearly effort for on-site Product Manager (profile: PD) | F12: 220 | H12: =SUM(C12:F12) -> 220 | I12: ='Prices of profiles'!D$3*$C12+'Prices of profiles'!D$4*$D12+'Prices of profiles'!D$5*$E12+'Prices of profiles'!D$6*$F12 -> 0
B13: Continuous improvement, design and development | C13: 200 | D13: 100 | E13: =0.1*(C13+D13) -> 30 | H13: =SUM(C13:G13) -> 330 | I13: ='Prices of profiles'!D$3*$C13+'Prices of profiles'!D$4*$D13+'Prices of profiles'!D$5*$E13+'Prices of profiles'!D$6*$F13 -> 0
B14: Overall, lump-sum cost (including travel, accommodation and daily allowance expenses) for 1 work month of a senior analyst in Cedefop premises
B15: Fixed fee for Cloud Hosting and Service guarantee (See 2.5.2-4a)
B16: Total | C16: =SUM(C8:C13) -> 200 | D16: =SUM(D8:D13) -> 100 | E16: =SUM(E8:E13) -> 30 | F16: =SUM(F8:F13) -> 220 | G16: =SUM(G8:G13) -> 75 | H16: =SUM(C16:G16) -> 625 | I16: =SUM(I8:I15) -> 0
B19: 2nd year
B20: Title of work package | C20: Number of person days (per profile) (*) | I20: Total price (€)
C21: WD | D21: SE | E21: PM | F21: PD | G21: HD | H21: TOTAL
B22: Continuous improvement, design and development | C22: 400 | D22: 300 | E22: =0.1*(C22+D22) -> 70 | H22: =SUM(C22:F22) -> 770 | I22: ='Prices of profiles'!D$3*$C22+'Prices of profiles'!D$4*$D22+'Prices of profiles'!D$5*$E22+'Prices of profiles'!D$6*$F22 -> 0
B23: Yearly effort for service desk (profile: HD) | G23: 75 | H23: =SUM(G23) -> 75 | I23: ='Prices of profiles'!D$7*$G23 -> 0
B24: Yearly effort for on-site Product Manager (profile: PD) | F24: 220 | H24: =SUM(C24:F24) -> 220 | I24: ='Prices of profiles'!D$3*$C24+'Prices of profiles'!D$4*$D24+'Prices of profiles'!D$5*$E24+'Prices of profiles'!D$6*$F24 -> 0
B25: Fixed fee for Cloud Hosting and Service guarantee (See 2.5.2-4a) | I25: =I15 -> 0
B26: Total | C26: =SUM(C22) -> 400 | D26: =SUM(D22) -> 300 | E26: =SUM(E22) -> 70 | F26: =SUM(F22:F24) -> 220 | G26: =SUM(G22:G24) -> 75 | H26: =SUM(C26:G26) -> 1065 | I26: =SUM(I22:I25) -> 0
B28: 3rd year
B29: Title of work package | C29: Number of person days (per profile) (*) | I29: Total price (€)
C30: WD | D30: SE | E30: PM | F30: PD | G30: HD | H30: TOTAL
B31: Continuous improvement, design and development | C31: 400 | D31: 300 | E31: =0.1*(C31+D31) -> 70 | H31: =SUM(C31:F31) -> 770 | I31: ='Prices of profiles'!D$3*$C31+'Prices of profiles'!D$4*$D31+'Prices of profiles'!D$5*$E31+'Prices of profiles'!D$6*$F31 -> 0
B32: Yearly effort for service desk (profile: HD) | G32: 75 | H32: =SUM(G32) -> 75 | I32: ='Prices of profiles'!D$7*$G32 -> 0
B33: Yearly effort for on-site Product Manager (profile: PD) | F33: 220 | H33: =SUM(C33:F33) -> 220 | I33: ='Prices of profiles'!D$3*$C33+'Prices of profiles'!D$4*$D33+'Prices of profiles'!D$5*$E33+'Prices of profiles'!D$6*$F33 -> 0
B34: Fixed fee for Cloud Hosting and Service guarantee (See 2.5.2-4a) | I34: =I25 -> 0
B35: Total | C35: =SUM(C31) -> 400 | D35: =SUM(D31) -> 300 | E35: =SUM(E31) -> 70 | F35: =SUM(F31:F33) -> 220 | G35: =SUM(G31:G33) -> 75 | H35: =SUM(C35:G35) -> 1065 | I35: =SUM(I31:I34) -> 0
B38: 4th year
B39: Title of work package | C39: Number of person days (per profile) (*) | I39: Total price (€)
C40: WD | D40: SE | E40: PM | F40: PD | G40: HD | H40: TOTAL
B41: Continuous improvement, design and development | C41: 400 | D41: 300 | E41: =0.1*(C41+D41) -> 70 | H41: =SUM(C41:F41) -> 770 | I41: ='Prices of profiles'!D$3*$C41+'Prices of profiles'!D$4*$D41+'Prices of profiles'!D$5*$E41+'Prices of profiles'!D$6*$F41 -> 0
B42: Yearly effort for service desk (profile: HD) | G42: 75 | H42: =SUM(G42) -> 75 | I42: ='Prices of profiles'!D$7*$G42 -> 0
B43: Yearly effort for on-site Product Manager (profile: PD) | F43: 220 | H43: =SUM(C43:F43) -> 220 | I43: ='Prices of profiles'!D$3*$C43+'Prices of profiles'!D$4*$D43+'Prices of profiles'!D$5*$E43+'Prices of profiles'!D$6*$F43 -> 0
B44: Fixed fee for Cloud Hosting and Service guarantee (See 2.5.2-4a) | I44: =I34 -> 0
B45: Total | C45: =SUM(C41) -> 400 | D45: =SUM(D41) -> 300 | E45: =SUM(E41) -> 70 | F45: =SUM(F41:F43) -> 220 | G45: =SUM(G41:G43) -> 75 | H45: =SUM(C45:G45) -> 1065 | I45: =SUM(I41:I44) -> 0
B48: Meetings for 4 years (see also sheet "Price for meetings" - estimated at about 20 (over 4 years)
B49: Meeting expenses | I49: ='Price for meetings'!H6 -> 0
...
