Workbook
Name countries: calculations!$L$4:$N$36
Name COUNTRY1: calculations!$B$4
Name COUNTRY2: calculations!$D$4
Name datasource: OFFSET(offsetstart, 0, offset1,38,1)
Name offset_chart2: calculations!$C$5
Name offset1: calculations!$C$4
Name offset2: calculations!$E$4
Name offsetstart: 'raw data'!$C$1
Name offsetstart_2006: table_data!$B$4
Name offsetstart_20062010: table_data!$BP$4
Name offsetstart_2010: table_data!$AI$4
Name offsetstart_20112012: table_data!$CW$4
Name offsetstart_chart2: chart2_data!$B$4

Sheet Read_me

Sheet compare_countries_graph
D1: On the way to 2020: data for vocational education and training policies. Update 2013
A2: COMPARE
D51: Copyright © European Centre for the Development of Vocational Training, 2014

Sheet compare_countries_table
E1: On the way to 2020: data for vocational education and training policies. Update 2013
A2: COMPARE | E2: Score on VET indicators 2006, 2010 and 2011/12 (where available)
E3: Indicator label | G3: 2006 | J3: 2010 | M3: Change 2006-10 | P3: 2011/12 updates
G4: =compare_table_calc!G4 -> AT | H4: EU | I4: =compare_table_calc!I4 -> BE | J4: =compare_table_calc!J4 -> AT | K4: EU | L4: =compare_table_calc!L4 -> BE | M4: =compare_table_calc!M4 -> AT | N4: EU | O4: =compare_table_calc!O4 -> BE | P4: =compare_table_calc!P4 -> AT | Q4: EU | R4: =compare_table_calc!R4 -> BE
E5: Access, attractiveness and flexibility
E6: 1010 | F6: IVET-students as % of all upper secondary students | G6: =compare_table_calc!G6 -> 77.9 | H6: 51.7 | I6: =compare_table_calc!I6 -> 69.5 | J6: =compare_table_calc!J6 -> 76.8 | K6: 49.9 | L6: =compare_table_calc!L6 -> 73 | M6: =compare_table_calc!M6 -> -1.1 | N6: -1.8 | O6: =compare_table_calc!O6 -> 3.5 | P6: =compare_table_calc!P6 -> 76.1 | Q6: 50.3 | R6: =compare_table_calc!R6 -> 72.8
E7: 1020 | F7: IVET work-based students as % of upper secondary IVET | G7: =compare_table_calc!G7 -> 42.4 | H7: 27.7 | I7: =compare_table_calc!I7 -> 5 | J7: =compare_table_calc!J7 -> 45.1 | K7: 27.9 | L7: =compare_table_calc!L7 -> 4.3 | M7: =compare_table_calc!M7 -> 2.7 | N7: 0.2 | O7: =compare_table_calc!O7 -> -0.7 | P7: =compare_table_calc!P7 -> 45.7 | Q7: 27 | R7: =compare_table_calc!R7 -> 4.3
E8: 1030 | F8: Employees participating in CVT courses (%) | G8: =compare_table_calc!G8 -> 33 | H8: 33 | I8: =compare_table_calc!I8 -> 40 | J8: =compare_table_calc!J8 -> 33 | K8: 38 | L8: =compare_table_calc!L8 -> 52 | M8: =compare_table_calc!M8 -> 0 | N8: 5 | O8: =compare_table_calc!O8 -> 12 | P8: =compare_table_calc!P8 | R8: =compare_table_calc!R8
E9: 1040 | F9: Employees participating in on-the-job training (%) | G9: =compare_table_calc!G9 -> 9 | H9: 16 | I9: =compare_table_calc!I9 -> 21 | J9: =compare_table_calc!J9 -> 12 | K9: 21 | L9: =compare_table_calc!L9 -> 21 | M9: =compare_table_calc!M9 -> 3 | N9: 5 | O9: =compare_table_calc!O9 -> 0 | P9: =compare_table_calc!P9 | R9: =compare_table_calc!R9
E10: 1050 | F10: Adults in lifelong learning (%) | G10: =compare_table_calc!G10 -> 13.1 | H10: 9.5 | I10: =compare_table_calc!I10 -> 7.5 | J10: =compare_table_calc!J10 -> 13.7 | K10: 9.1 | L10: =compare_table_calc!L10 -> 7.2 | M10: =compare_table_calc!M10 -> 0.6 | N10: -0.4 | O10: =compare_table_calc!O10 -> -0.3 | P10: =compare_table_calc!P10 -> 14.1 | Q10: 9 | R10: =compare_table_calc!R10 -> 6.6
E11: 1060 | F11: Enterprises providing training (%) | G11: =compare_table_calc!G11 -> 81 | H11: 60 | I11: =compare_table_calc!I11 -> 63 | J11: =compare_table_calc!J11 -> 87 | K11: 66 | L11: =compare_table_calc!L11 -> 78 | M11: =compare_table_calc!M11 -> 6 | N11: 6 | O11: =compare_table_calc!O11 -> 15 | P11: =compare_table_calc!P11 | R11: =compare_table_calc!R11
E12: 1070 | F12: Female IVET students as % of all female upper secondary students | G12: =compare_table_calc!G12 -> 73.3 | H12: 46.3 | I12: =compare_table_calc!I12 -> 68.3 | J12: =compare_table_calc!J12 -> 71.9 | K12: 44.2 | L12: =compare_table_calc!L12 -> 72.9 | M12: =compare_table_calc!M12 -> -1.4 | N12: -2.1 | O12: =compare_table_calc!O12 -> 4.6 | P12: =compare_table_calc!P12 -> 71.1 | Q12: 44.7 | R12: =compare_table_calc!R12 -> 72.9
E13: 1080 | F13: Young VET graduates in further education and training (%) | G13: =compare_table_calc!G13 | I13: =compare_table_calc!I13 | J13: =compare_table_calc!J13 -> 32.8 | K13: 30.7 | L13: =compare_table_calc!L13 -> 31 | M13: =compare_table_calc!M13 | O13: =compare_table_calc!O13 | P13: =compare_table_calc!P13 | R13: =compare_table_calc!R13
E14: 1090 | F14: Older adults in lifelong learning (%) | G14: =compare_table_calc!G14 -> 7.8 | H14: 5.1 | I14: =compare_table_calc!I14 -> 4.5 | J14: =compare_table_calc!J14 -> 8.2 | K14: 5.3 | L14: =compare_table_calc!L14 -> 4.6 | M14: =compare_table_calc!M14 -> 0.4 | N14: 0.2 | O14: =compare_table_calc!O14 -> 0.1 | P14: =compare_table_calc!P14 -> 8.3 | Q14: 5.3 | R14: =compare_table_calc!R14 -> 4.3
E15: 1100 | F15: Low-educated adults in lifelong learning (%) | G15: =compare_table_calc!G15 -> 4.6 | H15: 3.7 | I15: =compare_table_calc!I15 -> 3 | J15: =compare_table_calc!J15 -> 4.5 | K15: 3.9 | L15: =compare_table_calc!L15 -> 3.1 | M15: =compare_table_calc!M15 -> -0.1 | N15: 0.2 | O15: =compare_table_calc!O15 -> 0.1 | P15: =compare_table_calc!P15 -> 5 | Q15: 3.9 | R15: =compare_table_calc!R15 -> 2.7
E16: 1110 | F16: Unemployed adults in lifelong learning (%) | G16: =compare_table_calc!G16 -> 18.6 | H16: 7.7 | I16: =compare_table_calc!I16 -> 10.4 | J16: =compare_table_calc!J16 -> 19.4 | K16: 9.2 | L16: =compare_table_calc!L16 -> 9 | M16: =compare_table_calc!M16 -> 0.8 | N16: 1.5 | O16: =compare_table_calc!O16 -> -1.4 | P16: =compare_table_calc!P16 -> 18.5 | Q16: 9 | R16: =compare_table_calc!R16 -> 9.2
E17: 1120 | F17: Individuals who wanted to participate in training but did not (%) | G17: =compare_table_calc!G17 -> 9.2 | H17: 14.5 | I17: =compare_table_calc!I17 -> 17.2 | J17: =compare_table_calc!J17 -> 7.9 | K17: 10.9 | L17: =compare_table_calc!L17 -> 13.5 | M17: =compare_table_calc!M17 -> -1.3 | N17: -3.6 | O17: =compare_table_calc!O17 -> -3.7 | P17: =compare_table_calc!P17 | R17: =compare_table_calc!R17
E18: 1130 | F18: Job-related non-formal education and training (%) | G18: =compare_table_calc!G18 -> 82.1 | H18: 84.5 | I18: =compare_table_calc!I18 -> 86 | J18: =compare_table_calc!J18 -> 77.3 | K18: 81.4 | L18: =compare_table_calc!L18 -> 89.9 | M18: =compare_table_calc!M18 -> -4.8 | N18: -3.1 | O18: =compare_table_calc!O18 -> 3.9 | P18: =compare_table_calc!P18 | R18: =compare_table_calc!R18
E19: Skill development and labour market relevance
E20: 2010 | F20: IVET public expenditure (% of GDP) | G20: =compare_table_calc!G20 -> 0.97 | H20: 0.67 | I20: =compare_table_calc!I20 | J20: =compare_table_calc!J20 -> 1.04 | K20: 0.71 | L20: =compare_table_calc!L20 | M20: =compare_table_calc!M20 -> 0.07 | N20: 0.04 | O20: =compare_table_calc!O20 | P20: =compare_table_calc!P20 | R20: =compare_table_calc!R20
E21: 2020 | F21: IVET public expenditure (EUR per student) | G21: =compare_table_calc!G21 | H21: 7089 | I21: =compare_table_calc!I21 | J21: =compare_table_calc!J21 | K21: 8549 | L21: =compare_table_calc!L21 | M21: =compare_table_calc!M21 | N21: 1460 | O21: =compare_table_calc!O21 | P21: =compare_table_calc!P21 | R21: =compare_table_calc!R21
E22: 2030 | F22: Enterprise expenditure on CVT courses as % of total labour cost | G22: =compare_table_calc!G22 -> 0.8 | H22: 0.9 | I22: =compare_table_calc!I22 -> 0.6 | J22: =compare_table_calc!J22 -> 0.8 | K22: 0.8 | L22: =compare_table_calc!L22 -> 0.9 | M22: =compare_table_calc!M22 -> 0 | N22: -0.1 | O22: =compare_table_calc!O22 -> 0.3 | P22: =compare_table_calc!P22 | R22: =compare_table_calc!R22
E23: 2040 | F23: Average number of foreign languages learned in IVET | G23: =compare_table_calc!G23 -> 1.3 | H23: 1.2 | I23: =compare_table_calc!I23 -> 1.3 | J23: =compare_table_calc!J23 -> 1.2 | K23: 1.2 | L23: =compare_table_calc!L23 -> 1.3 | M23: =compare_table_calc!M23 -> -0.1 | N23: 0 | O23: =compare_table_calc!O23 -> 0 | P23: =compare_table_calc!P23 -> 1.2 | Q23: 1.2 | R23: =compare_table_calc!R23 -> 1.3
E24: 2050 | F24: STEM graduates from upper secondary VET (% of total) | G24: =compare_table_calc!G24 | H24: 32 | I24: =compare_table_calc!I24 -> 23.5 | J24: =compare_table_calc!J24 | K24: 28.7 | L24: =compare_table_calc!L24 -> 19.1 | M24: =compare_table_calc!M24 | N24: -3.3 | O24: =compare_table_calc!O24 -> -4.4 | P24: =compare_table_calc!P24 | Q24: 29.4 | R24: =compare_table_calc!R24 -> 19.1
E25: 2060 | F25: 30-34 year-olds with tertiary VET attainment (%) | G25: =compare_table_calc!G25 -> 7.3 | H25: 7.3 | I25: =compare_table_calc!I25 -> 22 | J25: =compare_table_calc!J25 -> 6.2 | K25: 7.3 | L25: =compare_table_calc!L25 -> 20.7 | M25: =compare_table_calc!M25 -> -1.1 | N25: 0 | O25: =compare_table_calc!O25 -> -1.3 | P25: =compare_table_calc!P25 -> 6.2 | Q25: 8.6 | R25: =compare_table_calc!R25 -> 19.8
E26: 2070 | F26: Innovative enterprises with supportive training practices (%) | G26: =compare_table_calc!G26 -> 61.6 | H26: 42.8 | I26: =compare_table_calc!I26 -> 63.3 | J26: =compare_table_calc!J26 -> 59.1 | K26: 41.5 | L26: =compare_table_calc!L26 -> 60 | M26: =compare_table_calc!M26 -> -2.5 | N26: -1.3 | O26: =compare_table_calc!O26 -> -3.3 | P26: =compare_table_calc!P26 | R26: =compare_table_calc!R26
E27: 2080 | F27: Employment rate for IVET graduates (20-34 year-olds) | G27: =compare_table_calc!G27 | I27: =compare_table_calc!I27 | J27: =compare_table_calc!J27 -> 88 | K27: 79.1 | L27: =compare_table_calc!L27 -> 85 | M27: =compare_table_calc!M27 | O27: =compare_table_calc!O27 | P27: =compare_table_calc!P27 | R27: =compare_table_calc!R27
E28: 2090 | F28: Employment premium for IVET graduates (over general stream) | G28: =compare_table_calc!G28 | I28: =compare_table_calc!I28 | J28: =compare_table_calc!J28 -> 5.1 | K28: 5.6 | L28: =compare_table_calc!L28 -> 11.2 | M28: =compare_table_calc!M28 | O28: =compare_table_calc!O28 | P28: =compare_table_calc!P28 | R28: =compare_table_calc!R28
E29: 2100 | F29: Employment premium for IVET graduates (over low-educated) | G29: =compare_table_calc!G29 | I29: =compare_table_calc!I29 | J29: =compare_table_calc!J29 -> 26.4 | K29: 17.4 | L29: =compare_table_calc!L29 -> 26.9 | M29: =compare_table_calc!M29 | O29: =compare_table_calc!O29 | P29: =compare_table_calc!P29 | R29: =compare_table_calc!R29
E30: 2110 | F30: Workers helped to improve their work by training (%) | G30: =compare_table_calc!G30 | I30: =compare_table_calc!I30 | J30: =compare_table_calc!J30 -> 94.9 | K30: 89.7 | L30: =compare_table_calc!L30 -> 87 | M30: =compare_table_calc!M30 | O30: =compare_table_calc!O30 | P30: =compare_table_calc!P30 | R30: =compare_table_calc!R30
E31: 2120 | F31: Workers with skills matched to their duties (%) | G31: =compare_table_calc!G31 | I31: =compare_table_calc!I31 | J31: =compare_table_calc!J31 -> 58.5 | K31: 55.3 | L31: =compare_table_calc!L31 -> 61.2 | M31: =compare_table_calc!M31 | O31: =compare_table_calc!O31 | P31: =compare_table_calc!P31 | R31: =compare_table_calc!R31
E32: Overall transitions and labour market trends
E33: 3010 | F33: Early leavers from education and training (%) | G33: =compare_table_calc!G33 -> 9.8 | H33: 15.5 | I33: =compare_table_calc!I33 -> 12.6 | J33: =compare_table_calc!J33 -> 8.3 | K33: 14 | L33: =compare_table_calc!L33 -> 11.9 | M33: =compare_table_calc!M33 -> -1.5 | N33: -1.5 | O33: =compare_table_calc!O33 -> -0.7 | P33: =compare_table_calc!P33 -> 7.6 | Q33: 12.8(p) | R33: =compare_table_calc!R33 -> 12
E34: 3020 | F34: 30-34 year-olds with tertiary attainment (%) | G34: =compare_table_calc!G34 -> 21.2 | H34: 28.9 | I34: =compare_table_calc!I34 -> 41.4 | J34: =compare_table_calc!J34 -> 23.5 | K34: 33.5 | L34: =compare_table_calc!L34 -> 44.4 | M34: =compare_table_calc!M34 -> 2.3 | N34: 4.6 | O34: =compare_table_calc!O34 -> 3 | P34: =compare_table_calc!P34 -> 26.3 | Q34: 35.8 | R34: =compare_table_calc!R34 -> 43.9
E35: 3030 | F35: NEET rate for 18-24 year-olds (%) | G35: =compare_table_calc!G35 -> 9.3 | H35: 15.1 | I35: =compare_table_calc!I35 -> 14.6 | J35: =compare_table_calc!J35 -> 8.8 | K35: 16.5 | L35: =compare_table_calc!L35 -> 14.3 | M35: =compare_table_calc!M35 -> -0.5 | N35: 1.4 | O35: =compare_table_calc!O35 -> -0.3 | P35: =compare_table_calc!P35 -> 7.8 | Q35: 17.0(p) | R35: =compare_table_calc!R35 -> 15
E36: 3040 | F36: Unemployment rate for 20-34 year-olds (%) | G36: =compare_table_calc!G36 -> 5.7 | H36: 10.6 | I36: =compare_table_calc!I36 -> 11.5 | J36: =compare_table_calc!J36 -> 6.2 | K36: 13.1 | L36: =compare_table_calc!L36 -> 12.2 | M36: =compare_table_calc!M36 -> 0.5 | N36: 2.5 | O36: =compare_table_calc!O36 -> 0.7 | P36: =compare_table_calc!P36 -> 5.8 | Q36: 14.5 | R36: =compare_table_calc!R36 -> 11.5
E37: 3050 | F37: Adults with lower level of educational attainment (%) | G37: =compare_table_calc!G37 -> 19.7 | H37: 30.1 | I37: =compare_table_calc!I37 -> 33.1 | J37: =compare_table_calc!J37 -> 17.5 | K37: 27.3 | L37: =compare_table_calc!L37 -> 29.5 | M37: =compare_table_calc!M37 -> -2.2 | N37: -2.8 | O37: =compare_table_calc!O37 -> -3.6 | P37: =compare_table_calc!P37 -> 16.9 | Q37: 25.8 | R37: =compare_table_calc!R37 -> 28.4
E38: 3060 | F38: Employment rate for 20-64 year-olds (%) | G38: =compare_table_calc!G38 -> 73.2 | H38: 69 | I38: =compare_table_calc!I38 -> 66.5 | J38: =compare_table_calc!J38 -> 74.9 | K38: 68.5 | L38: =compare_table_calc!L38 -> 67.6 | M38: =compare_table_calc!M38 -> 1.7 | N38: -0.5 | O38: =compare_table_calc!O38 -> 1.1 | P38: =compare_table_calc!P38 -> 75.6 | Q38: 68.5 | R38: =compare_table_calc!R38 -> 67.2
E39: 3070 | F39: Medium/high-qualified employment in 2020 (% of total) | G39: =compare_table_calc!G39 | I39: =compare_table_calc!I39 | J39: =compare_table_calc!J39 -> 85.4 | K39: 82.3 | L39: =compare_table_calc!L39 -> 85 | M39: =compare_table_calc!M39 | O39: =compare_table_calc!O39 | P39: =compare_table_calc!P39 | R39: =compare_table_calc!R39
E40: Copyright © European Centre for the Development of Vocational Training, 2014

Sheet country_progress
E1: On the way to 2020: data for vocational education and training policies. Update 2013
A2: COUNTRY | E2: =COUNTRY1 -> Austria
E67: Copyright © European Centre for the Development of Vocational Training, 2014

Sheet description
A1: Short description of indicators
A2: No | B2: Indicator | C2: Short description and source | D2: Year used for 2010 column in the table | E2: Year used for 2006 column in the table | F2: Year used for 2011/12 column in the table | G2: Year used for the chart (worksheet: compare_countries_graph)
A3: Access, attractiveness and flexibility
A4: 1010 | B4: IVET students as % of all upper secondary students | C4: Number of students in upper secondary IVET (ISCED 3) as a percentage of all upper secondary students (Eurostat, UOE) | D4: 2010 | E4: 2006 | F4: 2011 | G4: 2011
A5: 1020 | B5: IVET work-based students as % of all upper secondary IVET (%) | C5: Number of students in combined work- and school-based upper secondary IVET (ISCED 3) as a percentage of all students in upper secondary IVET (Cedefop calculations based on Eurostat, UOE)(a)(b) | D5: 2010 | E5: 2006 | F5: 2011 | G5: 2011
A6: 1030 | B6: Employees participating in CVT courses (%) | C6: Number of employees who have participated in employer-sponsored CVT courses in the last 12 months as a percentage of all employees in all enterprises surveyed (Eurostat, CVTS) | D6: 2010 | E6: 2005 | G6: 2010
A7: 1040 | B7: Employees participating in on-the-job training (%) | C7: Number of employees who have participated in employer-sponsored on-the-job training in the last 12 months as a percentage of all employees in all enterprises surveyed (Eurostat, CVTS) | D7: 2010 | E7: 2005 | G7: 2010
A8: 1050 | B8: Adults in lifelong learning (%) | C8: Percentage of the population aged 25-64 participating in education and training over the four weeks prior to the survey (Eurostat, LFS) | D8: 2010 | E8: 2006 | F8: 2012 | G8: 2012
A9: 1060 | B9: Enterprises providing training (%) | C9: Percentage of enterprises providing any type of vocational training to their employees in the last 12 months (Eurostat, CVTS) | D9: 2010 | E9: 2005 | G9: 2010
A10: 1070 | B10: Female IVET students as % of all female upper secondary students | C10: Number of female students in upper secondary IVET (ISCED 3) as a percentage of all female students in upper secondary education (Eurostat, UOE) | D10: 2010 | E10: 2006 | F10: 2011 | G10: 2011
A11: 1080 | B11: Young VET graduates in further education and training (%) | C11: Percentage of the population aged 18-24 with a medium-level vocational qualification (ISCED 3 or 4) as their highest educational attainment who participated in education and training over four weeks prior to the survey (Cedefop calculations based on Eurostat, LFS - 2009 AHM)(a) | D11: 2009 | G11: 2009
A12: 1090 | B12: Older adults in lifelong learning (%) | C12: Percentage of the population aged 50-64 who participated in education and training over the four weeks prior to the survey (Cedefop calculations based on Eurostat, LFS) | D12: 2010 | E12: 2006 | F12: 2012 | G12: 2012
A13: 1100 | B13: Low-educated adults in lifelong learning (%) | C13: Percentage of the population aged 25-64 with lowest level of educational attainment (ISCED 0-2) who participated in education and training over the four weeks prior to the survey (Eurostat, LFS) | D13: 2010 | E13: 2006 | F13: 2012 | G13: 2012
A14: 1110 | B14: Unemployed adults in lifelong learning (%) | C14: Percentage of the unemployed population aged 25-64 who participated in education and training over the four weeks prior to the survey (Eurostat, LFS) | D14: 2010 | E14: 2006 | F14: 2012 | G14: 2012
A15: 1120 | B15: Individuals who wanted to participate in training but did not (%) | C15: Percentage of individuals aged 25-64 wanting to participate in education or training but did not do so (Eurostat, AES) | D15: 2011 | E15: 2007 | G15: 2011
A16: 1130 | B16: Job-related non-formal education and training (%) | C16: Non formal job-related learning activities as % of all non-formal learning activities. The indicator considers activities carried out in the 12 months prior to the survey by adults aged 25-64 | D16: 2011 | E16: 2007 | G16: 2011
A17: Skill development and labour market relevance
A18: 2010 | B18: IVET public expenditure (% of GDP) | C18: Public expenditure on vocational education at upper secondary and post-secondary level (ISCED 3 and 4) as a percentage of GDP (Eurostat, UOE)(a)(b) | D18: 2010 | E18: 2006 | G18: 2010
A19: 2020 | B19: IVET public expenditure (EUR per student) | C19: Public expenditure on vocational education at upper secondary and post-secondary level (ISCED 3 and 4) in EUR per student enrolled (Eurostat, UOE)(a)(b) | D19: 2010 | E19: 2006 | G19: 2010
A20: 2030 | B20: Enterprise expenditure on CVT courses as % of total labour cost | C20: Total monetary expenditure (TME) by enterprises on CVT courses as % of total labour cost (all enterprises). TME indicator excludes personnel absence costs (Cedefop calculations based on Eurostat, CVTS) | D20: 2010 | E20: 2005 | G20: 2010
A21: 2040 | B21: Average number of foreign languages learned in IVET | C21: Average number of foreign languages learned in vocational upper secondary education (ISCED 3) (Eurostat, UOE) | D21: 2010 | E21: 2006 | F21: 2011 | G21: 2012
A22: 2050 | B22: STEM graduates from upper secondary IVET (% of total) | C22: STEM (Science, Technology, Engineering and Mathematics) graduates from upper secondary vocational education (ISCED 3) as percentage of all upper secondary graduates across all subjects (Cedefop calculations based on Eurostat, UOE)(b) | D22: 2010 | E22: 2006 | F22: 2011 | G22: 2011
A23: 2060 | B23: 30-34 year-olds with tertiary VET attainment (%) | C23: Percentage of all 30-34 year-olds with a tertiary-level vocational qualification (ISCED 5b) as their highest educational attainment (Cedefop calculations based on Eurostat, LFS)(a) | D23: 2010 | E23: 2006 | F23: 2012 | G23: 2012
A24: 2070 | B24: Innovative enterprises with supportive training practices (%) | C24: Enterprises providing training to their staff to support technological innovation (as % of all enterprises reporting technological innovation in core innovation sectors) (Eurostat, CIS, only 2008)(b) | D24: 2010 | E24: 2008 | G24: 2010
A25: 2080 | B25: Employment rate for IVET graduates (20-34 year-olds) | C25: Employment rate of 20-34 year-olds with a medium-level qualification (ISCED 3 or 4) from the VET stream as their highest educational attainment. Calculations exclude those still in formal education. Those having an ISCED 3c short qualification as their highest educational attainment are considered as having a low education level (equivalent to lower secondary) and are also excluded. (Cedefop calculations based on Eurostat, LFS, 2009 AHM)(a) | D25: 2009 | G25: 2009
A26: 2090 | B26: Employment premium for IVET graduates (over general stream) | C26: The premium is expressed as a difference (in percentage points) between two indicators: the employment rate for young VET graduates (indicator 2080) and the employment rate for young graduates (20-34 year-olds) from the general stream of education at the same ISCED levels. Calculations exclude those still in formal education. Those having an ISCED 3c short qualification as their highest educational attainment are considered as having a low education level (equivalent to lower secondary) and are also excluded. (Cedefop calculations based on Eurostat, LFS, 2009 AHM)(a) | D26: 2009 | G26: 2009
A27: 2100 | B27: Employment premium for IVET graduates (over low-educated) | C27: The premium is expressed as a difference (in percentage points) between two indicators: the employment rate for young VET graduates (indicator 2080) and the employment rate for young graduates (20-34 year-olds) who have, at most, lower secondary education as their highest level of educational attainment. Calculations exclude those still in formal education. Those having an ISCED 3c short qualification as their highest educational attainment are considered as having a low education (equivalent to lower secondary) level and are included only in that group. (Cedefop calculations based on Eurostat, LFS, 2009 AHM)(a) | D27: 2009 | G27: 2009
A28: 2110 | B28: Workers helped to improve their work by training (%) | C28: Percentage of employed individuals who answered ‘Agree’ to the statement ‘The training has helped me improve the way I work’. This question is only answered by those employees for whom training was provided by the employer (or by themselves in case of self-employed people) (Eurofound, EWCS, only 2010) | D28: 2010
A29: 2120 | B29: Workers with skills matched to their duties (%) | C29: Percentage of employed people surveyed who answered ‘My present skills correspond well with my duties’ to the question ‘Which of the following alternatives would best describe your skills in your own work?’. Other possible answers are ‘I need further training to cope well with my duties’, ‘I have the skills to cope with more demanding duties’ (Eurofound, EWCS, only 2010) | D29: 2010
A30: Overall transitions and labour market trends
A31: 3010 | B31: Early leavers from education and training (%) | C31: Percentage of the population aged 18-24 who have attained, at most, lower-secondary education and are not involved in further education or training (Eurostat, LFS) | D31: 2010 | E31: 2006 | F31: 2012 | G31: 2012
A32: 3020 | B32: 30-34 year-olds with tertiary attainment (%) | C32: Percentage of the population aged 30-34 who have successfully completed tertiary-level education. Tertiary education is defined as ISCED 5 and 6 (Eurostat, LFS) | D32: 2010 | E32: 2006 | F32: 2012 | G32: 2012
A33: 3030 | B33: NEET rate for 18-24 year-olds (%) | C33: Percentage of the population of age 18-24 years not employed and not involved in further education or training (Eurostat, LFS) | D33: 2010 | E33: 2006 | F33: 2012 | G33: 2012
A34: 3040 | B34: Unemployment rate for 20-34 year-olds (%) | C34: Unemployment rate (%) of 20-34 year-olds (Cedefop calculations based on Eurostat, LFS) | D34: 2010 | E34: 2006 | F34: 2012 | G34: 2012
A35: 3050 | B35: Adults with lower level of educational attainment (%) | C35: Percentage of the population aged 25-64 who have attained, at most, lower-secondary education (ISCED 97 levels 0-2) (Eurostat, LFS) | D35: 2010 | E35: 2006 | F35: 2012 | G35: 2012
A36: 3060 | B36: Employment rate for 20-64 year-olds (%) | C36: Percentage of the population aged 20-64 in employment (Eurostat, LFS) | D36: 2010 | E36: 2006 | F36: 2012 | G36: 2012
A37: 3070 | B37: Medium/high-qualified employment in 2020 (% of total) | C37: Share of total employment accounted for by individuals with medium- (ISCED 3-4) or high-level (ISCED 5-6) qualifications in 2020. Level of qualifications refers to the educational attainment of individuals who will be employed and not to the educational requirements of their jobs (Cedefop forecasts) | D37: 2020 | G37: 2020

Sheet calculations
H1: =OFFSET(offsetstart,0,offset1,36,1) -> Austria | I1: =OFFSET(offsetstart,0,offset2,36,1) -> Belgium
F2: Access, attractiveness and flexibility | H2: =OFFSET(offsetstart,0,offset1,36,1) | I2: =OFFSET(offsetstart,0,offset2,36,1)
G3: 1010 IVET-students of all upper secondary students (%) | H3: =OFFSET(offsetstart,0,offset1,36,1) -> 151 | I3: =OFFSET(offsetstart,0,offset2,36,1) -> 145
B4: Austria | C4: =VLOOKUP(COUNTRY1,countries,2) -> 1 | D4: Belgium | E4: =VLOOKUP(COUNTRY2,countries,2) -> 2 | G4: 1020 IVET work-based students in upper secondary IVET (%) | H4: =OFFSET(offsetstart,0,offset1,36,1) -> 169 | I4: =OFFSET(offsetstart,0,offset2,36,1) -> 16 | L4: Austria | M4: 1 | N4: 1
C5: =VLOOKUP(COUNTRY1,countries,3) -> 1 | G5: 1030 Employees participating in CVT courses (%) | H5: =OFFSET(offsetstart,0,offset1,36,1) -> 87 | I5: =OFFSET(offsetstart,0,offset2,36,1) -> 137 | L5: Belgium | M5: 2 | N5: 4
G6: 1040 Employees participating in on-the-job training (%) | H6: =OFFSET(offsetstart,0,offset1,36,1) -> 57 | I6: =OFFSET(offsetstart,0,offset2,36,1) -> 100 | L6: Bulgaria | M6: 3 | N6: 7
G7: 1050 Adults in lifelong learning (%) | H7: =OFFSET(offsetstart,0,offset1,36,1) -> 157 | I7: =OFFSET(offsetstart,0,offset2,36,1) -> 73 | L7: Croatia | M7: 4 | N7: 10
G8: 1060 Enterprises providing training (%) | H8: =OFFSET(offsetstart,0,offset1,36,1) -> 132 | I8: =OFFSET(offsetstart,0,offset2,36,1) -> 118 | L8: Cyprus | M8: 5 | N8: 13
G9: 1070 Female IVET students of all female upper secondary students (%) | H9: =OFFSET(offsetstart,0,offset1,36,1) -> 159 | I9: =OFFSET(offsetstart,0,offset2,36,1) -> 163 | L9: Czech Republic | M9: 6 | N9: 16
G10: 1080 Young VET graduates in further education and training (%) | H10: =OFFSET(offsetstart,0,offset1,36,1) -> 107 | I10: =OFFSET(offsetstart,0,offset2,36,1) -> 101 | L10: Denmark | M10: 7 | N10: 19
G11: 1090 Older adults in lifelong learning (%) | H11: =OFFSET(offsetstart,0,offset1,36,1) -> 157 | I11: =OFFSET(offsetstart,0,offset2,36,1) -> 81 | L11: Estonia | M11: 8 | N11: 22
G12: 1100 Low-educated adults in lifelong learning (%) | H12: =OFFSET(offsetstart,0,offset1,36,1) -> 128 | I12: =OFFSET(offsetstart,0,offset2,36,1) -> 69 | L12: Finland | M12: 9 | N12: 25
G13: 1110 Unemployed adults in lifelong learning (%) | H13: =OFFSET(offsetstart,0,offset1,36,1) -> 206 | I13: =OFFSET(offsetstart,0,offset2,36,1) -> 102 | L13: France | M13: 10 | N13: 28
G14: 1120 Individuals who wanted to participate in training but did not (%) | H14: =OFFSET(offsetstart,0,offset1,36,1) -> 72 | I14: =OFFSET(offsetstart,0,offset2,36,1) -> 124 | L14: FYROM | M14: 11 | N14: 31
G15: 1130 Job-related non-formal education and training (%) | H15: =OFFSET(offsetstart,0,offset1,36,1) -> 95 | I15: =OFFSET(offsetstart,0,offset2,36,1) -> 110 | L15: Germany | M15: 12 | N15: 34
F16: Skill development and labour market relevance | H16: =OFFSET(offsetstart,0,offset1,36,1) | I16: =OFFSET(offsetstart,0,offset2,36,1) | L16: Greece | M16: 13 | N16: 37
G17: 2010 IVET Public expenditure (% of GDP) | H17: =OFFSET(offsetstart,0,offset1,36,1) -> 146 | I17: =OFFSET(offsetstart,0,offset2,36,1) | L17: Hungary | M17: 14 | N17: 40
G18: 2020 IVET Public expenditure (EUR per student) | H18: =OFFSET(offsetstart,0,offset1,36,1) | I18: =OFFSET(offsetstart,0,offset2,36,1) -> 113 | L18: Iceland | M18: 15 | N18: 43
G19: 2030 Enterprise expenditure on CVT courses (% of total labour cost) | H19: =OFFSET(offsetstart,0,offset1,36,1) -> 100 | I19: =OFFSET(offsetstart,0,offset2,36,1) -> 108 | L19: Ireland | M19: 16 | N19: 46
G20: 2040 Average number of foreign languages learned in IVET | H20: =OFFSET(offsetstart,0,offset1,36,1) -> 100 | I20: =OFFSET(offsetstart,0,offset2,36,1) -> 65 | L20: Italy | M20: 17 | N20: 49
G21: 2050 STEM graduates from upper secondary IVET (% of total) | H21: =OFFSET(offsetstart,0,offset1,36,1) | I21: =OFFSET(offsetstart,0,offset2,36,1) -> 229 | L21: Latvia | M21: 18 | N21: 52
G22: 2060 30-34 year-olds with tertiary VET attainment (%) | H22: =OFFSET(offsetstart,0,offset1,36,1) -> 71 | I22: =OFFSET(offsetstart,0,offset2,36,1) -> 145 | L22: Lithuania | M22: 19 | N22: 55
G23: 2070 Innovative enterprises with supportive training practices (%) | H23: =OFFSET(offsetstart,0,offset1,36,1) -> 143 | I23: =OFFSET(offsetstart,0,offset2,36,1) -> 107 | L23: Luxembourg | M23: 20 | N23: 58
G24: 2080 Employment rate for IVET graduates (20-34 year-olds) | H24: =OFFSET(offsetstart,0,offset1,36,1) -> 111 | I24: =OFFSET(offsetstart,0,offset2,36,1) -> 199 | L24: Malta | M24: 21 | N24: 61
G25: 2090 Employment premium for IVET graduates (over general stream) | H25: =OFFSET(offsetstart,0,offset1,36,1) -> 91 | I25: =OFFSET(offsetstart,0,offset2,36,1) -> 154 | L25: Netherlands | M25: 22 | N25: 64
G26: 2100 Employment premium for IVET graduates (over low-educated) | H26: =OFFSET(offsetstart,0,offset1,36,1) -> 152 | I26: =OFFSET(offsetstart,0,offset2,36,1) -> 97 | L26: Norway | M26: 23 | N26: 67
G27: 2110 Workers helped to improve their work by training (%) | H27: =OFFSET(offsetstart,0,offset1,36,1) -> 106 | I27: =OFFSET(offsetstart,0,offset2,36,1) -> 111 | L27: Poland | M27: 24 | N27: 70
G28: 2120 Workers with skills matched to their duties (%) | H28: =OFFSET(offsetstart,0,offset1,36,1) -> 106 | I28: =OFFSET(offsetstart,0,offset2,36,1) | L28: Portugal | M28: 25 | N28: 73
F29: Overall transitions and labour market trends | H29: =OFFSET(offsetstart,0,offset1,36,1) | I29: =OFFSET(offsetstart,0,offset2,36,1) -> 94 | L29: Romania | M29: 26 | N29: 76
G30: 3010 Early leavers from education and training (%) | H30: =OFFSET(offsetstart,0,offset1,36,1) -> 59 | I30: =OFFSET(offsetstart,0,offset2,36,1) -> 123 | L30: Slovakia | M30: 27 | N30: 79
G31: 3020 30-34 year-olds with tertiary attainment (%) | H31: =OFFSET(offsetstart,0,offset1,36,1) -> 73 | I31: =OFFSET(offsetstart,0,offset2,36,1) -> 88 | L31: Slovenia | M31: 28 | N31: 82
G32: 3030 NEET rate for 18-24 year-olds (%) | H32: =OFFSET(offsetstart,0,offset1,36,1) -> 46 | I32: =OFFSET(offsetstart,0,offset2,36,1) -> 80 | L32: Spain | M32: 29 | N32: 85
G33: 3040 Unemployment rate for 20-34 year-olds (%) | H33: =OFFSET(offsetstart,0,offset1,36,1) -> 40 | I33: =OFFSET(offsetstart,0,offset2,36,1) -> 110 | L33: Sweden | M33: 30 | N33: 88
G34: 3050 Adults with lower level of educational attainment (%) | H34: =OFFSET(offsetstart,0,offset1,36,1) -> 66 | I34: =OFFSET(offsetstart,0,offset2,36,1) -> 98 | L34: Switzerland | M34: 31 | N34: 91
G35: 3060 Employment rate for 20-64 year-olds (%) | H35: =OFFSET(offsetstart,0,offset1,36,1) -> 110 | I35: =OFFSET(offsetstart,0,offset2,36,1) -> 103 | L35: Turkey | M35: 32 | N35: 94
G36: 3070 Medium/high qualified employment in 2020 (% of total) | H36: =OFFSET(offsetstart,0,offset1,36,1) -> 104 | I36: =OFFSET(offsetstart,0,offset2,36,1) | L36: United Kingdom | M36: 33 | N36: 97

Sheet compare_table_calc
E2: Score on VET indicators 2006, 2010 and 2011/12 (where available)
E3: Indicator label | G3: 2006 | J3: 2010 | M3: Change 2006-10 | P3: 2011/12 updates
G4: =OFFSET(offsetstart_2006,0,offset1,37,1) -> AT | H4: EU | I4: =OFFSET(offsetstart_2006,0,offset2,37,1) -> BE | J4: =OFFSET(offsetstart_2010,0,offset1,37,1) -> AT | K4: EU | L4: =OFFSET(offsetstart_2010,0,offset2,37,1) -> BE | M4: =OFFSET(offsetstart_20062010,0,offset1,37,1) -> AT | N4: EU | O4: =OFFSET(offsetstart_20062010,0,offset2,37,1) -> BE | P4: =OFFSET(offsetstart_20112012,0,offset1,37,1) -> AT | Q4: EU | R4: =OFFSET(offsetstart_20112012,0,offset2,37,1) -> BE
E5: Access, attractiveness and flexibility
E6: 1010 | F6: IVET-students as % of all upper secondary students | G6: =OFFSET(offsetstart_2006,0,offset1,37,1) -> 77.9 | H6: 51.7 | I6: =OFFSET(offsetstart_2006,0,offset2,37,1) -> 69.5 | J6: =OFFSET(offsetstart_2010,0,offset1,37,1) -> 76.8 | K6: 49.9 | L6: =OFFSET(offsetstart_2010,0,offset2,37,1) -> 73 | M6: =OFFSET(offsetstart_20062010,0,offset1,37,1) -> -1.1 | N6: -1.8 | O6: =OFFSET(offsetstart_20062010,0,offset2,37,1) -> 3.5 | P6: =OFFSET(offsetstart_20112012,0,offset1,37,1) -> 76.1 | Q6: 50.3 | R6: =OFFSET(offsetstart_20112012,0,offset2,37,1) -> 72.8
E7: 1020 | F7: IVET work-based students as % of upper secondary IVET | G7: =OFFSET(offsetstart_2006,0,offset1,37,1) -> 42.4 | H7: 27.7 | I7: =OFFSET(offsetstart_2006,0,offset2,37,1) -> 5 | J7: =OFFSET(offsetstart_2010,0,offset1,37,1) -> 45.1 | K7: 27.9 | L7: =OFFSET(offsetstart_2010,0,offset2,37,1) -> 4.3 | M7: =OFFSET(offsetstart_20062010,0,offset1,37,1) -> 2.7 | N7: 0.2 | O7: =OFFSET(offsetstart_20062010,0,offset2,37,1) -> -0.7 | P7: =OFFSET(offsetstart_20112012,0,offset1,37,1) -> 45.7 | Q7: 27 | R7: =OFFSET(offsetstart_20112012,0,offset2,37,1) -> 4.3
E8: 1030 | F8: Employees participating in CVT courses (%) | G8: =OFFSET(offsetstart_2006,0,offset1,37,1) -> 33 | H8: 33 | I8: =OFFSET(offsetstart_2006,0,offset2,37,1) -> 40 | J8: =OFFSET(offsetstart_2010,0,offset1,37,1) -> 33 | K8: 38 | L8: =OFFSET(offsetstart_2010,0,offset2,37,1) -> 52 | M8: =OFFSET(offsetstart_20062010,0,offset1,37,1) -> 0 | N8: 5 | O8: =OFFSET(offsetstart_20062010,0,offset2,37,1) -> 12 | P8: =OFFSET(offsetstart_20112012,0,offset1,37,1) | R8: =OFFSET(offsetstart_20112012,0,offset2,37,1)
E9: 1040 | F9: Employees participating in on-the-job training (%) | G9: =OFFSET(offsetstart_2006,0,offset1,37,1) -> 9 | H9: 16 | I9: =OFFSET(offsetstart_2006,0,offset2,37,1) -> 21 | J9: =OFFSET(offsetstart_2010,0,offset1,37,1) -> 12 | K9: 21 | L9: =OFFSET(offsetstart_2010,0,offset2,37,1) -> 21 | M9: =OFFSET(offsetstart_20062010,0,offset1,37,1) -> 3 | N9: 5 | O9: =OFFSET(offsetstart_20062010,0,offset2,37,1) -> 0 | P9: =OFFSET(offsetstart_20112012,0,offset1,37,1) | R9: =OFFSET(offsetstart_20112012,0,offset2,37,1)
E10: 1050 | F10: Adults in lifelong learning (%) | G10: =OFFSET(offsetstart_2006,0,offset1,37,1) -> 13.1 | H10: 9.5 | I10: =OFFSET(offsetstart_2006,0,offset2,37,1) -> 7.5 | J10: =OFFSET(offsetstart_2010,0,offset1,37,1) -> 13.7 | K10: 9.1 | L10: =OFFSET(offsetstart_2010,0,offset2,37,1) -> 7.2 | M10: =OFFSET(offsetstart_20062010,0,offset1,37,1) -> 0.6 | N10: -0.4 | O10: =OFFSET(offsetstart_20062010,0,offset2,37,1) -> -0.3 | P10: =OFFSET(offsetstart_20112012,0,offset1,37,1) -> 14.1 | Q10: 9 | R10: =OFFSET(offsetstart_20112012,0,offset2,37,1) -> 6.6
E11: 1060 | F11: Enterprises providing training (%) | G11: =OFFSET(offsetstart_2006,0,offset1,37,1) -> 81 | H11: 60 | I11: =OFFSET(offsetstart_2006,0,offset2,37,1) -> 63 | J11: =OFFSET(offsetstart_2010,0,offset1,37,1) -> 87 | K11: 66 | L11: =OFFSET(offsetstart_2010,0,offset2,37,1) -> 78 | M11: =OFFSET(offsetstart_20062010,0,offset1,37,1) -> 6 | N11: 6 | O11: =OFFSET(offsetstart_20062010,0,offset2,37,1) -> 15 | P11: =OFFSET(offsetstart_20112012,0,offset1,37,1) | R11: =OFFSET(offsetstart_20112012,0,offset2,37,1)
E12: 1070 | F12: Female IVET students as % of all female upper secondary students | G12: =OFFSET(offsetstart_2006,0,offset1,37,1) -> 73.3 | H12: 46.3 | I12: =OFFSET(offsetstart_2006,0,offset2,37,1) -> 68.3 | J12: =OFFSET(offsetstart_2010,0,offset1,37,1) -> 71.9 | K12: 44.2 | L12: =OFFSET(offsetstart_2010,0,offset2,37,1) -> 72.9 | M12: =OFFSET(offsetstart_20062010,0,offset1,37,1) -> -1.4 | N12: -2.1 | O12: =OFFSET(offsetstart_20062010,0,offset2,37,1) -> 4.6 | P12: =OFFSET(offsetstart_20112012,0,offset1,37,1) -> 71.1 | Q12: 44.7 | R12: =OFFSET(offsetstart_20112012,0,offset2,37,1) -> 72.9
E13: 1080 | F13: Young VET graduates in further education and training (%) | G13: =OFFSET(offsetstart_2006,0,offset1,37,1) | I13: =OFFSET(offsetstart_2006,0,offset2,37,1) | J13: =OFFSET(offsetstart_2010,0,offset1,37,1) -> 32.8 | K13: 30.7 | L13: =OFFSET(offsetstart_2010,0,offset2,37,1) -> 31 | M13: =OFFSET(offsetstart_20062010,0,offset1,37,1) | O13: =OFFSET(offsetstart_20062010,0,offset2,37,1) | P13: =OFFSET(offsetstart_20112012,0,offset1,37,1) | R13: =OFFSET(offsetstart_20112012,0,offset2,37,1)
E14: 1090 | F14: Older adults in lifelong learning (%) | G14: =OFFSET(offsetstart_2006,0,offset1,37,1) -> 7.8 | H14: 5.1 | I14: =OFFSET(offsetstart_2006,0,offset2,37,1) -> 4.5 | J14: =OFFSET(offsetstart_2010,0,offset1,37,1) -> 8.2 | K14: 5.3 | L14: =OFFSET(offsetstart_2010,0,offset2,37,1) -> 4.6 | M14: =OFFSET(offsetstart_20062010,0,offset1,37,1) -> 0.4 | N14: 0.2 | O14: =OFFSET(offsetstart_20062010,0,offset2,37,1) -> 0.1 | P14: =OFFSET(offsetstart_20112012,0,offset1,37,1) -> 8.3 | Q14: 5.3 | R14: =OFFSET(offsetstart_20112012,0,offset2,37,1) -> 4.3
E15: 1100 | F15: Low-educated adults in lifelong learning (%) | G15: =OFFSET(offsetstart_2006,0,offset1,37,1) -> 4.6 | H15: 3.7 | I15: =OFFSET(offsetstart_2006,0,offset2,37,1) -> 3 | J15: =OFFSET(offsetstart_2010,0,offset1,37,1) -> 4.5 | K15: 3.9 | L15: =OFFSET(offsetstart_2010,0,offset2,37,1) -> 3.1 | M15: =OFFSET(offsetstart_20062010,0,offset1,37,1) -> -0.1 | N15: 0.2 | O15: =OFFSET(offsetstart_20062010,0,offset2,37,1) -> 0.1 | P15: =OFFSET(offsetstart_20112012,0,offset1,37,1) -> 5 | Q15: 3.9 | R15: =OFFSET(offsetstart_20112012,0,offset2,37,1) -> 2.7
E16: 1110 | F16: Unemployed adults in lifelong learning (%) | G16: =OFFSET(offsetstart_2006,0,offset1,37,1) -> 18.6 | H16: 7.7 | I16: =OFFSET(offsetstart_2006,0,offset2,37,1) -> 10.4 | J16: =OFFSET(offsetstart_2010,0,offset1,37,1) -> 19.4 | K16: 9.2 | L16: =OFFSET(offsetstart_2010,0,offset2,37,1) -> 9 | M16: =OFFSET(offsetstart_20062010,0,offset1,37,1) -> 0.8 | N16: 1.5 | O16: =OFFSET(offsetstart_20062010,0,offset2,37,1) -> -1.4 | P16: =OFFSET(offsetstart_20112012,0,offset1,37,1) -> 18.5 | Q16: 9 | R16: =OFFSET(offsetstart_20112012,0,offset2,37,1) -> 9.2
E17: 1120 | F17: Individuals who wanted to participate in training but did not (%) | G17: =OFFSET(offsetstart_2006,0,offset1,37,1) -> 9.2 | H17: 14.5 | I17: =OFFSET(offsetstart_2006,0,offset2,37,1) -> 17.2 | J17: =OFFSET(offsetstart_2010,0,offset1,37,1) -> 7.9 | K17: 10.9 | L17: =OFFSET(offsetstart_2010,0,offset2,37,1) -> 13.5 | M17: =OFFSET(offsetstart_20062010,0,offset1,37,1) -> -1.3 | N17: -3.6 | O17: =OFFSET(offsetstart_20062010,0,offset2,37,1) -> -3.7 | P17: =OFFSET(offsetstart_20112012,0,offset1,37,1) | R17: =OFFSET(offsetstart_20112012,0,offset2,37,1)
E18: 1130 | F18: Job-related non-formal education and training (%) | G18: =OFFSET(offsetstart_2006,0,offset1,37,1) -> 82.1 | H18: 84.5 | I18: =OFFSET(offsetstart_2006,0,offset2,37,1) -> 86 | J18: =OFFSET(offsetstart_2010,0,offset1,37,1) -> 77.3 | K18: 81.4 | L18: =OFFSET(offsetstart_2010,0,offset2,37,1) -> 89.9 | M18: =OFFSET(offsetstart_20062010,0,offset1,37,1) -> -4.8 | N18: -3.1 | O18: =OFFSET(offsetstart_20062010,0,offset2,37,1) -> 3.9 | P18: =OFFSET(offsetstart_20112012,0,offset1,37,1) | R18: =OFFSET(offsetstart_20112012,0,offset2,37,1)
E19: Skill development and labour market relevance
E20: 2010 | F20: IVET public expenditure (% of GDP) | G20: =OFFSET(offsetstart_2006,0,offset1,37,1) -> 0.97 | H20: 0.67 | I20: =OFFSET(offsetstart_2006,0,offset2,37,1) | J20: =OFFSET(offsetstart_2010,0,offset1,37,1) -> 1.04 | K20: 0.71 | L20: =OFFSET(offsetstart_2010,0,offset2,37,1) | M20: =OFFSET(offsetstart_20062010,0,offset1,37,1) -> 0.07 | N20: 0.04 | O20: =OFFSET(offsetstart_20062010,0,offset2,37,1) | P20: =OFFSET(offsetstart_20112012,0,offset1,37,1) | R20: =OFFSET(offsetstart_20112012,0,offset2,37,1)
E21: 2020 | F21: IVET public expenditure (EUR per student) | G21: =OFFSET(offsetstart_2006,0,offset1,37,1) | H21: 7089 | I21: =OFFSET(offsetstart_2006,0,offset2,37,1) | J21: =OFFSET(offsetstart_2010,0,offset1,37,1) | K21: 8549 | L21: =OFFSET(offsetstart_2010,0,offset2,37,1) | M21: =OFFSET(offsetstart_20062010,0,offset1,37,1) | N21: 1460 | O21: =OFFSET(offsetstart_20062010,0,offset2,37,1) | P21: =OFFSET(offsetstart_20112012,0,offset1,37,1) | R21: =OFFSET(offsetstart_20112012,0,offset2,37,1)
E22: 2030 | F22: Enterprise expenditure on CVT courses as % of total labour cost | G22: =OFFSET(offsetstart_2006,0,offset1,37,1) -> 0.8 | H22: 0.9 | I22: =OFFSET(offsetstart_2006,0,offset2,37,1) -> 0.6 | J22: =OFFSET(offsetstart_2010,0,offset1,37,1) -> 0.8 | K22: 0.8 | L22: =OFFSET(offsetstart_2010,0,offset2,37,1) -> 0.9 | M22: =OFFSET(offsetstart_20062010,0,offset1,37,1) -> 0 | N22: -0.1 | O22: =OFFSET(offsetstart_20062010,0,offset2,37,1) -> 0.3 | P22: =OFFSET(offsetstart_20112012,0,offset1,37,1) | R22: =OFFSET(offsetstart_20112012,0,offset2,37,1)
E23: 2040 | F23: Average number of foreign languages learned in IVET | G23: =OFFSET(offsetstart_2006,0,offset1,37,1) -> 1.3 | H23: 1.2 | I23: =OFFSET(offsetstart_2006,0,offset2,37,1) -> 1.3 | J23: =OFFSET(offsetstart_2010,0,offset1,37,1) -> 1.2 | K23: 1.2 | L23: =OFFSET(offsetstart_2010,0,offset2,37,1) -> 1.3 | M23: =OFFSET(offsetstart_20062010,0,offset1,37,1) -> -0.1 | N23: 0 | O23: =OFFSET(offsetstart_20062010,0,offset2,37,1) -> 0 | P23: =OFFSET(offsetstart_20112012,0,offset1,37,1) -> 1.2 | Q23: 1.2 | R23: =OFFSET(offsetstart_20112012,0,offset2,37,1) -> 1.3
E24: 2050 | F24: STEM graduates from upper secondary VET (% of total) | G24: =OFFSET(offsetstart_2006,0,offset1,37,1) | H24: 32 | I24: =OFFSET(offsetstart_2006,0,offset2,37,1) -> 23.5 | J24: =OFFSET(offsetstart_2010,0,offset1,37,1) | K24: 28.7 | L24: =OFFSET(offsetstart_2010,0,offset2,37,1) -> 19.1 | M24: =OFFSET(offsetstart_20062010,0,offset1,37,1) | N24: -3.3 | O24: =OFFSET(offsetstart_20062010,0,offset2,37,1) -> -4.4 | P24: =OFFSET(offsetstart_20112012,0,offset1,37,1) | Q24: 29.4 | R24: =OFFSET(offsetstart_20112012,0,offset2,37,1) -> 19.1
E25: 2060 | F25: 30-34 year-olds with tertiary VET attainment (%) | G25: =OFFSET(offsetstart_2006,0,offset1,37,1) -> 7.3 | H25: 7.3 | I25: =OFFSET(offsetstart_2006,0,offset2,37,1) -> 22 | J25: =OFFSET(offsetstart_2010,0,offset1,37,1) -> 6.2 | K25: 7.3 | L25: =OFFSET(offsetstart_2010,0,offset2,37,1) -> 20.7 | M25: =OFFSET(offsetstart_20062010,0,offset1,37,1) -> -1.1 | N25: 0 | O25: =OFFSET(offsetstart_20062010,0,offset2,37,1) -> -1.3 | P25: =OFFSET(offsetstart_20112012,0,offset1,37,1) -> 6.2 | Q25: 8.6 | R25: =OFFSET(offsetstart_20112012,0,offset2,37,1) -> 19.8
E26: 2070 | F26: Innovative enterprises with supportive training practices (%) | G26: =OFFSET(offsetstart_2006,0,offset1,37,1) -> 61.6 | H26: 42.8 | I26: =OFFSET(offsetstart_2006,0,offset2,37,1) -> 63.3 | J26: =OFFSET(offsetstart_2010,0,offset1,37,1) -> 59.1 | K26: 41.5 | L26: =OFFSET(offsetstart_2010,0,offset2,37,1) -> 60 | M26: =OFFSET(offsetstart_20062010,0,offset1,37,1) -> -2.5 | N26: -1.3 | O26: =OFFSET(offsetstart_20062010,0,offset2,37,1) -> -3.3 | P26: =OFFSET(offsetstart_20112012,0,offset1,37,1) | R26: =OFFSET(offsetstart_20112012,0,offset2,37,1)
E27: 2080 | F27: Employment rate for IVET graduates (20-34 year-olds) | G27: =OFFSET(offsetstart_2006,0,offset1,37,1) | I27: =OFFSET(offsetstart_2006,0,offset2,37,1) | J27: =OFFSET(offsetstart_2010,0,offset1,37,1) -> 88 | K27: 79.1 | L27: =OFFSET(offsetstart_2010,0,offset2,37,1) -> 85 | M27: =OFFSET(offsetstart_20062010,0,offset1,37,1) | O27: =OFFSET(offsetstart_20062010,0,offset2,37,1) | P27: =OFFSET(offsetstart_20112012,0,offset1,37,1) | R27: =OFFSET(offsetstart_20112012,0,offset2,37,1)
E28: 2090 | F28: Employment premium for IVET graduates (over general stream) | G28: =OFFSET(offsetstart_2006,0,offset1,37,1) | I28: =OFFSET(offsetstart_2006,0,offset2,37,1) | J28: =OFFSET(offsetstart_2010,0,offset1,37,1) -> 5.1 | K28: 5.6 | L28: =OFFSET(offsetstart_2010,0,offset2,37,1) -> 11.2 | M28: =OFFSET(offsetstart_20062010,0,offset1,37,1) | O28: =OFFSET(offsetstart_20062010,0,offset2,37,1) | P28: =OFFSET(offsetstart_20112012,0,offset1,37,1) | R28: =OFFSET(offsetstart_20112012,0,offset2,37,1)
E29: 2100 | F29: Employment premium for IVET graduates (over low-educated) | G29: =OFFSET(offsetstart_2006,0,offset1,37,1) | I29: =OFFSET(offsetstart_2006,0,offset2,37,1) | J29: =OFFSET(offsetstart_2010,0,offset1,37,1) -> 26.4 | K29: 17.4 | L29: =OFFSET(offsetstart_2010,0,offset2,37,1) -> 26.9 | M29: =OFFSET(offsetstart_20062010,0,offset1,37,1) | O29: =OFFSET(offsetstart_20062010,0,offset2,37,1) | P29: =OFFSET(offsetstart_20112012,0,offset1,37,1) | R29: =OFFSET(offsetstart_20112012,0,offset2,37,1)
E30: 2110 | F30: Workers helped to improve their work by training (%) | G30: =OFFSET(offsetstart_2006,0,offset1,37,1) | I30: =OFFSET(offsetstart_2006,0,offset2,37,1) | J30: =OFFSET(offsetstart_2010,0,offset1,37,1) -> 94.9 | K30: 89.7 | L30: =OFFSET(offsetstart_2010,0,offset2,37,1) -> 87 | M30: =OFFSET(offsetstart_20062010,0,offset1,37,1) | O30: =OFFSET(offsetstart_20062010,0,offset2,37,1) | P30: =OFFSET(offsetstart_20112012,0,offset1,37,1) | R30: =OFFSET(offsetstart_20112012,0,offset2,37,1)
E31: 2120 | F31: Workers with skills matched to their duties (%) | G31: =OFFSET(offsetstart_2006,0,offset1,37,1) | I31: =OFFSET(offsetstart_2006,0,offset2,37,1) | J31: =OFFSET(offsetstart_2010,0,offset1,37,1) -> 58.5 | K31: 55.3 | L31: =OFFSET(offsetstart_2010,0,offset2,37,1) -> 61.2 | M31: =OFFSET(offsetstart_20062010,0,offset1,37,1) | O31: =OFFSET(offsetstart_20062010,0,offset2,37,1) | P31: =OFFSET(offsetstart_20112012,0,offset1,37,1) | R31: =OFFSET(offsetstart_20112012,0,offset2,37,1)
E32: Overall transitions and labour market trends
E33: 3010 | F33: Early leavers from education and training (%) | G33: =OFFSET(offsetstart_2006,0,offset1,37,1) -> 9.8 | H33: 15.5 | I33: =OFFSET(offsetstart_2006,0,offset2,37,1) -> 12.6 | J33: =OFFSET(offsetstart_2010,0,offset1,37,1) -> 8.3 | K33: 14 | L33: =OFFSET(offsetstart_2010,0,offset2,37,1) -> 11.9 | M33: =OFFSET(offsetstart_20062010,0,offset1,37,1) -> -1.5 | N33: -1.5 | O33: =OFFSET(offsetstart_20062010,0,offset2,37,1) -> -0.7 | P33: =OFFSET(offsetstart_20112012,0,offset1,37,1) -> 7.6 | Q33: 12.8(p) | R33: =OFFSET(offsetstart_20112012,0,offset2,37,1) -> 12
E34: 3020 | F34: 30-34 year-olds with tertiary attainment (%) | G34: =OFFSET(offsetstart_2006,0,offset1,37,1) -> 21.2 | H34: 28.9 | I34: =OFFSET(offsetstart_2006,0,offset2,37,1) -> 41.4 | J34: =OFFSET(offsetstart_2010,0,offset1,37,1) -> 23.5 | K34: 33.5 | L34: =OFFSET(offsetstart_2010,0,offset2,37,1) -> 44.4 | M34: =OFFSET(offsetstart_20062010,0,offset1,37,1) -> 2.3 | N34: 4.6 | O34: =OFFSET(offsetstart_20062010,0,offset2,37,1) -> 3 | P34: =OFFSET(offsetstart_20112012,0,offset1,37,1) -> 26.3 | Q34: 35.8 | R34: =OFFSET(offsetstart_20112012,0,offset2,37,1) -> 43.9
E35: 3030 | F35: NEET rate for 18-24 year-olds (%) | G35: =OFFSET(offsetstart_2006,0,offset1,37,1) -> 9.3 | H35: 15.1 | I35: =OFFSET(offsetstart_2006,0,offset2,37,1) -> 14.6 | J35: =OFFSET(offsetstart_2010,0,offset1,37,1) -> 8.8 | K35: 16.5 | L35: =OFFSET(offsetstart_2010,0,offset2,37,1) -> 14.3 | M35: =OFFSET(offsetstart_20062010,0,offset1,37,1) -> -0.5 | N35: 1.4 | O35: =OFFSET(offsetstart_20062010,0,offset2,37,1) -> -0.3 | P35: =OFFSET(offsetstart_20112012,0,offset1,37,1) -> 7.8 | Q35: 17.0(p) | R35: =OFFSET(offsetstart_20112012,0,offset2,37,1) -> 15
E36: 3040 | F36: Unemployment rate for 20-34 year-olds (%) | G36: =OFFSET(offsetstart_2006,0,offset1,37,1) -> 5.7 | H36: 10.6 | I36: =OFFSET(offsetstart_2006,0,offset2,37,1) -> 11.5 | J36: =OFFSET(offsetstart_2010,0,offset1,37,1) -> 6.2 | K36: 13.1 | L36: =OFFSET(offsetstart_2010,0,offset2,37,1) -> 12.2 | M36: =OFFSET(offsetstart_20062010,0,offset1,37,1) -> 0.5 | N36: 2.5 | O36: =OFFSET(offsetstart_20062010,0,offset2,37,1) -> 0.7 | P36: =OFFSET(offsetstart_20112012,0,offset1,37,1) -> 5.8 | Q36: 14.5 | R36: =OFFSET(offsetstart_20112012,0,offset2,37,1) -> 11.5
E37: 3050 | F37: Adults with lower level of educational attainment (%) | G37: =OFFSET(offsetstart_2006,0,offset1,37,1) -> 19.7 | H37: 30.1 | I37: =OFFSET(offsetstart_2006,0,offset2,37,1) -> 33.1 | J37: =OFFSET(offsetstart_2010,0,offset1,37,1) -> 17.5 | K37: 27.3 | L37: =OFFSET(offsetstart_2010,0,offset2,37,1) -> 29.5 | M37: =OFFSET(offsetstart_20062010,0,offset1,37,1) -> -2.2 | N37: -2.8 | O37: =OFFSET(offsetstart_20062010,0,offset2,37,1) -> -3.6 | P37: =OFFSET(offsetstart_20112012,0,offset1,37,1) -> 16.9 | Q37: 25.8 | R37: =OFFSET(offsetstart_20112012,0,offset2,37,1) -> 28.4
E38: 3060 | F38: Employment rate for 20-64 year-olds (%) | G38: =OFFSET(offsetstart_2006,0,offset1,37,1) -> 73.2 | H38: 69 | I38: =OFFSET(offsetstart_2006,0,offset2,37,1) -> 66.5 | J38: =OFFSET(offsetstart_2010,0,offset1,37,1) -> 74.9 | K38: 68.5 | L38: =OFFSET(offsetstart_2010,0,offset2,37,1) -> 67.6 | M38: =OFFSET(offsetstart_20062010,0,offset1,37,1) -> 1.7 | N38: -0.5 | O38: =OFFSET(offsetstart_20062010,0,offset2,37,1) -> 1.1 | P38: =OFFSET(offsetstart_20112012,0,offset1,37,1) -> 75.6 | Q38: 68.5 | R38: =OFFSET(offsetstart_20112012,0,offset2,37,1) -> 67.2
E39: 3070 | F39: Medium/high-qualified employment in 2020 (% of total) | G39: =OFFSET(offsetstart_2006,0,offset1,37,1) | I39: =OFFSET(offsetstart_2006,0,offset2,37,1) | J39: =OFFSET(offsetstart_2010,0,offset1,37,1) -> 85.4 | K39: 82.3 | L39: =OFFSET(offsetstart_2010,0,offset2,37,1) -> 85 | M39: =OFFSET(offsetstart_20062010,0,offset1,37,1) | O39: =OFFSET(offsetstart_20062010,0,offset2,37,1) | P39: =OFFSET(offsetstart_20112012,0,offset1,37,1) | R39: =OFFSET(offsetstart_20112012,0,offset2,37,1)
E40: Copyright © European Centre for the Development of Vocational Training, 2014

Sheet chart2_calc
J1: INDEX
C2: =OFFSET(offsetstart_chart2,0,offset_chart2) -> AT | D2: EU | E2: =OFFSET(offsetstart_chart2,0,offset_chart2+1) -> AT | F2: EU | G2: =OFFSET(offsetstart_chart2,0,offset_chart2+2) -> AT | H2: EU | L2: =OFFSET(offsetstart_chart2,-1,offset_chart2) -> Austria
C3: =OFFSET(offsetstart_chart2,-2,offset_chart2) -> 2006 | D3: 2006 | E3: =OFFSET(offsetstart_chart2,-2,offset_chart2+1) -> 2010 | F3: 2010 | G3: =OFFSET(offsetstart_chart2,-2,offset_chart2+2) -> 2011/12 updates | H3: 2011/12 | L3: 2006 | M3: 2010 | N3: 2011/12 updates
A4: Access, attractiveness and flexibility | J4: Access, attractiveness and flexibility
B5: 1010 IVET-students of all upper secondary students (%) | C5: =OFFSET(offsetstart_chart2,2,offset_chart2) -> 77.9 | D5: 51.7 | E5: =OFFSET(offsetstart_chart2,2,offset_chart2+1) -> 76.8 | F5: 49.9 | G5: =OFFSET(offsetstart_chart2,2,offset_chart2+2) -> 76.1 | H5: 50.3 | K5: 1010 IVET-students of all upper secondary students (%) | L5: =IFERROR(C5*100/D5," ") -> 150.67698 | M5: =IFERROR(E5*100/F5, " ") -> 153.90782 | N5: =IFERROR(G5*100/H5," ") -> 151.29225
B6: 1020 IVET work-based students in upper secondary IVET (%) | C6: =OFFSET(offsetstart_chart2,3,offset_chart2) -> 42.4 | D6: 27.7 | E6: =OFFSET(offsetstart_chart2,3,offset_chart2+1) -> 45.1 | F6: 27.9 | G6: =OFFSET(offsetstart_chart2,3,offset_chart2+2) -> 45.7 | H6: 27 | K6: 1020 IVET work-based students in upper secondary IVET (%) | L6: =IFERROR(C6*100/D6," ") -> 153.06859 | M6: =IFERROR(E6*100/F6, " ") -> 161.64875 | N6: =IFERROR(G6*100/H6," ") -> 169.25926
B7: 1030 Employees participating in CVT courses (%) | C7: =OFFSET(offsetstart_chart2,4,offset_chart2) -> 33 | D7: 33 | E7: =OFFSET(offsetstart_chart2,4,offset_chart2+1) -> 33 | F7: 38 | G7: =OFFSET(offsetstart_chart2,4,offset_chart2+2) | K7: 1030 Employees participating in CVT courses (%) | L7: =IFERROR(C7*100/D7," ") -> 100 | M7: =IFERROR(E7*100/F7, " ") -> 86.842105 | N7: =IFERROR(G7*100/H7," ")
B8: 1040 Employees participating in on-the-job training (%) | C8: =OFFSET(offsetstart_chart2,5,offset_chart2) -> 9 | D8: 16 | E8: =OFFSET(offsetstart_chart2,5,offset_chart2+1) -> 12 | F8: 21 | G8: =OFFSET(offsetstart_chart2,5,offset_chart2+2) | K8: 1040 Employees participating in on-the-job training (%) | L8: =IFERROR(C8*100/D8," ") -> 56.25 | M8: =IFERROR(E8*100/F8, " ") -> 57.142857 | N8: =IFERROR(G8*100/H8," ")
B9: 1050 Adults in lifelong learning (%) | C9: =OFFSET(offsetstart_chart2,6,offset_chart2) -> 13.1 | D9: 9.5 | E9: =OFFSET(offsetstart_chart2,6,offset_chart2+1) -> 13.7 | F9: 9.1 | G9: =OFFSET(offsetstart_chart2,6,offset_chart2+2) -> 14.1 | H9: 9 | K9: 1050 Adults in lifelong learning (%) | L9: =IFERROR(C9*100/D9," ") -> 137.89474 | M9: =IFERROR(E9*100/F9, " ") -> 150.54945 | N9: =IFERROR(G9*100/H9," ") -> 156.66667
B10: 1060 Enterprises providing training (%) | C10: =OFFSET(offsetstart_chart2,7,offset_chart2) -> 81 | D10: 60 | E10: =OFFSET(offsetstart_chart2,7,offset_chart2+1) -> 87 | F10: 66 | G10: =OFFSET(offsetstart_chart2,7,offset_chart2+2) | K10: 1060 Enterprises providing training (%) | L10: =IFERROR(C10*100/D10," ") -> 135 | M10: =IFERROR(E10*100/F10, " ") | N10: =IFERROR(G10*100/H10," ")
B11: 1070 Female IVET students of all female upper secondary students (%) | C11: =OFFSET(offsetstart_chart2,8,offset_chart2) -> 73.3 | D11: 46.3 | E11: =OFFSET(offsetstart_chart2,8,offset_chart2+1) -> 71.9 | F11: 44.2 | G11: =OFFSET(offsetstart_chart2,8,offset_chart2+2) -> 71.1 | H11: 44.7 | K11: 1070 Female IVET students of all female upper secondary students (%) | L11: =IFERROR(C11*100/D11," ") -> 158.31533 | M11: =IFERROR(E11*100/F11, " ") -> 162.66968 | N11: =IFERROR(G11*100/H11," ") -> 159.0604
B12: 1080 Young VET graduates in further education and training (%) | C12: =OFFSET(offsetstart_chart2,9,offset_chart2) | E12: =OFFSET(offsetstart_chart2,9,offset_chart2+1) -> 32.8 | F12: 30.7 | G12: =OFFSET(offsetstart_chart2,9,offset_chart2+2) | K12: 1080 Young VET graduates in further education and training (%) | L12: =IFERROR(C12*100/D12," ") | M12: =IFERROR(E12*100/F12, " ") -> 106.84039 | N12: =IFERROR(G12*100/H12," ")
B13: 1090 Older adults in lifelong learning (%) | C13: =OFFSET(offsetstart_chart2,10,offset_chart2) -> 7.8 | D13: 5.1 | E13: =OFFSET(offsetstart_chart2,10,offset_chart2+1) -> 8.2 | F13: 5.3 | G13: =OFFSET(offsetstart_chart2,10,offset_chart2+2) -> 8.3 | H13: 5.3 | K13: 1090 Older adults in lifelong learning (%) | L13: =IFERROR(C13*100/D13," ") -> 152.94118 | M13: =IFERROR(E13*100/F13, " ") -> 154.71698 | N13: =IFERROR(G13*100/H13," ") -> 156.60377
B14: 1100 Low-educated adults in lifelong learning (%) | C14: =OFFSET(offsetstart_chart2,11,offset_chart2) -> 4.6 | D14: 3.7 | E14: =OFFSET(offsetstart_chart2,11,offset_chart2+1) -> 4.5 | F14: 3.9 | G14: =OFFSET(offsetstart_chart2,11,offset_chart2+2) -> 5 | H14: 3.9 | K14: 1100 Low-educated adults in lifelong learning (%) | L14: =IFERROR(C14*100/D14," ") -> 124.32432 | M14: =IFERROR(E14*100/F14, " ") -> 115.38462 | N14: =IFERROR(G14*100/H14," ") -> 128.20513
B15: 1110 Unemployed adults in lifelong learning (%) | C15: =OFFSET(offsetstart_chart2,12,offset_chart2) -> 18.6 | D15: 7.7 | E15: =OFFSET(offsetstart_chart2,12,offset_chart2+1) -> 19.4 | F15: 9.2 | G15: =OFFSET(offsetstart_chart2,12,offset_chart2+2) -> 18.5 | H15: 9 | K15: 1110 Unemployed adults in lifelong learning (%) | L15: =IFERROR(C15*100/D15," ") -> 241.55844 | M15: =IFERROR(E15*100/F15, " ") -> 210.86957 | N15: =IFERROR(G15*100/H15," ") -> 205.55556
B16: 1120 Individuals who wanted to participate in training but did not (%) | C16: =OFFSET(offsetstart_chart2,13,offset_chart2) -> 9.2 | D16: 14.5 | E16: =OFFSET(offsetstart_chart2,13,offset_chart2+1) -> 7.9 | F16: 10.9 | G16: =OFFSET(offsetstart_chart2,13,offset_chart2+2) | K16: 1120 Individuals who wanted to participate in training but did not (%) | L16: =IFERROR(C16*100/D16," ") -> 63.448276 | M16: =IFERROR(E16*100/F16, " ") | N16: =IFERROR(G16*100/H16," ")
B17: 1130 Job-related non-formal education and training (%) | C17: =OFFSET(offsetstart_chart2,14,offset_chart2) -> 82.1 | D17: 84.5 | E17: =OFFSET(offsetstart_chart2,14,offset_chart2+1) -> 77.3 | F17: 81.4 | G17: =OFFSET(offsetstart_chart2,14,offset_chart2+2) | K17: 1130 Job-related non-formal education and training (%) | L17: =IFERROR(C17*100/D17," ") -> 97.159763 | M17: =IFERROR(E17*100/F17, " ") -> 94.963145 | N17: =IFERROR(G17*100/H17," ")
A18: Skill development and labour market relevance | J18: Skill development and labour market relevance
B19: 2010 IVET Public expenditure (% of GDP) | C19: =OFFSET(offsetstart_chart2,16,offset_chart2) -> 0.97 | D19: 0.67 | E19: =OFFSET(offsetstart_chart2,16,offset_chart2+1) -> 1.04 | F19: 0.71 | G19: =OFFSET(offsetstart_chart2,16,offset_chart2+2) | K19: 2010 IVET Public expenditure (% of GDP) | L19: =IFERROR(C19*100/D19," ") -> 144.77612 | M19: =IFERROR(E19*100/F19, " ") -> 146.47887 | N19: =IFERROR(G19*100/H19," ")
B20: 2020 IVET Public expenditure (EUR per student) | C20: =OFFSET(offsetstart_chart2,17,offset_chart2) | D20: 7089 | E20: =OFFSET(offsetstart_chart2,17,offset_chart2+1) | F20: 8549 | G20: =OFFSET(offsetstart_chart2,17,offset_chart2+2) | K20: 2020 IVET Public expenditure (EUR per student) | L20: =IFERROR(C20*100/D20," ") | M20: =IFERROR(E20*100/F20, " ") | N20: =IFERROR(G20*100/H20," ")
B21: 2030 Enterprise expenditure on CVT courses (% of total labour cost) | C21: =OFFSET(offsetstart_chart2,18,offset_chart2) -> 0.8 | D21: 0.9 | E21: =OFFSET(offsetstart_chart2,18,offset_chart2+1) -> 0.8 | F21: 0.8 | G21: =OFFSET(offsetstart_chart2,18,offset_chart2+2) | K21: 2030 Enterprise expenditure on CVT courses (% of total labour cost) | L21: =IFERROR(C21*100/D21," ") -> 88.888889 | M21: =IFERROR(E21*100/F21, " ") -> 100 | N21: =IFERROR(G21*100/H21," ")
B22: 2040 Average number of foreign languages learned in IVET | C22: =OFFSET(offsetstart_chart2,19,offset_chart2) -> 1.3 | D22: 1.2 | E22: =OFFSET(offsetstart_chart2,19,offset_chart2+1) -> 1.2 | F22: 1.2 | G22: =OFFSET(offsetstart_chart2,19,offset_chart2+2) -> 1.2 | H22: 1.2 | K22: 2040 Average number of foreign languages learned in IVET | L22: =IFERROR(C22*100/D22," ") -> 108.33333 | M22: =IFERROR(E22*100/F22, " ") -> 100 | N22: =IFERROR(G22*100/H22," ") -> 100
B23: 2050 STEM graduates from upper secondary IVET (% of total) | C23: =OFFSET(offsetstart_chart2,20,offset_chart2) | D23: 32 | E23: =OFFSET(offsetstart_chart2,20,offset_chart2+1) | F23: 28.7 | G23: =OFFSET(offsetstart_chart2,20,offset_chart2+2) | H23: 29.4 | K23: 2050 STEM graduates from upper secondary IVET (% of total) | L23: =IFERROR(C23*100/D23," ") | M23: =IFERROR(E23*100/F23, " ") | N23: =IFERROR(G23*100/H23," ")
B24: 2060 30-34 year-olds with tertiary VET attainment (%) | C24: =OFFSET(offsetstart_chart2,21,offset_chart2) -> 7.3 | D24: 7.3 | E24: =OFFSET(offsetstart_chart2,21,offset_chart2+1) -> 6.2 | F24: 7.3 | G24: =OFFSET(offsetstart_chart2,21,offset_chart2+2) -> 6.2 | H24: 8.6 | K24: 2060 30-34 year-olds with tertiary VET attainment (%) | L24: =IFERROR(C24*100/D24," ") -> 100 | M24: =IFERROR(E24*100/F24, " ") -> 84.931507 | N24: =IFERROR(G24*100/H24," ") -> 72.093023
B25: 2070 Innovative enterprises with supportive training practices (%) | C25: =OFFSET(offsetstart_chart2,22,offset_chart2) -> 61.6 | D25: 42.8 | E25: =OFFSET(offsetstart_chart2,22,offset_chart2+1) -> 59.1 | F25: 41.5 | G25: =OFFSET(offsetstart_chart2,22,offset_chart2+2) | K25: 2070 Innovative enterprises with supportive training practices (%) | L25: =IFERROR(C25*100/D25," ") -> 143.92523 | M25: =IFERROR(E25*100/F25, " ") -> 142.40964 | N25: =IFERROR(G25*100/H25," ")
