Workbook
Name countries: calculations!$L$4:$N$36
Name COUNTRY1: calculations!$B$4
Name COUNTRY2: calculations!$D$4
Name datasource: OFFSET(offsetstart, 0, offset1,38,1)
Name offset_chart2: calculations!$C$5
Name offset1: calculations!$C$4
Name offset2: calculations!$E$4
Name offsetstart: 'raw data'!$C$1
Name offsetstart_2006: table_data!$B$4
Name offsetstart_20062010: table_data!$BP$4
Name offsetstart_2010: table_data!$AI$4
Name offsetstart_20112012: table_data!$CW$4
Name offsetstart_chart2: chart2_data!$B$4

Sheet Read_me

Sheet compare_countries_graph
D1: On the way to 2020: data for vocational education and training policies. Update 2013
A2: COMPARE
D51: Copyright © European Centre for the Development of Vocational Training, 2014

Sheet compare_countries_table
E1: On the way to 2020: data for vocational education and training policies. Update 2013
A2: COMPARE | E2: Score on VET indicators 2006, 2010 and 2011/12 (where available)
E3: Indicator label | G3: 2006 | J3: 2010 | M3: Change 2006-10 | P3: 2011/12 updates
G4: =compare_table_calc!G4 -> AT | H4: EU | I4: =compare_table_calc!I4 -> BE | J4: =compare_table_calc!J4 -> AT | K4: EU | L4: =compare_table_calc!L4 -> BE | M4: =compare_table_calc!M4 -> AT | N4: EU | O4: =compare_table_calc!O4 -> BE | P4: =compare_table_calc!P4 -> AT | Q4: EU | R4: =compare_table_calc!R4 -> BE
E5: Access, attractiveness and flexibility
E6: 1010 | F6: IVET-students as % of all upper secondary students | G6: =compare_table_calc!G6 -> 77.9 | H6: 51.7 | I6: =compare_table_calc!I6 -> 69.5 | J6: =compare_table_calc!J6 -> 76.8 | K6: 49.9 | L6: =compare_table_calc!L6 -> 73 | M6: =compare_table_calc!M6 -> -1.1 | N6: -1.8 | O6: =compare_table_calc!O6 -> 3.5 | P6: =compare_table_calc!P6 -> 76.1 | Q6: 50.3 | R6: =compare_table_calc!R6 -> 72.8
E7: 1020 | F7: IVET work-based students as % of upper secondary IVET | G7: =compare_table_calc!G7 -> 42.4 | H7: 27.7 | I7: =compare_table_calc!I7 -> 5 | J7: =compare_table_calc!J7 -> 45.1 | K7: 27.9 | L7: =compare_table_calc!L7 -> 4.3 | M7: =compare_table_calc!M7 -> 2.7 | N7: 0.2 | O7: =compare_table_calc!O7 -> -0.7 | P7: =compare_table_calc!P7 -> 45.7 | Q7: 27 | R7: =compare_table_calc!R7 -> 4.3
E8: 1030 | F8: Employees participating in CVT courses (%) | G8: =compare_table_calc!G8 -> 33 | H8: 33 | I8: =compare_table_calc!I8 -> 40 | J8: =compare_table_calc!J8 -> 33 | K8: 38 | L8: =compare_table_calc!L8 -> 52 | M8: =compare_table_calc!M8 -> 0 | N8: 5 | O8: =compare_table_calc!O8 -> 12 | P8: =compare_table_calc!P8 | R8: =compare_table_calc!R8
E9: 1040 | F9: Employees participating in on-the-job training (%) | G9: =compare_table_calc!G9 -> 9 | H9: 16 | I9: =compare_table_calc!I9 -> 21 | J9: =compare_table_calc!J9 -> 12 | K9: 21 | L9: =compare_table_calc!L9 -> 21 | M9: =compare_table_calc!M9 -> 3 | N9: 5 | O9: =compare_table_calc!O9 -> 0 | P9: =compare_table_calc!P9 | R9: =compare_table_calc!R9
E10: 1050 | F10: Adults in lifelong learning (%) | G10: =compare_table_calc!G10 -> 13.1 | H10: 9.5 | I10: =compare_table_calc!I10 -> 7.5 | J10: =compare_table_calc!J10 -> 13.7 | K10: 9.1 | L10: =compare_table_calc!L10 -> 7.2 | M10: =compare_table_calc!M10 -> 0.6 | N10: -0.4 | O10: =compare_table_calc!O10 -> -0.3 | P10: =compare_table_calc!P10 -> 14.1 | Q10: 9 | R10: =compare_table_calc!R10 -> 6.6
E11: 1060 | F11: Enterprises providing training (%) | G11: =compare_table_calc!G11 -> 81 | H11: 60 | I11: =compare_table_calc!I11 -> 63 | J11: =compare_table_calc!J11 -> 87 | K11: 66 | L11: =compare_table_calc!L11 -> 78 | M11: =compare_table_calc!M11 -> 6 | N11: 6 | O11: =compare_table_calc!O11 -> 15 | P11: =compare_table_calc!P11 | R11: =compare_table_calc!R11
E12: 1070 | F12: Female IVET students as % of all female upper secondary students | G12: =compare_table_calc!G12 -> 73.3 | H12: 46.3 | I12: =compare_table_calc!I12 -> 68.3 | J12: =compare_table_calc!J12 -> 71.9 | K12: 44.2 | L12: =compare_table_calc!L12 -> 72.9 | M12: =compare_table_calc!M12 -> -1.4 | N12: -2.1 | O12: =compare_table_calc!O12 -> 4.6 | P12: =compare_table_calc!P12 -> 71.1 | Q12: 44.7 | R12: =compare_table_calc!R12 -> 72.9
E13: 1080 | F13: Young VET graduates in further education and training (%) | G13: =compare_table_calc!G13 | I13: =compare_table_calc!I13 | J13: =compare_table_calc!J13 -> 32.8 | K13: 30.7 | L13: =compare_table_calc!L13 -> 31 | M13: =compare_table_calc!M13 | O13: =compare_table_calc!O13 | P13: =compare_table_calc!P13 | R13: =compare_table_calc!R13
E14: 1090 | F14: Older adults in lifelong learning (%) | G14: =compare_table_calc!G14 -> 7.8 | H14: 5.1 | I14: =compare_table_calc!I14 -> 4.5 | J14: =compare_table_calc!J14 -> 8.2 | K14: 5.3 | L14: =compare_table_calc!L14 -> 4.6 | M14: =compare_table_calc!M14 -> 0.4 | N14: 0.2 | O14: =compare_table_calc!O14 -> 0.1 | P14: =compare_table_calc!P14 -> 8.3 | Q14: 5.3 | R14: =compare_table_calc!R14 -> 4.3
E15: 1100 | F15: Low-educated adults in lifelong learning (%) | G15: =compare_table_calc!G15 -> 4.6 | H15: 3.7 | I15: =compare_table_calc!I15 -> 3 | J15: =compare_table_calc!J15 -> 4.5 | K15: 3.9 | L15: =compare_table_calc!L15 -> 3.1 | M15: =compare_table_calc!M15 -> -0.1 | N15: 0.2 | O15: =compare_table_calc!O15 -> 0.1 | P15: =compare_table_calc!P15 -> 5 | Q15: 3.9 | R15: =compare_table_calc!R15 -> 2.7
E16: 1110 | F16: Unemployed adults in lifelong learning (%) | G16: =compare_table_calc!G16 -> 18.6 | H16: 7.7 | I16: =compare_table_calc!I16 -> 10.4 | J16: =compare_table_calc!J16 -> 19.4 | K16: 9.2 | L16: =compare_table_calc!L16 -> 9 | M16: =compare_table_calc!M16 -> 0.8 | N16: 1.5 | O16: =compare_table_calc!O16 -> -1.4 | P16: =compare_table_calc!P16 -> 18.5 | Q16: 9 | R16: =compare_table_calc!R16 -> 9.2
E17: 1120 | F17: Individuals who wanted to participate in training but did not (%) | G17: =compare_table_calc!G17 -> 9.2 | H17: 14.5 | I17: =compare_table_calc!I17 -> 17.2 | J17: =compare_table_calc!J17 -> 7.9 | K17: 10.9 | L17: =compare_table_calc!L17 -> 13.5 | M17: =compare_table_calc!M17 -> -1.3 | N17: -3.6 | O17: =compare_table_calc!O17 -> -3.7 | P17: =compare_table_calc!P17 | R17: =compare_table_calc!R17
E18: 1130 | F18: Job-related non-formal education and training (%) | G18: =compare_table_calc!G18 -> 82.1 | H18: 84.5 | I18: =compare_table_calc!I18 -> 86 | J18: =compare_table_calc!J18 -> 77.3 | K18: 81.4 | L18: =compare_table_calc!L18 -> 89.9 | M18: =compare_table_calc!M18 -> -4.8 | N18: -3.1 | O18: =compare_table_calc!O18 -> 3.9 | P18: =compare_table_calc!P18 | R18: =compare_table_calc!R18
E19: Skill development and labour market relevance
E20: 2010 | F20: IVET public expenditure (% of GDP) | G20: =compare_table_calc!G20 -> 0.97 | H20: 0.67 | I20: =compare_table_calc!I20 | J20: =compare_table_calc!J20 -> 1.04 | K20: 0.71 | L20: =compare_table_calc!L20 | M20: =compare_table_calc!M20 -> 0.07 | N20: 0.04 | O20: =compare_table_calc!O20 | P20: =compare_table_calc!P20 | R20: =compare_table_calc!R20
E21: 2020 | F21: IVET public expenditure (EUR per student) | G21: =compare_table_calc!G21 | H21: 7089 | I21: =compare_table_calc!I21 | J21: =compare_table_calc!J21 | K21: 8549 | L21: =compare_table_calc!L21 | M21: =compare_table_calc!M21 | N21: 1460 | O21: =compare_table_calc!O21 | P21: =compare_table_calc!P21 | R21: =compare_table_calc!R21
E22: 2030 | F22: Enterprise expenditure on CVT courses as % of total labour cost | G22: =compare_table_calc!G22 -> 0.8 | H22: 0.9 | I22: =compare_table_calc!I22 -> 0.6 | J22: =compare_table_calc!J22 -> 0.8 | K22: 0.8 | L22: =compare_table_calc!L22 -> 0.9 | M22: =compare_table_calc!M22 -> 0 | N22: -0.1 | O22: =compare_table_calc!O22 -> 0.3 | P22: =compare_table_calc!P22 | R22: =compare_table_calc!R22
E23: 2040 | F23: Average number of foreign languages learned in IVET | G23: =compare_table_calc!G23 -> 1.3 | H23: 1.2 | I23: =compare_table_calc!I23 -> 1.3 | J23: =compare_table_calc!J23 -> 1.2 | K23: 1.2 | L23: =compare_table_calc!L23 -> 1.3 | M23: =compare_table_calc!M23 -> -0.1 | N23: 0 | O23: =compare_table_calc!O23 -> 0 | P23: =compare_table_calc!P23 -> 1.2 | Q23: 1.2 | R23: =compare_table_calc!R23 -> 1.3
E24: 2050 | F24: STEM graduates from upper secondary VET (% of total) | G24: =compare_table_calc!G24 | H24: 32 | I24: =compare_table_calc!I24 -> 23.5 | J24: =compare_table_calc!J24 | K24: 28.7 | L24: =compare_table_calc!L24 -> 19.1 | M24: =compare_table_calc!M24 | N24: -3.3 | O24: =compare_table_calc!O24 -> -4.4 | P24: =compare_table_calc!P24 | Q24: 29.4 | R24: =compare_table_calc!R24 -> 19.1
E25: 2060 | F25: 30-34 year-olds with tertiary VET attainment (%) | G25: =compare_table_calc!G25 -> 7.3 | H25: 7.3 | I25: =compare_table_calc!I25 -> 22 | J25: =compare_table_calc!J25 -> 6.2 | K25: 7.3 | L25: =compare_table_calc!L25 -> 20.7 | M25: =compare_table_calc!M25 -> -1.1 | N25: 0 | O25: =compare_table_calc!O25 -> -1.3 | P25: =compare_table_calc!P25 -> 6.2 | Q25: 8.6 | R25: =compare_table_calc!R25 -> 19.8
E26: 2070 | F26: Innovative enterprises with supportive training practices (%) | G26: =compare_table_calc!G26 -> 61.6 | H26: 42.8 | I26: =compare_table_calc!I26 -> 63.3 | J26: =compare_table_calc!J26 -> 59.1 | K26: 41.5 | L26: =compare_table_calc!L26 -> 60 | M26: =compare_table_calc!M26 -> -2.5 | N26: -1.3 | O26: =compare_table_calc!O26 -> -3.3 | P26: =compare_table_calc!P26 | R26: =compare_table_calc!R26
E27: 2080 | F27: Employment rate for IVET graduates (20-34 year-olds) | G27: =compare_table_calc!G27 | I27: =compare_table_calc!I27 | J27: =compare_table_calc!J27 -> 88 | K27: 79.1 | L27: =compare_table_calc!L27 -> 85 | M27: =compare_table_calc!M27 | O27: =compare_table_calc!O27 | P27: =compare_table_calc!P27 | R27: =compare_table_calc!R27
E28: 2090 | F28: Employment premium for IVET graduates (over general stream) | G28: =compare_table_calc!G28 | I28: =compare_table_calc!I28 | J28: =compare_table_calc!J28 -> 5.1 | K28: 5.6 | L28: =compare_table_calc!L28 -> 11.2 | M28: =compare_table_calc!M28 | O28: =compare_table_calc!O28 | P28: =compare_table_calc!P28 | R28: =compare_table_calc!R28
E29: 2100 | F29: Employment premium for IVET graduates (over low-educated) | G29: =compare_table_calc!G29 | I29: =compare_table_calc!I29 | J29: =compare_table_calc!J29 -> 26.4 | K29: 17.4 | L29: =compare_table_calc!L29 -> 26.9 | M29: =compare_table_calc!M29 | O29: =compare_table_calc!O29 | P29: =compare_table_calc!P29 | R29: =compare_table_calc!R29
E30: 2110 | F30: Workers helped to improve their work by training (%) | G30: =compare_table_calc!G30 | I30: =compare_table_calc!I30 | J30: =compare_table_calc!J30 -> 94.9 | K30: 89.7 | L30: =compare_table_calc!L30 -> 87 | M30: =compare_table_calc!M30 | O30: =compare_table_calc!O30 | P30: =compare_table_calc!P30 | R30: =compare_table_calc!R30
E31: 2120 | F31: Workers with skills matched to their duties (%) | G31: =compare_table_calc!G31 | I31: =compare_table_calc!I31 | J31: =compare_table_calc!J31 -> 58.5 | K31: 55.3 | L31: =compare_table_calc!L31 -> 61.2 | M31: =compare_table_calc!M31 | O31: =compare_table_calc!O31 | P31: =compare_table_calc!P31 | R31: =compare_table_calc!R31
E32: Overall transitions and labour market trends
E33: 3010 | F33: Early leavers from education and training (%) | G33: =compare_table_calc!G33 -> 9.8 | H33: 15.5 | I33: =compare_table_calc!I33 -> 12.6 | J33: =compare_table_calc!J33 -> 8.3 | K33: 14 | L33: =compare_table_calc!L33 -> 11.9 | M33: =compare_table_calc!M33 -> -1.5 | N33: -1.5 | O33: =compare_table_calc!O33 -> -0.7 | P33: =compare_table_calc!P33 -> 7.6 | Q33: 12.8(p) | R33: =compare_table_calc!R33 -> 12
E34: 3020 | F34: 30-34 year-olds with tertiary attainment (%) | G34: =compare_table_calc!G34 -> 21.2 | H34: 28.9 | I34: =compare_table_calc!I34 -> 41.4 | J34: =compare_table_calc!J34 -> 23.5 | K34: 33.5 | L34: =compare_table_calc!L34 -> 44.4 | M34: =compare_table_calc!M34 -> 2.3 | N34: 4.6 | O34: =compare_table_calc!O34 -> 3 | P34: =compare_table_calc!P34 -> 26.3 | Q34: 35.8 | R34: =compare_table_calc!R34 -> 43.9
E35: 3030 | F35: NEET rate for 18-24 year-olds (%) | G35: =compare_table_calc!G35 -> 9.3 | H35: 15.1 | I35: =compare_table_calc!I35 -> 14.6 | J35: =compare_table_calc!J35 -> 8.8 | K35: 16.5 | L35: =compare_table_calc!L35 -> 14.3 | M35: =compare_table_calc!M35 -> -0.5 | N35: 1.4 | O35: =compare_table_calc!O35 -> -0.3 | P35: =compare_table_calc!P35 -> 7.8 | Q35: 17.0(p) | R35: =compare_table_calc!R35 -> 15
E36: 3040 | F36: Unemployment rate for 20-34 year-olds (%) | G36: =compare_table_calc!G36 -> 5.7 | H36: 10.6 | I36: =compare_table_calc!I36 -> 11.5 | J36: =compare_table_calc!J36 -> 6.2 | K36: 13.1 | L36: =compare_table_calc!L36 -> 12.2 | M36: =compare_table_calc!M36 -> 0.5 | N36: 2.5 | O36: =compare_table_calc!O36 -> 0.7 | P36: =compare_table_calc!P36 -> 5.8 | Q36: 14.5 | R36: =compare_table_calc!R36 -> 11.5
E37: 3050 | F37: Adults with lower level of educational attainment (%) | G37: =compare_table_calc!G37 -> 19.7 | H37: 30.1 | I37: =compare_table_calc!I37 -> 33.1 | J37: =compare_table_calc!J37 -> 17.5 | K37: 27.3 | L37: =compare_table_calc!L37 -> 29.5 | M37: =compare_table_calc!M37 -> -2.2 | N37: -2.8 | O37: =compare_table_calc!O37 -> -3.6 | P37: =compare_table_calc!P37 -> 16.9 | Q37: 25.8 | R37: =compare_table_calc!R37 -> 28.4
E38: 3060 | F38: Employment rate for 20-64 year-olds (%) | G38: =compare_table_calc!G38 -> 73.2 | H38: 69 | I38: =compare_table_calc!I38 -> 66.5 | J38: =compare_table_calc!J38 -> 74.9 | K38: 68.5 | L38: =compare_table_calc!L38 -> 67.6 | M38: =compare_table_calc!M38 -> 1.7 | N38: -0.5 | O38: =compare_table_calc!O38 -> 1.1 | P38: =compare_table_calc!P38 -> 75.6 | Q38: 68.5 | R38: =compare_table_calc!R38 -> 67.2
E39: 3070 | F39: Medium/high-qualified employment in 2020 (% of total) | G39: =compare_table_calc!G39 | I39: =compare_table_calc!I39 | J39: =compare_table_calc!J39 -> 85.4 | K39: 82.3 | L39: =compare_table_calc!L39 -> 85 | M39: =compare_table_calc!M39 | O39: =compare_table_calc!O39 | P39: =compare_table_calc!P39 | R39: =compare_table_calc!R39
E40: Copyright © European Centre for the Development of Vocational Training, 2014

Sheet country_progress
E1: On the way to 2020: data for vocational education and training policies. Update 2013
A2: COUNTRY | E2: =COUNTRY1 -> Austria
E67: Copyright © European Centre for the Development of Vocational Training, 2014

Sheet description
A1: Short description of indicators
A2: No | B2: Indicator | C2: Short description and source | D2: Year used for 2010 column in the table | E2: Year used for 2006 column in the table | F2: Year used for 2011/12 column in the table | G2: Year used for the chart (worksheet: compare_countries_graph)
A3: Access, attractiveness and flexibility
A4: 1010 | B4: IVET students as % of all upper secondary students | C4: Number of students in upper secondary IVET (ISCED 3) as a percentage of all upper secondary students (Eurostat, UOE) | D4: 2010 | E4: 2006 | F4: 2011 | G4: 2011
A5: 1020 | B5: IVET work-based students as % of all upper secondary IVET (%) | C5: Number of students in combined work- and school-based upper secondary IVET (ISCED 3) as a percentage of all students in upper secondary IVET (Cedefop calculations based on Eurostat, UOE)(a)(b) | D5: 2010 | E5: 2006 | F5: 2011 | G5: 2011
A6: 1030 | B6: Employees participating in CVT courses (%) | C6: Number of employees who have participated in employer-sponsored CVT courses in the last 12 months as a percentage of all employees in all enterprises surveyed (Eurostat, CVTS) | D6: 2010 | E6: 2005 | G6: 2010
A7: 1040 | B7: Employees participating in on-the-job training (%) | C7: Number of employees who have participated in employer-sponsored on-the-job training in the last 12 months as a percentage of all employees in all enterprises surveyed (Eurostat, CVTS) | D7: 2010 | E7: 2005 | G7: 2010
A8: 1050 | B8: Adults in lifelong learning (%) | C8: Percentage of the population aged 25-64 participating in education and training over the four weeks prior to the survey (Eurostat, LFS) | D8: 2010 | E8: 2006 | F8: 2012 | G8: 2012
A9: 1060 | B9: Enterprises providing training (%) | C9: Percentage of enterprises providing any type of vocational training to their employees in the last 12 months (Eurostat, CVTS) | D9: 2010 | E9: 2005 | G9: 2010
A10: 1070 | B10: Female IVET students as % of all female upper secondary students | C10: Number of female students in upper secondary IVET (ISCED 3) as a percentage of all female students in upper secondary education (Eurostat, UOE) | D10: 2010 | E10: 2006 | F10: 2011 | G10: 2011
A11: 1080 | B11: Young VET graduates in further education and training (%) | C11: Percentage of the population aged 18-24 with a medium-level vocational qualification (ISCED 3 or 4) as their highest educational attainment who participated in education and training over four weeks prior to the survey (Cedefop calculations based on Eurostat, LFS - 2009 AHM)(a) | D11: 2009 | G11: 2009
A12: 1090 | B12: Older adults in lifelong learning (%) | C12: Percentage of the population aged 50-64 who participated in education and training over the four weeks prior to the survey (Cedefop calculations based on Eurostat, LFS) | D12: 2010 | E12: 2006 | F12: 2012 | G12: 2012
A13: 1100 | B13: Low-educated adults in lifelong learning (%) | C13: Percentage of the population aged 25-64 with lowest level of educational attainment (ISCED 0-2) who participated in education and training over the four weeks prior to the survey (Eurostat, LFS) | D13: 2010 | E13: 2006 | F13: 2012 | G13: 2012
A14: 1110 | B14: Unemployed adults in lifelong learning (%) | C14: Percentage of the unemployed population aged 25-64 who participated in education and training over the four weeks prior to the survey (Eurostat, LFS) | D14: 2010 | E14: 2006 | F14: 2012 | G14: 2012
A15: 1120 | B15: Individuals who wanted to participate in training but did not (%) | C15: Percentage of individuals aged 25-64 wanting to participate in education or training but did not do so (Eurostat, AES) | D15: 2011 | E15: 2007 | G15: 2011
A16: 1130 | B16: Job-related non-formal education and training (%) | C16: Non formal job-related learning activities as % of all non-formal learning activities. The indicator considers activities carried out in the 12 months prior to the survey by adults aged 25-64 | D16: 2011 | E16: 2007 | G16: 2011
A17: Skill development and labour market relevance
A18: 2010 | B18: IVET public expenditure (% of GDP) | C18: Public expenditure on vocational education at upper secondary and post-secondary level (ISCED 3 and 4) as a percentage of GDP (Eurostat, UOE)(a)(b) | D18: 2010 | E18: 2006 | G18: 2010
A19: 2020 | B19: IVET public expenditure (EUR per student) | C19: Public expenditure on vocational education at upper secondary and post-secondary level (ISCED 3 and 4) in EUR per student enrolled (Eurostat, UOE)(a)(b) | D19: 2010 | E19: 2006 | G19: 2010
A20: 2030 | B20: Enterprise expenditure on CVT courses as % of total labour cost | C20: Total monetary expenditure (TME) by enterprises on CVT courses as % of total labour cost (all enterprises). TME indicator excludes personnel absence costs (Cedefop calculations based on Eurostat, CVTS) | D20: 2010 | E20: 2005 | G20: 2010
A21: 2040 | B21: Average number of foreign languages learned in IVET | C21: Average number of foreign languages learned in vocational upper secondary education (ISCED 3) (Eurostat, UOE) | D21: 2010 | E21: 2006 | F21: 2011 | G21: 2012
A22: 2050 | B22: STEM graduates from upper secondary IVET (% of total) | C22: STEM (Science, Technology, Engineering and Mathematics) graduates from upper secondary vocational education (ISCED 3) as percentage of all upper secondary graduates across all subjects (Cedefop calculations based on Eurostat, UOE)(b) | D22: 2010 | E22: 2006 | F22: 2011 | G22: 2011
A23: 2060 | B23: 30-34 year-olds with tertiary VET attainment (%) | C23: Percentage of all 30-34 year-olds with a tertiary-level vocational qualification (ISCED 5b) as their highest educational attainment (Cedefop calculations based on Eurostat, LFS)(a) | D23: 2010 | E23: 2006 | F23: 2012 | G23: 2012
A24: 2070 | B24: Innovative enterprises with supportive training practices (%) | C24: Enterprises providing training to their staff to support technological innovation (as % of all enterprises reporting technological innovation in core innovation sectors) (Eurostat, CIS, only 2008)(b) | D24: 2010 | E24: 2008 | G24: 2010
A25: 2080 | B25: Employment rate for IVET graduates (20-34 year-olds) | C25: Employment rate of 20-34 year-olds with a medium-level qualification (ISCED 3 or 4) from the VET stream as their highest educational attainment. Calculations exclude those still in formal education. Those having an ISCED 3c short qualification as their highest educational attainment are considered as having a low education level (equivalent to lower secondary) and are also excluded. (Cedefop calculations based on Eurostat, LFS, 2009 AHM)(a) | D25: 2009 | G25: 2009
A26: 2090 | B26: Employment premium for IVET graduates (over general stream) | C26: The premium is expressed as a difference (in percentage points) between two indicators: the employment rate for young VET graduates (indicator 2080) and the employment rate for young graduates (20-34 year-olds) from the general stream of education at the same ISCED levels. Calculations exclude those still in formal education. Those having an ISCED 3c short qualification as their highest educational attainment are considered as having a low education level (equivalent to lower secondary) and are also excluded. (Cedefop calculations based on Eurostat, LFS, 2009 AHM)(a) | D26: 2009 | G26: 2009
A27: 2100 | B27: Employment premium for IVET graduates (over low-educated) | C27: The premium is expressed as a difference (in percentage points) between two indicators: the employment rate for young VET graduates (indicator 2080) and the employment rate for young graduates (20-34 year-olds) who have, at most, lower secondary education as their highest level of educational attainment. Calculations exclude those still in formal education. Those having an ISCED 3c short qualification as their highest educational attainment are considered as having a low education (equivalent to lower secondary) level and are included only in that group. (Cedefop calculations based on Eurostat, LFS, 2009 AHM)(a) | D27: 2009 | G27: 2009
A28: 2110 | B28: Workers helped to improve their work by training (%) | C28: Percentage of employed individuals who answered ‘Agree’ to the statement ‘The training has helped me improve the way I work’. This question is only answered by those employees for whom training was provided by the employer (or by themselves in case of self-employed people) (Eurofound, EWCS, only 2010) | D28: 2010
A29: 2120 | B29: Workers with skills matched to their duties (%) | C29: Percentage of employed people surveyed who answered ‘My present skills correspond well with my duties’ to the question ‘Which of the following alternatives would best describe your skills in your own work?’. Other possible answers are ‘I need further training to cope well with my duties’, ‘I have the skills to cope with more demanding duties’ (Eurofound, EWCS, only 2010) | D29: 2010
A30: Overall transitions and labour market trends
A31: 3010 | B31: Early leavers from education and training (%) | C31: Percentage of the population aged 18-24 who have attained, at most, lower-secondary education and are not involved in further education or training (Eurostat, LFS) | D31: 2010 | E31: 2006 | F31: 2012 | G31: 2012
A32: 3020 | B32: 30-34 year-olds with tertiary attainment (%) | C32: Percentage of the population aged 30-34 who have successfully completed tertiary-level education. Tertiary education is defined as ISCED 5 and 6 (Eurostat, LFS) | D32: 2010 | E32: 2006 | F32: 2012 | G32: 2012
A33: 3030 | B33: NEET rate for 18-24 year-olds (%) | C33: Percentage of the population of age 18-24 years not employed and not involved in further education or training (Eurostat, LFS) | D33: 2010 | E33: 2006 | F33: 2012 | G33: 2012
A34: 3040 | B34: Unemployment rate for 20-34 year-olds (%) | C34: Unemployment rate (%) of 20-34 year-olds (Cedefop calculations based on Eurostat, LFS) | D34: 2010 | E34: 2006 | F34: 2012 | G34: 2012
A35: 3050 | B35: Adults with lower level of educational attainment (%) | C35: Percentage of the population aged 25-64 who have attained, at most, lower-secondary education (ISCED 97 levels 0-2) (Eurostat, LFS) | D35: 2010 | E35: 2006 | F35: 2012 | G35: 2012
A36: 3060 | B36: Employment rate for 20-64 year-olds (%) | C36: Percentage of the population aged 20-64 in employment (Eurostat, LFS) | D36: 2010 | E36: 2006 | F36: 2012 | G36: 2012
A37: 3070 | B37: Medium/high-qualified employment in 2020 (% of total) | C37: Share of total employment accounted for by individuals with medium- (ISCED 3-4) or high-level (ISCED 5-6) qualifications in 2020. Level of qualifications refers to the educational attainment of individuals who will be employed and not to the educational requirements of their jobs (Cedefop forecasts) | D37: 2020 | G37: 2020

Sheet calculations
H1: =OFFSET(offsetstart,0,offset1,36,1) -> Austria | I1: =OFFSET(offsetstart,0,offset2,36,1) -> Belgium
F2: Access, attractiveness and flexibility | H2: =OFFSET(offsetstart,0,offset1,36,1) | I2: =OFFSET(offsetstart,0,offset2,36,1)
G3: 1010 IVET-students of all upper secondary students (%) | H3: =OFFSET(offsetstart,0,offset1,36,1) -> 151 | I3: =OFFSET(offsetstart,0,offset2,36,1) -> 145
B4: Austria | C4: =VLOOKUP(COUNTRY1,countries,2) -> 1 | D4: Belgium | E4: =VLOOKUP(COUNTRY2,countries,2) -> 2 | G4: 1020 IVET work-based students in upper secondary IVET (%) | H4: =OFFSET(offsetstart,0,offset1,36,1) -> 169 | I4: =OFFSET(offsetstart,0,offset2,36,1) -> 16 | L4: Austria | M4: 1 | N4: 1
C5: =VLOOKUP(COUNTRY1,countries,3) -> 1 | G5: 1030 Employees participating in CVT courses (%) | H5: =OFFSET(offsetstart,0,offset1,36,1) -> 87 | I5: =OFFSET(offsetstart,0,offset2,36,1) -> 137 | L5: Belgium | M5: 2 | N5: 4
G6: 1040 Employees participating in on-the-job training (%) | H6: =OFFSET(offsetstart,0,offset1,36,1) -> 57 | I6: =OFFSET(offsetstart,0,offset2,36,1) -> 100 | L6: Bulgaria | M6: 3 | N6: 7
G7: 1050 Adults in lifelong learning (%) | H7: =OFFSET(offsetstart,0,offset1,36,1) -> 157 | I7: =OFFSET(offsetstart,0,offset2,36,1) -> 73 | L7: Croatia | M7: 4 | N7: 10
G8: 1060 Enterprises providing training (%) | H8: =OFFSET(offsetstart,0,offset1,36,1) -> 132 | I8: =OFFSET(offsetstart,0,offset2,36,1) -> 118 | L8: Cyprus | M8: 5 | N8: 13
G9: 1070 Female IVET students of all female upper secondary students (%) | H9: =OFFSET(offsetstart,0,offset1,36,1) -> 159 | I9: =OFFSET(offsetstart,0,offset2,36,1) -> 163 | L9: Czech Republic | M9: 6 | N9: 16
G10: 1080 Young VET graduates in further education and training (%) | H10: =OFFSET(offsetstart,0,offset1,36,1) -> 107 | I10: =OFFSET(offsetstart,0,offset2,36,1) -> 101 | L10: Denmark | M10: 7 | N10: 19
G11: 1090 Older adults in lifelong learning (%) | H11: =OFFSET(offsetstart,0,offset1,36,1) -> 157 | I11: =OFFSET(offsetstart,0,offset2,36,1) -> 81 | L11: Estonia | M11: 8 | N11: 22
G12: 1100 Low-educated adults in lifelong learning (%) | H12: =OFFSET(offsetstart,0,offset1,36,1) -> 128 | I12: =OFFSET(offsetstart,0,offset2,36,1) -> 69 | L12: Finland | M12: 9 | N12: 25
G13: 1110 Unemployed adults in lifelong learning (%) | H13: =OFFSET(offsetstart,0,offset1,36,1) -> 206 | I13: =OFFSET(offsetstart,0,offset2,36,1) -> 102 | L13: France | M13: 10 | N13: 28
G14: 1120 Individuals who wanted to participate in training but did not (%) | H14: =OFFSET(offsetstart,0,offset1,36,1) -> 72 | I14: =OFFSET(offsetstart,0,offset2,36,1) -> 124 | L14: FYROM | M14: 11 | N14: 31
G15: 1130 Job-related non-formal education and training (%) | H15: =OFFSET(offsetstart,0,offset1,36,1) -> 95 | I15: =OFFSET(offsetstart,0,offset2,36,1) -> 110 | L15: Germany | M15: 12 | N15: 34
F16: Skill development and labour market relevance | H16: =OFFSET(offsetstart,0,offset1,36,1) | I16: =OFFSET(offsetstart,0,offset2,36,1) | L16: Greece | M16: 13 | N16: 37
G17: 2010 IVET Public expenditure (% of GDP) | H17: =OFFSET(offsetstart,0,offset1,36,1) -> 146 | I17: =OFFSET(offsetstart,0,offset2,36,1) | L17: Hungary | M17: 14 | N17: 40
G18: 2020 IVET Public expenditure (EUR per student) | H18: =OFFSET(offsetstart,0,offset1,36,1) | I18: =OFFSET(offsetstart,0,offset2,36,1) -> 113 | L18: Iceland | M18: 15 | N18: 43
G19: 2030 Enterprise expenditure on CVT courses (% of total labour cost) | H19: =OFFSET(offsetstart,0,offset1,36,1) -> 100 | I19: =OFFSET(offsetstart,0,offset2,36,1) -> 108 | L19: Ireland | M19: 16 | N19: 46
G20: 2040 Average number of foreign languages learned in IVET | H20: =OFFSET(offsetstart,0,offset1,36,1) -> 100 | I20: =OFFSET(offsetstart,0,offset2,36,1) -> 65 | L20: Italy | M20: 17 | N20: 49
G21: 2050 STEM graduates from upper secondary IVET (% of total) | H21: =OFFSET(offsetstart,0,offset1,36,1) | I21: =OFFSET(offsetstart,0,offset2,36,1) -> 229 | L21: Latvia | M21: 18 | N21: 52
G22: 2060 30-34 year-olds with tertiary VET attainment (%) | H22: =OFFSET(offsetstart,0,offset1,36,1) -> 71 | I22: =OFFSET(offsetstart,0,offset2,36,1) -> 145 | L22: Lithuania | M22: 19 | N22: 55
G23: 2070 Innovative enterprises with supportive training practices (%) | H23: =OFFSET(offsetstart,0,offset1,36,1) -> 143 | I23: =OFFSET(offsetstart,0,offset2,36,1) -> 107 | L23: Luxembourg | M23: 20 | N23: 58
G24: 2080 Employment rate for IVET graduates (20-34 year-olds) | H24: =OFFSET(offsetstart,0,offset1,36,1) -> 111 | I24: =OFFSET(offsetstart,0,offset2,36,1) -> 199 | L24: Malta | M24: 21 | N24: 61
G25: 2090 Employment premium for IVET graduates (over general stream) | H25: =OFFSET(offsetstart,0,offset1,36,1) -> 91 | I25: =OFFSET(offsetstart,0,offset2,36,1) -> 154 | L25: Netherlands | M25: 22 | N25: 64
G26: 2100 Employment premium for IVET graduates (over low-educated) | H26: =OFFSET(offsetstart,0,offset1,36,1) -> 152 | I26: =OFFSET(offsetstart,0,offset2,36,1) -> 97 | L26: Norway | M26: 23 | N26: 67
G27: 2110 Workers helped to improve their work by training (%) | H27: =OFFSET(offsetstart,0,offset1,36,1) -> 106 | I27: =OFFSET(offsetstart,0,offset2,36,1) -> 111 | L27: Poland | M27: 24 | N27: 70
G28: 2120 Workers with skills matched to their duties (%) | H28: =OFFSET(offsetstart,0,offset1,36,1) -> 106 | I28: =OFFSET(offsetstart,0,offset2,36,1) | L28: Portugal | M28: 25 | N28: 73
F29: Overall transitions and labour market trends | H29: =OFFSET(offsetstart,0,offset1,36,1) | I29: =OFFSET(offsetstart,0,offset2,36,1) -> 94 | L29: Romania | M29: 26 | N29: 76
G30: 3010 Early leavers from education and training (%) | H30: =OFFSET(offsetstart,0,offset1,36,1) -> 59 | I30: =OFFSET(offsetstart,0,offset2,36,1) -> 123 | L30: Slovakia | M30: 27 | N30: 79
G31: 3020 30-34 year-olds with tertiary attainment (%) | H31: =OFFSET(offsetstart,0,offset1,36,1) -> 73 | I31: =OFFSET(offsetstart,0,offset2,36,1) -> 88 | L31: Slovenia | M31: 28 | N31: 82
G32: 3030 NEET rate for 18-24 year-olds (%) | H32: =OFFSET(offsetstart,0,offset1,36,1) -> 46 | I32: =OFFSET(offsetstart,0,offset2,36,1) -> 80 | L32: Spain | M32: 29 | N32: 85
G33: 3040 Unemployment rate for 20-34 year-olds (%) | H33: =OFFSET(offsetstart,0,offset1,36,1) -> 40 | I33: =OFFSET(offsetstart,0,offset2,36,1) -> 110 | L33: Sweden | M33: 30 | N33: 88
G34: 3050 Adults with lower level of educational attainment (%) | H34: =OFFSET(offsetstart,0,offset1,36,1) -> 66 | I34: =OFFSET(offsetstart,0,offset2,36,1) -> 98 | L34: Switzerland | M34: 31 | N34: 91
G35: 3060 Employment rate for 20-64 year-olds (%) | H35: =OFFSET(offsetstart,0,offset1,36,1) -> 110 | I35: =OFFSET(offsetstart,0,offset2,36,1) -> 103 | L35: Turkey | M35: 32 | N35: 94
G36: 3070 Medium/high qualified employment in 2020 (% of total) | H36: =OFFSET(offsetstart,0,offset1,36,1) -> 104 | I36: =OFFSET(offsetstart,0,offset2,36,1) | L36: United Kingdom | M36: 33 | N36: 97

Sheet compare_table_calc
E2: Score on VET indicators 2006, 2010 and 2011/12 (where available)
E3: Indicator label | G3: 2006 | J3: 2010 | M3: Change 2006-10 | P3: 2011/12 updates
G4: =OFFSET(offsetstart_2006,0,offset1,37,1) -> AT | H4: EU | I4: =OFFSET(offsetstart_2006,0,offset2,37,1) -> BE | J4: =OFFSET(offsetstart_2010,0,offset1,37,1) -> AT | K4: EU | L4: =OFFSET(offsetstart_2010,0,offset2,37,1) -> BE | M4: =OFFSET(offsetstart_20062010,0,offset1,37,1) -> AT | N4: EU | O4: =OFFSET(offsetstart_20062010,0,offset2,37,1) -> BE | P4: =OFFSET(offsetstart_20112012,0,offset1,37,1) -> AT | Q4: EU | R4: =OFFSET(offsetstart_20112012,0,offset2,37,1) -> BE
E5: Access, attractiveness and flexibility
E6: 1010 | F6: IVET-students as % of all upper secondary students | G6: =OFFSET(offsetstart_2006,0,offset1,37,1) -> 77.9 | H6: 51.7 | I6: =OFFSET(offsetstart_2006,0,offset2,37,1) -> 69.5 | J6: =OFFSET(offsetstart_2010,0,offset1,37,1) -> 76.8 | K6: 49.9 | L6: =OFFSET(offsetstart_2010,0,offset2,37,1) -> 73 | M6: =OFFSET(offsetstart_20062010,0,offset1,37,1) -> -1.1 | N6: -1.8 | O6: =OFFSET(offsetstart_20062010,0,offset2,37,1) -> 3.5 | P6: =OFFSET(offsetstart_20112012,0,offset1,37,1) -> 76.1 | Q6: 50.3 | R6: =OFFSET(offsetstart_20112012,0,offset2,37,1) -> 72.8
E7: 1020 | F7: IVET work-based students as % of upper secondary IVET | G7: =OFFSET(offsetstart_2006,0,offset1,37,1) -> 42.4 | H7: 27.7 | I7: =OFFSET(offsetstart_2006,0,offset2,37,1) -> 5 | J7: =OFFSET(offsetstart_2010,0,offset1,37,1) -> 45.1 | K7: 27.9 | L7: =OFFSET(offsetstart_2010,0,offset2,37,1) -> 4.3 | M7: =OFFSET(offsetstart_20062010,0,offset1,37,1) -> 2.7 | N7: 0.2 | O7: =OFFSET(offsetstart_20062010,0,offset2,37,1) -> -0.7 | P7: =OFFSET(offsetstart_20112012,0,offset1,37,1) -> 45.7 | Q7: 27 | R7: =OFFSET(offsetstart_20112012,0,offset2,37,1) -> 4.3
E8: 1030 | F8: Employees participating in CVT courses (%) | G8: =OFFSET(offsetstart_2006,0,offset1,37,1) -> 33 | H8: 33 | I8: =OFFSET(offsetstart_2006,0,offset2,37,1) -> 40 | J8: =OFFSET(offsetstart_2010,0,offset1,37,1) -> 33 | K8: 38 | L8: =OFFSET(offsetstart_2010,0,offset2,37,1) -> 52 | M8: =OFFSET(offsetstart_20062010,0,offset1,37,1) -> 0 | N8: 5 | O8: =OFFSET(offsetstart_20062010,0,offset2,37,1) -> 12 | P8: =OFFSET(offsetstart_20112012,0,offset1,37,1) | R8: =OFFSET(offsetstart_20112012,0,offset2,37,1)
E9: 1040 | F9: Employees participating in on-the-job training (%) | G9: =OFFSET(offsetstart_2006,0,offset1,37,1) -> 9 | H9: 16 | I9: =OFFSET(offsetstart_2006,0,offset2,37,1) -> 21 | J9: =OFFSET(offsetstart_2010,0,offset1,37,1) -> 12 | K9: 21 | L9: =OFFSET(offsetstart_2010,0,offset2,37,1) -> 21 | M9: =OFFSET(offsetstart_20062010,0,offset1,37,1) -> 3 | N9: 5 | O9: =OFFSET(offsetstart_20062010,0,offset2,37,1) -> 0 | P9: =OFFSET(offsetstart_20112012,0,offset1,37,1) | R9: =OFFSET(offsetstart_20112012,0,offset2,37,1)
E10: 1050 | F10: Adults in lifelong learning (%) | G10: =OFFSET(offsetstart_2006,0,offset1,37,1) -> 13.1 | H10: 9.5 | I10: =OFFSET(offsetstart_2006,0,offset2,37,1) -> 7.5 | J10: =OFFSET(offsetstart_2010,0,offset1,37,1) -> 13.7 | K10: 9.1 | L10: =OFFSET(offsetstart_2010,0,offset2,37,1) -> 7.2 | M10: =OFFSET(offsetstart_20062010,0,offset1,37,1) -> 0.6 | N10: -0.4 | O10: =OFFSET(offsetstart_20062010,0,offset2,37,1) -> -0.3 | P10: =OFFSET(offsetstart_20112012,0,offset1,37,1) -> 14.1 | Q10: 9 | R10: =OFFSET(offsetstart_20112012,0,offset2,37,1) -> 6.6
E11: 1060 | F11: Enterprises providing training (%) | G11: =OFFSET(offsetstart_2006,0,offset1,37,1) -> 81 | H11: 60 | I11: =OFFSET(offsetstart_2006,0,offset2,37,1) -> 63 | J11: =OFFSET(offsetstart_2010,0,offset1,37,1) -> 87 | K11: 66 | L11: =OFFSET(offsetstart_2010,0,offset2,37,1) -> 78 | M11: =OFFSET(offsetstart_20062010,0,offset1,37,1) -> 6 | N11: 6 | O11: =OFFSET(offsetstart_20062010,0,offset2,37,1) -> 15 | P11: =OFFSET(offsetstart_20112012,0,offset1,37,1) | R11: =OFFSET(offsetstart_20112012,0,offset2,37,1)
E12: 1070 | F12: Female IVET students as % of all female upper secondary students | G12: =OFFSET(offsetstart_2006,0,offset1,37,1) -> 73.3 | H12: 46.3 | I12: =OFFSET(offsetstart_2006,0,offset2,37,1) -> 68.3 | J12: =OFFSET(offsetstart_2010,0,offset1,37,1) -> 71.9 | K12: 44.2 | L12: =OFFSET(offsetstart_2010,0,offset2,37,1) -> 72.9 | M12: =OFFSET(offsetstart_20062010,0,offset1,37,1) -> -1.4 | N12: -2.1 | O12: =OFFSET(offsetstart_20062010,0,offset2,37,1) -> 4.6 | P12: =OFFSET(offsetstart_20112012,0,offset1,37,1) -> 71.1 | Q12: 44.7 | R12: =OFFSET(offsetstart_20112012,0,offset2,37,1) -> 72.9
E13: 1080 | F13: Young VET graduates in further education and training (%) | G13: =OFFSET(offsetstart_2006,0,offset1,37,1) | I13: =OFFSET(offsetstart_2006,0,offset2,37,1) | J13: =OFFSET(offsetstart_2010,0,offset1,37,1) -> 32.8 | K13: 30.7 | L13: =OFFSET(offsetstart_2010,0,offset2,37,1) -> 31 | M13: =OFFSET(offsetstart_20062010,0,offset1,37,1) | O13: =OFFSET(offsetstart_20062010,0,offset2,37,1) | P13: =OFFSET(offsetstart_20112012,0,offset1,37,1) | R13: =OFFSET(offsetstart_20112012,0,offset2,37,1)
E14: 1090 | F14: Older adults in lifelong learning (%) | G14: =OFFSET(offsetstart_2006,0,offset1,37,1) -> 7.8 | H14: 5.1 | I14: =OFFSET(offsetstart_2006,0,offset2,37,1) -> 4.5 | J14: =OFFSET(offsetstart_2010,0,offset1,37,1) -> 8.2 | K14: 5.3 | L14: =OFFSET(offsetstart_2010,0,offset2,37,1) -> 4.6 | M14: =OFFSET(offsetstart_20062010,0,offset1,37,1) -> 0.4 | N14: 0.2 | O14: =OFFSET(offsetstart_20062010,0,offset2,37,1) -> 0.1 | P14: =OFFSET(offsetstart_20112012,0,offset1,37,1) -> 8.3 | Q14: 5.3 | R14: =OFFSET(offsetstart_20112012,0,offset2,37,1) -> 4.3
E15: 1100 | F15: Low-educated adults in lifelong learning (%) | G15: =OFFSET(offsetstart_2006,0,offset1,37,1) -> 4.6 | H15: 3.7 | I15: =OFFSET(offsetstart_2006,0,offset2,37,1) -> 3 | J15: =OFFSET(offsetstart_2010,0,offset1,37,1) -> 4.5 | K15: 3.9 | L15: =OFFSET(offsetstart_2010,0,offset2,37,1) -> 3.1 | M15: =OFFSET(offsetstart_20062010,0,offset1,37,1) -> -0.1 | N15: 0.2 | O15: =OFFSET(offsetstart_20062010,0,offset2,37,1) -> 0.1 | P15: =OFFSET(offsetstart_20112012,0,offset1,37,1) -> 5 | Q15: 3.9 | R15: =OFFSET(offsetstart_20112012,0,offset2,37,1) -> 2.7
E16: 1110 | F16: Unemployed adults in lifelong learning (%) | G16: =OFFSET(offsetstart_2006,0,offset1,37,1) -> 18.6 | H16: 7.7 | I16: =OFFSET(offsetstart_2006,0,offset2,37,1) -> 10.4 | J16: =OFFSET(offsetstart_2010,0,offset1,37,1) -> 19.4 | K16: 9.2 | L16: =OFFSET(offsetstart_2010,0,offset2,37,1) -> 9 | M16: =OFFSET(offsetstart_20062010,0,offset1,37,1) -> 0.8 | N16: 1.5 | O16: =OFFSET(offsetstart_20062010,0,offset2,37,1) -> -1.4 | P16: =OFFSET(offsetstart_20112012,0,offset1,37,1) -> 18.5 | Q16: 9 | R16: =OFFSET(offsetstart_20112012,0,offset2,37,1) -> 9.2
E17: 1120 | F17: Individuals who wanted to participate in training but did not (%) | G17: =OFFSET(offsetstart_2006,0,offset1,37,1) -> 9.2 | H17: 14.5 | I17: =OFFSET(offsetstart_2006,0,offset2,37,1) -> 17.2 | J17: =OFFSET(offsetstart_2010,0,offset1,37,1) -> 7.9 | K17: 10.9 | L17: =OFFSET(offsetstart_2010,0,offset2,37,1) -> 13.5 | M17: =OFFSET(offsetstart_20062010,0,offset1,37,1) -> -1.3 | N17: -3.6 | O17: =OFFSET(offsetstart_20062010,0,offset2,37,1) -> -3.7 | P17: =OFFSET(offsetstart_20112012,0,offset1,37,1) | R17: =OFFSET(offsetstart_20112012,0,offset2,37,1)
E18: 1130 | F18: Job-related non-formal education and training (%) | G18: =OFFSET(offsetstart_2006,0,offset1,37,1) -> 82.1 | H18: 84.5 | I18: =OFFSET(offsetstart_2006,0,offset2,37,1) -> 86 | J18: =OFFSET(offsetstart_2010,0,offset1,37,1) -> 77.3 | K18: 81.4 | L18: =OFFSET(offsetstart_2010,0,offset2,37,1) -> 89.9 | M18: =OFFSET(offsetstart_20062010,0,offset1,37,1) -> -4.8 | N18: -3.1 | O18: =OFFSET(offsetstart_20062010,0,offset2,37,1) -> 3.9 | P18: =OFFSET(offsetstart_20112012,0,offset1,37,1) | R18: =OFFSET(offsetstart_20112012,0,offset2,37,1)
E19: Skill development and labour market relevance
E20: 2010 | F20: IVET public expenditure (% of GDP) | G20: =OFFSET(offsetstart_2006,0,offset1,37,1) -> 0.97 | H20: 0.67 | I20: =OFFSET(offsetstart_2006,0,offset2,37,1) | J20: =OFFSET(offsetstart_2010,0,offset1,37,1) -> 1.04 | K20: 0.71 | L20: =OFFSET(offsetstart_2010,0,offset2,37,1) | M20: =OFFSET(offsetstart_20062010,0,offset1,37,1) -> 0.07 | N20: 0.04 | O20: =OFFSET(offsetstart_20062010,0,offset2,37,1) | P20: =OFFSET(offsetstart_20112012,0,offset1,37,1) | R20: =OFFSET(offsetstart_20112012,0,offset2,37,1)
E21: 2020 | F21: IVET public expenditure (EUR per student) | G21: =OFFSET(offsetstart_2006,0,offset1,37,1) | H21: 7089 | I21: =OFFSET(offsetstart_2006,0,offset2,37,1) | J21: =OFFSET(offsetstart_2010,0,offset1,37,1) | K21: 8549 | L21: =OFFSET(offsetstart_2010,0,offset2,37,1) | M21: =OFFSET(offsetstart_20062010,0,offset1,37,1) | N21: 1460 | O21: =OFFSET(offsetstart_20062010,0,offset2,37,1) | P21: =OFFSET(offsetstart_20112012,0,offset1,37,1) | R21: =OFFSET(offsetstart_20112012,0,offset2,37,1)
E22: 2030 | F22: Enterprise expenditure on CVT courses as % of total labour cost | G22: =OFFSET(offsetstart_2006,0,offset1,37,1) -> 0.8 | H22: 0.9 | I22: =OFFSET(offsetstart_2006,0,offset2,37,1) -> 0.6 | J22: =OFFSET(offsetstart_2010,0,offset1,37,1) -> 0.8 | K22: 0.8 | L22: =OFFSET(offsetstart_2010,0,offset2,37,1) -> 0.9 | M22: =OFFSET(offsetstart_20062010,0,offset1,37,1) -> 0 | N22: -0.1 | O22: =OFFSET(offsetstart_20062010,0,offset2,37,1) -> 0.3 | P22: =OFFSET(offsetstart_20112012,0,offset1,37,1) | R22: =OFFSET(offsetstart_20112012,0,offset2,37,1)
E23: 2040 | F23: Average number of foreign languages learned in IVET | G23: =OFFSET(offsetstart_2006,0,offset1,37,1) -> 1.3 | H23: 1.2 | I23: =OFFSET(offsetstart_2006,0,offset2,37,1) -> 1.3 | J23: =OFFSET(offsetstart_2010,0,offset1,37,1) -> 1.2 | K23: 1.2 | L23: =OFFSET(offsetstart_2010,0,offset2,37,1) -> 1.3 | M23: =OFFSET(offsetstart_20062010,0,offset1,37,1) -> -0.1 | N23: 0 | O23: =OFFSET(offsetstart_20062010,0,offset2,37,1) -> 0 | P23: =OFFSET(offsetstart_20112012,0,offset1,37,1) -> 1.2 | Q23: 1.2 | R23: =OFFSET(offsetstart_20112012,0,offset2,37,1) -> 1.3
E24: 2050 | F24: STEM graduates from upper secondary VET (% of total) | G24: =OFFSET(offsetstart_2006,0,offset1,37,1) | H24: 32 | I24: =OFFSET(offsetstart_2006,0,offset2,37,1) -> 23.5 | J24: =OFFSET(offsetstart_2010,0,offset1,37,1) | K24: 28.7 | L24: =OFFSET(offsetstart_2010,0,offset2,37,1) -> 19.1 | M24: =OFFSET(offsetstart_20062010,0,offset1,37,1) | N24: -3.3 | O24: =OFFSET(offsetstart_20062010,0,offset2,37,1) -> -4.4 | P24: =OFFSET(offsetstart_20112012,0,offset1,37,1) | Q24: 29.4 | R24: =OFFSET(offsetstart_20112012,0,offset2,37,1) -> 19.1
E25: 2060 | F25: 30-34 year-olds with tertiary VET attainment (%) | G25: =OFFSET(offsetstart_2006,0,offset1,37,1) -> 7.3 | H25: 7.3 | I25: =OFFSET(offsetstart_2006,0,offset2,37,1) -> 22 | J25: =OFFSET(offsetstart_2010,0,offset1,37,1) -> 6.2 | K25: 7.3 | L25: =OFFSET(offsetstart_2010,0,offset2,37,1) -> 20.7 | M25: =OFFSET(offsetstart_20062010,0,offset1,37,1) -> -1.1 | N25: 0 | O25: =OFFSET(offsetstart_20062010,0,offset2,37,1) -> -1.3 | P25: =OFFSET(offsetstart_20112012,0,offset1,37,1) -> 6.2 | Q25: 8.6 | R25: =OFFSET(offsetstart_20112012,0,offset2,37,1) -> 19.8
E26: 2070 | F26: Innovative enterprises with supportive training practices (%) | G26: =OFFSET(offsetstart_2006,0,offset1,37,1) -> 61.6 | H26: 42.8 | I26: =OFFSET(offsetstart_2006,0,offset2,37,1) -> 63.3 | J26: =OFFSET(offsetstart_2010,0,offset1,37,1) -> 59.1 | K26: 41.5 | L26: =OFFSET(offsetstart_2010,0,offset2,37,1) -> 60 | M26: =OFFSET(offsetstart_20062010,0,offset1,37,1) -> -2.5 | N26: -1.3 | O26: =OFFSET(offsetstart_20062010,0,offset2,37,1) -> -3.3 | P26: =OFFSET(offsetstart_20112012,0,offset1,37,1) | R26: =OFFSET(offsetstart_20112012,0,offset2,37,1)
E27: 2080 | F27: Employment rate for IVET graduates (20-34 year-olds) | G27: =OFFSET(offsetstart_2006,0,offset1,37,1) | I27: =OFFSET(offsetstart_2006,0,offset2,37,1) | J27: =OFFSET(offsetstart_2010,0,offset1,37,1) -> 88 | K27: 79.1 | L27: =OFFSET(offsetstart_2010,0,offset2,37,1) -> 85 | M27: =OFFSET(offsetstart_20062010,0,offset1,37,1) | O27: =OFFSET(offsetstart_20062010,0,offset2,37,1) | P27: =OFFSET(offsetstart_20112012,0,offset1,37,1) | R27: =OFFSET(offsetstart_20112012,0,offset2,37,1)
E28: 2090 | F28: Employment premium for IVET graduates (over general stream) | G28: =OFFSET(offsetstart_2006,0,offset1,37,1) | I28: =OFFSET(offsetstart_2006,0,offset2,37,1) | J28: =OFFSET(offsetstart_2010,0,offset1,37,1) -> 5.1 | K28: 5.6 | L28: =OFFSET(offsetstart_2010,0,offset2,37,1) -> 11.2 | M28: =OFFSET(offsetstart_20062010,0,offset1,37,1) | O28: =OFFSET(offsetstart_20062010,0,offset2,37,1) | P28: =OFFSET(offsetstart_20112012,0,offset1,37,1) | R28: =OFFSET(offsetstart_20112012,0,offset2,37,1)
E29: 2100 | F29: Employment premium for IVET graduates (over low-educated) | G29: =OFFSET(offsetstart_2006,0,offset1,37,1) | I29: =OFFSET(offsetstart_2006,0,offset2,37,1) | J29: =OFFSET(offsetstart_2010,0,offset1,37,1) -> 26.4 | K29: 17.4 | L29: =OFFSET(offsetstart_2010,0,offset2,37,1) -> 26.9 | M29: =OFFSET(offsetstart_20062010,0,offset1,37,1) | O29: =OFFSET(offsetstart_20062010,0,offset2,37,1) | P29: =OFFSET(offsetstart_20112012,0,offset1,37,1) | R29: =OFFSET(offsetstart_20112012,0,offset2,37,1)
E30: 2110 | F30: Workers helped to improve their work by training (%) | G30: =OFFSET(offsetstart_2006,0,offset1,37,1) | I30: =OFFSET(offsetstart_2006,0,offset2,37,1) | J30: =OFFSET(offsetstart_2010,0,offset1,37,1) -> 94.9 | K30: 89.7 | L30: =OFFSET(offsetstart_2010,0,offset2,37,1) -> 87 | M30: =OFFSET(offsetstart_20062010,0,offset1,37,1) | O30: =OFFSET(offsetstart_20062010,0,offset2,37,1) | P30: =OFFSET(offsetstart_20112012,0,offset1,37,1) | R30: =OFFSET(offsetstart_20112012,0,offset2,37,1)
E31: 2120 | F31: Workers with skills matched to their duties (%) | G31: =OFFSET(offsetstart_2006,0,offset1,37,1) | I31: =OFFSET(offsetstart_2006,0,offset2,37,1) | J31: =OFFSET(offsetstart_2010,0,offset1,37,1) -> 58.5 | K31: 55.3 | L31: =OFFSET(offsetstart_2010,0,offset2,37,1) -> 61.2 | M31: =OFFSET(offsetstart_20062010,0,offset1,37,1) | O31: =OFFSET(offsetstart_20062010,0,offset2,37,1) | P31: =OFFSET(offsetstart_20112012,0,offset1,37,1) | R31: =OFFSET(offsetstart_20112012,0,offset2,37,1)
E32: Overall transitions and labour market trends
E33: 3010 | F33: Early leavers from education and training (%) | G33: =OFFSET(offsetstart_2006,0,offset1,37,1) -> 9.8 | H33: 15.5 | I33: =OFFSET(offsetstart_2006,0,offset2,37,1) -> 12.6 | J33: =OFFSET(offsetstart_2010,0,offset1,37,1) -> 8.3 | K33: 14 | L33: =OFFSET(offsetstart_2010,0,offset2,37,1) -> 11.9 | M33: =OFFSET(offsetstart_20062010,0,offset1,37,1) -> -1.5 | N33: -1.5 | O33: =OFFSET(offsetstart_20062010,0,offset2,37,1) -> -0.7 | P33: =OFFSET(offsetstart_20112012,0,offset1,37,1) -> 7.6 | Q33: 12.8(p) | R33: =OFFSET(offsetstart_20112012,0,offset2,37,1) -> 12
E34: 3020 | F34: 30-34 year-olds with tertiary attainment (%) | G34: =OFFSET(offsetstart_2006,0,offset1,37,1) -> 21.2 | H34: 28.9 | I34: =OFFSET(offsetstart_2006,0,offset2,37,1) -> 41.4 | J34: =OFFSET(offsetstart_2010,0,offset1,37,1) -> 23.5 | K34: 33.5 | L34: =OFFSET(offsetstart_2010,0,offset2,37,1) -> 44.4 | M34: =OFFSET(offsetstart_20062010,0,offset1,37,1) -> 2.3 | N34: 4.6 | O34: =OFFSET(offsetstart_20062010,0,offset2,37,1) -> 3 | P34: =OFFSET(offsetstart_20112012,0,offset1,37,1) -> 26.3 | Q34: 35.8 | R34: =OFFSET(offsetstart_20112012,0,offset2,37,1) -> 43.9
E35: 3030 | F35: NEET rate for 18-24 year-olds (%) | G35: =OFFSET(offsetstart_2006,0,offset1,37,1) -> 9.3 | H35: 15.1 | I35: =OFFSET(offsetstart_2006,0,offset2,37,1) -> 14.6 | J35: =OFFSET(offsetstart_2010,0,offset1,37,1) -> 8.8 | K35: 16.5 | L35: =OFFSET(offsetstart_2010,0,offset2,37,1) -> 14.3 | M35: =OFFSET(offsetstart_20062010,0,offset1,37,1) -> -0.5 | N35: 1.4 | O35: =OFFSET(offsetstart_20062010,0,offset2,37,1) -> -0.3 | P35: =OFFSET(offsetstart_20112012,0,offset1,37,1) -> 7.8 | Q35: 17.0(p) | R35: =OFFSET(offsetstart_20112012,0,offset2,37,1) -> 15
E36: 3040 | F36: Unemployment rate for 20-34 year-olds (%) | G36: =OFFSET(offsetstart_2006,0,offset1,37,1) -> 5.7 | H36: 10.6 | I36: =OFFSET(offsetstart_2006,0,offset2,37,1) -> 11.5 | J36: =OFFSET(offsetstart_2010,0,offset1,37,1) -> 6.2 | K36: 13.1 | L36: =OFFSET(offsetstart_2010,0,offset2,37,1) -> 12.2 | M36: =OFFSET(offsetstart_20062010,0,offset1,37,1) -> 0.5 | N36: 2.5 | O36: =OFFSET(offsetstart_20062010,0,offset2,37,1) -> 0.7 | P36: =OFFSET(offsetstart_20112012,0,offset1,37,1) -> 5.8 | Q36: 14.5 | R36: =OFFSET(offsetstart_20112012,0,offset2,37,1) -> 11.5
E37: 3050 | F37: Adults with lower level of educational attainment (%) | G37: =OFFSET(offsetstart_2006,0,offset1,37,1) -> 19.7 | H37: 30.1 | I37: =OFFSET(offsetstart_2006,0,offset2,37,1) -> 33.1 | J37: =OFFSET(offsetstart_2010,0,offset1,37,1) -> 17.5 | K37: 27.3 | L37: =OFFSET(offsetstart_2010,0,offset2,37,1) -> 29.5 | M37: =OFFSET(offsetstart_20062010,0,offset1,37,1) -> -2.2 | N37: -2.8 | O37: =OFFSET(offsetstart_20062010,0,offset2,37,1) -> -3.6 | P37: =OFFSET(offsetstart_20112012,0,offset1,37,1) -> 16.9 | Q37: 25.8 | R37: =OFFSET(offsetstart_20112012,0,offset2,37,1) -> 28.4
E38: 3060 | F38: Employment rate for 20-64 year-olds (%) | G38: =OFFSET(offsetstart_2006,0,offset1,37,1) -> 73.2 | H38: 69 | I38: =OFFSET(offsetstart_2006,0,offset2,37,1) -> 66.5 | J38: =OFFSET(offsetstart_2010,0,offset1,37,1) -> 74.9 | K38: 68.5 | L38: =OFFSET(offsetstart_2010,0,offset2,37,1) -> 67.6 | M38: =OFFSET(offsetstart_20062010,0,offset1,37,1) -> 1.7 | N38: -0.5 | O38: =OFFSET(offsetstart_20062010,0,offset2,37,1) -> 1.1 | P38: =OFFSET(offsetstart_20112012,0,offset1,37,1) -> 75.6 | Q38: 68.5 | R38: =OFFSET(offsetstart_20112012,0,offset2,37,1) -> 67.2
E39: 3070 | F39: Medium/high-qualified employment in 2020 (% of total) | G39: =OFFSET(offsetstart_2006,0,offset1,37,1) | I39: =OFFSET(offsetstart_2006,0,offset2,37,1) | J39: =OFFSET(offsetstart_2010,0,offset1,37,1) -> 85.4 | K39: 82.3 | L39: =OFFSET(offsetstart_2010,0,offset2,37,1) -> 85 | M39: =OFFSET(offsetstart_20062010,0,offset1,37,1) | O39: =OFFSET(offsetstart_20062010,0,offset2,37,1) | P39: =OFFSET(offsetstart_20112012,0,offset1,37,1) | R39: =OFFSET(offsetstart_20112012,0,offset2,37,1)
E40: Copyright © European Centre for the Development of Vocational Training, 2014

Sheet chart2_calc
J1: INDEX
C2: =OFFSET(offsetstart_chart2,0,offset_chart2) -> AT | D2: EU | E2: =OFFSET(offsetstart_chart2,0,offset_chart2+1) -> AT | F2: EU | G2: =OFFSET(offsetstart_chart2,0,offset_chart2+2) -> AT | H2: EU | L2: =OFFSET(offsetstart_chart2,-1,offset_chart2) -> Austria
C3: =OFFSET(offsetstart_chart2,-2,offset_chart2) -> 2006 | D3: 2006 | E3: =OFFSET(offsetstart_chart2,-2,offset_chart2+1) -> 2010 | F3: 2010 | G3: =OFFSET(offsetstart_chart2,-2,offset_chart2+2) -> 2011/12 updates | H3: 2011/12 | L3: 2006 | M3: 2010 | N3: 2011/12 updates
A4: Access, attractiveness and flexibility | J4: Access, attractiveness and flexibility
B5: 1010 IVET-students of all upper secondary students (%) | C5: =OFFSET(offsetstart_chart2,2,offset_chart2) -> 77.9 | D5: 51.7 | E5: =OFFSET(offsetstart_chart2,2,offset_chart2+1) -> 76.8 | F5: 49.9 | G5: =OFFSET(offsetstart_chart2,2,offset_chart2+2) -> 76.1 | H5: 50.3 | K5: 1010 IVET-students of all upper secondary students (%) | L5: =IFERROR(C5*100/D5," ") -> 150.67698 | M5: =IFERROR(E5*100/F5, " ") -> 153.90782 | N5: =IFERROR(G5*100/H5," ") -> 151.29225
B6: 1020 IVET work-based students in upper secondary IVET (%) | C6: =OFFSET(offsetstart_chart2,3,offset_chart2) -> 42.4 | D6: 27.7 | E6: =OFFSET(offsetstart_chart2,3,offset_chart2+1) -> 45.1 | F6: 27.9 | G6: =OFFSET(offsetstart_chart2,3,offset_chart2+2) -> 45.7 | H6: 27 | K6: 1020 IVET work-based students in upper secondary IVET (%) | L6: =IFERROR(C6*100/D6," ") -> 153.06859 | M6: =IFERROR(E6*100/F6, " ") -> 161.64875 | N6: =IFERROR(G6*100/H6," ") -> 169.25926
B7: 1030 Employees participating in CVT courses (%) | C7: =OFFSET(offsetstart_chart2,4,offset_chart2) -> 33 | D7: 33 | E7: =OFFSET(offsetstart_chart2,4,offset_chart2+1) -> 33 | F7: 38 | G7: =OFFSET(offsetstart_chart2,4,offset_chart2+2) | K7: 1030 Employees participating in CVT courses (%) | L7: =IFERROR(C7*100/D7," ") -> 100 | M7: =IFERROR(E7*100/F7, " ") -> 86.842105 | N7: =IFERROR(G7*100/H7," ")
B8: 1040 Employees participating in on-the-job training (%) | C8: =OFFSET(offsetstart_chart2,5,offset_chart2) -> 9 | D8: 16 | E8: =OFFSET(offsetstart_chart2,5,offset_chart2+1) -> 12 | F8: 21 | G8: =OFFSET(offsetstart_chart2,5,offset_chart2+2) | K8: 1040 Employees participating in on-the-job training (%) | L8: =IFERROR(C8*100/D8," ") -> 56.25 | M8: =IFERROR(E8*100/F8, " ") -> 57.142857 | N8: =IFERROR(G8*100/H8," ")
B9: 1050 Adults in lifelong learning (%) | C9: =OFFSET(offsetstart_chart2,6,offset_chart2) -> 13.1 | D9: 9.5 | E9: =OFFSET(offsetstart_chart2,6,offset_chart2+1) -> 13.7 | F9: 9.1 | G9: =OFFSET(offsetstart_chart2,6,offset_chart2+2) -> 14.1 | H9: 9 | K9: 1050 Adults in lifelong learning (%) | L9: =IFERROR(C9*100/D9," ") -> 137.89474 | M9: =IFERROR(E9*100/F9, " ") -> 150.54945 | N9: =IFERROR(G9*100/H9," ") -> 156.66667
B10: 1060 Enterprises providing training (%) | C10: =OFFSET(offsetstart_chart2,7,offset_chart2) -> 81 | D10: 60 | E10: =OFFSET(offsetstart_chart2,7,offset_chart2+1) -> 87 | F10: 66 | G10: =OFFSET(offsetstart_chart2,7,offset_chart2+2) | K10: 1060 Enterprises providing training (%) | L10: =IFERROR(C10*100/D10," ") -> 135 | M10: =IFERROR(E10*100/F10, " ") | N10: =IFERROR(G10*100/H10," ")
B11: 1070 Female IVET students of all female upper secondary students (%) | C11: =OFFSET(offsetstart_chart2,8,offset_chart2) -> 73.3 | D11: 46.3 | E11: =OFFSET(offsetstart_chart2,8,offset_chart2+1) -> 71.9 | F11: 44.2 | G11: =OFFSET(offsetstart_chart2,8,offset_chart2+2) -> 71.1 | H11: 44.7 | K11: 1070 Female IVET students of all female upper secondary students (%) | L11: =IFERROR(C11*100/D11," ") -> 158.31533 | M11: =IFERROR(E11*100/F11, " ") -> 162.66968 | N11: =IFERROR(G11*100/H11," ") -> 159.0604
B12: 1080 Young VET graduates in further education and training (%) | C12: =OFFSET(offsetstart_chart2,9,offset_chart2) | E12: =OFFSET(offsetstart_chart2,9,offset_chart2+1) -> 32.8 | F12: 30.7 | G12: =OFFSET(offsetstart_chart2,9,offset_chart2+2) | K12: 1080 Young VET graduates in further education and training (%) | L12: =IFERROR(C12*100/D12," ") | M12: =IFERROR(E12*100/F12, " ") -> 106.84039 | N12: =IFERROR(G12*100/H12," ")
B13: 1090 Older adults in lifelong learning (%) | C13: =OFFSET(offsetstart_chart2,10,offset_chart2) -> 7.8 | D13: 5.1 | E13: =OFFSET(offsetstart_chart2,10,offset_chart2+1) -> 8.2 | F13: 5.3 | G13: =OFFSET(offsetstart_chart2,10,offset_chart2+2) -> 8.3 | H13: 5.3 | K13: 1090 Older adults in lifelong learning (%) | L13: =IFERROR(C13*100/D13," ") -> 152.94118 | M13: =IFERROR(E13*100/F13, " ") -> 154.71698 | N13: =IFERROR(G13*100/H13," ") -> 156.60377
B14: 1100 Low-educated adults in lifelong learning (%) | C14: =OFFSET(offsetstart_chart2,11,offset_chart2) -> 4.6 | D14: 3.7 | E14: =OFFSET(offsetstart_chart2,11,offset_chart2+1) -> 4.5 | F14: 3.9 | G14: =OFFSET(offsetstart_chart2,11,offset_chart2+2) -> 5 | H14: 3.9 | K14: 1100 Low-educated adults in lifelong learning (%) | L14: =IFERROR(C14*100/D14," ") -> 124.32432 | M14: =IFERROR(E14*100/F14, " ") -> 115.38462 | N14: =IFERROR(G14*100/H14," ") -> 128.20513
B15: 1110 Unemployed adults in lifelong learning (%) | C15: =OFFSET(offsetstart_chart2,12,offset_chart2) -> 18.6 | D15: 7.7 | E15: =OFFSET(offsetstart_chart2,12,offset_chart2+1) -> 19.4 | F15: 9.2 | G15: =OFFSET(offsetstart_chart2,12,offset_chart2+2) -> 18.5 | H15: 9 | K15: 1110 Unemployed adults in lifelong learning (%) | L15: =IFERROR(C15*100/D15," ") -> 241.55844 | M15: =IFERROR(E15*100/F15, " ") -> 210.86957 | N15: =IFERROR(G15*100/H15," ") -> 205.55556
B16: 1120 Individuals who wanted to participate in training but did not (%) | C16: =OFFSET(offsetstart_chart2,13,offset_chart2) -> 9.2 | D16: 14.5 | E16: =OFFSET(offsetstart_chart2,13,offset_chart2+1) -> 7.9 | F16: 10.9 | G16: =OFFSET(offsetstart_chart2,13,offset_chart2+2) | K16: 1120 Individuals who wanted to participate in training but did not (%) | L16: =IFERROR(C16*100/D16," ") -> 63.448276 | M16: =IFERROR(E16*100/F16, " ") | N16: =IFERROR(G16*100/H16," ")
B17: 1130 Job-related non-formal education and training (%) | C17: =OFFSET(offsetstart_chart2,14,offset_chart2) -> 82.1 | D17: 84.5 | E17: =OFFSET(offsetstart_chart2,14,offset_chart2+1) -> 77.3 | F17: 81.4 | G17: =OFFSET(offsetstart_chart2,14,offset_chart2+2) | K17: 1130 Job-related non-formal education and training (%) | L17: =IFERROR(C17*100/D17," ") -> 97.159763 | M17: =IFERROR(E17*100/F17, " ") -> 94.963145 | N17: =IFERROR(G17*100/H17," ")
A18: Skill development and labour market relevance | J18: Skill development and labour market relevance
B19: 2010 IVET Public expenditure (% of GDP) | C19: =OFFSET(offsetstart_chart2,16,offset_chart2) -> 0.97 | D19: 0.67 | E19: =OFFSET(offsetstart_chart2,16,offset_chart2+1) -> 1.04 | F19: 0.71 | G19: =OFFSET(offsetstart_chart2,16,offset_chart2+2) | K19: 2010 IVET Public expenditure (% of GDP) | L19: =IFERROR(C19*100/D19," ") -> 144.77612 | M19: =IFERROR(E19*100/F19, " ") -> 146.47887 | N19: =IFERROR(G19*100/H19," ")
B20: 2020 IVET Public expenditure (EUR per student) | C20: =OFFSET(offsetstart_chart2,17,offset_chart2) | D20: 7089 | E20: =OFFSET(offsetstart_chart2,17,offset_chart2+1) | F20: 8549 | G20: =OFFSET(offsetstart_chart2,17,offset_chart2+2) | K20: 2020 IVET Public expenditure (EUR per student) | L20: =IFERROR(C20*100/D20," ") | M20: =IFERROR(E20*100/F20, " ") | N20: =IFERROR(G20*100/H20," ")
B21: 2030 Enterprise expenditure on CVT courses (% of total labour cost) | C21: =OFFSET(offsetstart_chart2,18,offset_chart2) -> 0.8 | D21: 0.9 | E21: =OFFSET(offsetstart_chart2,18,offset_chart2+1) -> 0.8 | F21: 0.8 | G21: =OFFSET(offsetstart_chart2,18,offset_chart2+2) | K21: 2030 Enterprise expenditure on CVT courses (% of total labour cost) | L21: =IFERROR(C21*100/D21," ") -> 88.888889 | M21: =IFERROR(E21*100/F21, " ") -> 100 | N21: =IFERROR(G21*100/H21," ")
B22: 2040 Average number of foreign languages learned in IVET | C22: =OFFSET(offsetstart_chart2,19,offset_chart2) -> 1.3 | D22: 1.2 | E22: =OFFSET(offsetstart_chart2,19,offset_chart2+1) -> 1.2 | F22: 1.2 | G22: =OFFSET(offsetstart_chart2,19,offset_chart2+2) -> 1.2 | H22: 1.2 | K22: 2040 Average number of foreign languages learned in IVET | L22: =IFERROR(C22*100/D22," ") -> 108.33333 | M22: =IFERROR(E22*100/F22, " ") -> 100 | N22: =IFERROR(G22*100/H22," ") -> 100
B23: 2050 STEM graduates from upper secondary IVET (% of total) | C23: =OFFSET(offsetstart_chart2,20,offset_chart2) | D23: 32 | E23: =OFFSET(offsetstart_chart2,20,offset_chart2+1) | F23: 28.7 | G23: =OFFSET(offsetstart_chart2,20,offset_chart2+2) | H23: 29.4 | K23: 2050 STEM graduates from upper secondary IVET (% of total) | L23: =IFERROR(C23*100/D23," ") | M23: =IFERROR(E23*100/F23, " ") | N23: =IFERROR(G23*100/H23," ")
B24: 2060 30-34 year-olds with tertiary VET attainment (%) | C24: =OFFSET(offsetstart_chart2,21,offset_chart2) -> 7.3 | D24: 7.3 | E24: =OFFSET(offsetstart_chart2,21,offset_chart2+1) -> 6.2 | F24: 7.3 | G24: =OFFSET(offsetstart_chart2,21,offset_chart2+2) -> 6.2 | H24: 8.6 | K24: 2060 30-34 year-olds with tertiary VET attainment (%) | L24: =IFERROR(C24*100/D24," ") -> 100 | M24: =IFERROR(E24*100/F24, " ") -> 84.931507 | N24: =IFERROR(G24*100/H24," ") -> 72.093023
B25: 2070 Innovative enterprises with supportive training practices (%) | C25: =OFFSET(offsetstart_chart2,22,offset_chart2) -> 61.6 | D25: 42.8 | E25: =OFFSET(offsetstart_chart2,22,offset_chart2+1) -> 59.1 | F25: 41.5 | G25: =OFFSET(offsetstart_chart2,22,offset_chart2+2) | K25: 2070 Innovative enterprises with supportive training practices (%) | L25: =IFERROR(C25*100/D25," ") -> 143.92523 | M25: =IFERROR(E25*100/F25, " ") -> 142.40964 | N25: =IFERROR(G25*100/H25," ")
B26: 2080 Employment rate for IVET graduates (20-34 year-olds) | C26: =OFFSET(offsetstart_chart2,23,offset_chart2) | E26: =OFFSET(offsetstart_chart2,23,offset_chart2+1) -> 88 | F26: 79.1 | G26: =OFFSET(offsetstart_chart2,23,offset_chart2+2) | K26: 2080 Employment rate for IVET graduates (20-34 year-olds) | L26: =IFERROR(C26*100/D26," ") | M26: =IFERROR(E26*100/F26, " ") -> 111.25158 | N26: =IFERROR(G26*100/H26," ")
B27: 2090 Employment premium for IVET graduates (over general stream) | C27: =OFFSET(offsetstart_chart2,24,offset_chart2) | E27: =OFFSET(offsetstart_chart2,24,offset_chart2+1) -> 5.1 | F27: 5.6 | G27: =OFFSET(offsetstart_chart2,24,offset_chart2+2) | K27: 2090 Employment premium for IVET graduates (over general stream) | L27: =IFERROR(C27*100/D27," ") | M27: =IFERROR(E27*100/F27, " ") -> 91.071429 | N27: =IFERROR(G27*100/H27," ")
B28: 2100 Employment premium for IVET graduates (over low-educated) | C28: =OFFSET(offsetstart_chart2,25,offset_chart2) | E28: =OFFSET(offsetstart_chart2,25,offset_chart2+1) -> 26.4 | F28: 17.4 | G28: =OFFSET(offsetstart_chart2,25,offset_chart2+2) | K28: 2100 Employment premium for IVET graduates (over low-educated) | L28: =IFERROR(C28*100/D28," ") | M28: =IFERROR(E28*100/F28, " ") -> 151.72414 | N28: =IFERROR(G28*100/H28," ")
B29: 2110 Workers helped to improve their work by training (%) | C29: =OFFSET(offsetstart_chart2,26,offset_chart2) | E29: =OFFSET(offsetstart_chart2,26,offset_chart2+1) -> 94.9 | F29: 89.7 | G29: =OFFSET(offsetstart_chart2,26,offset_chart2+2) | K29: 2110 Workers helped to improve their work by training (%) | L29: =IFERROR(C29*100/D29," ") | M29: =IFERROR(E29*100/F29, " ") -> 105.7971 | N29: =IFERROR(G29*100/H29," ")
B30: 2120 Workers with skills matched to their duties (%) | C30: =OFFSET(offsetstart_chart2,27,offset_chart2) | E30: =OFFSET(offsetstart_chart2,27,offset_chart2+1) -> 58.5 | F30: 55.3 | G30: =OFFSET(offsetstart_chart2,27,offset_chart2+2) | K30: 2120 Workers with skills matched to their duties (%) | L30: =IFERROR(C30*100/D30," ") | M30: =IFERROR(E30*100/F30, " ") -> 105.78662 | N30: =IFERROR(G30*100/H30," ")
A31: Overall transitions and labour market trends | J31: Overall transitions and labour market trends
B32: 3010 Early leavers from education and training (%) | C32: =OFFSET(offsetstart_chart2,29,offset_chart2) -> 9.8 | D32: 15.5 | E32: =OFFSET(offsetstart_chart2,29,offset_chart2+1) -> 8.3 | F32: 14 | G32: =OFFSET(offsetstart_chart2,29,offset_chart2+2) -> 7.6 | H32: 12.8 | K32: 3010 Early leavers from education and training (%) | L32: =IFERROR(C32*100/D32," ") -> 63.225806 | M32: =IFERROR(E32*100/F32, " ") -> 59.285714 | N32: =IFERROR(G32*100/H32," ") -> 59.375
B33: 3020 30-34 year-olds with tertiary attainment (%) | C33: =OFFSET(offsetstart_chart2,30,offset_chart2) -> 21.2 | D33: 28.9 | E33: =OFFSET(offsetstart_chart2,30,offset_chart2+1) -> 23.5 | F33: 33.5 | G33: =OFFSET(offsetstart_chart2,30,offset_chart2+2) -> 26.3 | H33: 35.8 | K33: 3020 30-34 year-olds with tertiary attainment (%) | L33: =IFERROR(C33*100/D33," ") -> 73.356401 | M33: =IFERROR(E33*100/F33, " ") -> 70.149254 | N33: =IFERROR(G33*100/H33," ") -> 73.463687
B34: 3030 NEET rate for 18-24 year-olds (%) | C34: =OFFSET(offsetstart_chart2,31,offset_chart2) -> 9.3 | D34: 15.1 | E34: =OFFSET(offsetstart_chart2,31,offset_chart2+1) -> 8.8 | F34: 16.5 | G34: =OFFSET(offsetstart_chart2,31,offset_chart2+2) -> 7.8 | H34: 17 | K34: 3030 NEET rate for 18-24 year-olds (%) | L34: =IFERROR(C34*100/D34," ") -> 61.589404 | M34: =IFERROR(E34*100/F34, " ") -> 53.333333 | N34: =IFERROR(G34*100/H34," ") -> 45.882353
B35: 3040 Unemployment rate for 20-34 year-olds (%) | C35: =OFFSET(offsetstart_chart2,32,offset_chart2) -> 5.7 | D35: 10.6 | E35: =OFFSET(offsetstart_chart2,32,offset_chart2+1) -> 6.2 | F35: 13.1 | G35: =OFFSET(offsetstart_chart2,32,offset_chart2+2) -> 5.8 | H35: 14.5 | K35: 3040 Unemployment rate for 20-34 year-olds (%) | L35: =IFERROR(C35*100/D35," ") -> 53.773585 | M35: =IFERROR(E35*100/F35, " ") -> 47.328244 | N35: =IFERROR(G35*100/H35," ") -> 40
B36: 3050 Adults with lower level of educational attainment (%) | C36: =OFFSET(offsetstart_chart2,33,offset_chart2) -> 19.7 | D36: 30.1 | E36: =OFFSET(offsetstart_chart2,33,offset_chart2+1) -> 17.5 | F36: 27.3 | G36: =OFFSET(offsetstart_chart2,33,offset_chart2+2) -> 16.9 | H36: 25.8 | K36: 3050 Adults with lower level of educational attainment (%) | L36: =IFERROR(C36*100/D36," ") -> 65.448505 | M36: =IFERROR(E36*100/F36, " ") -> 64.102564 | N36: =IFERROR(G36*100/H36," ") -> 65.503876
B37: 3060 Employment rate for 20-64 year-olds (%) | C37: =OFFSET(offsetstart_chart2,34,offset_chart2) -> 73.2 | D37: 69 | E37: =OFFSET(offsetstart_chart2,34,offset_chart2+1) -> 74.9 | F37: 68.5 | G37: =OFFSET(offsetstart_chart2,34,offset_chart2+2) -> 75.6 | H37: 68.5 | K37: 3060 Employment rate for 20-64 year-olds (%) | L37: =IFERROR(C37*100/D37," ") -> 106.08696 | M37: =IFERROR(E37*100/F37, " ") -> 109.34307 | N37: =IFERROR(G37*100/H37," ") -> 110.36496
B38: 3070 Medium/high qualified employment in 2020 (% of total) | C38: =OFFSET(offsetstart_chart2,35,offset_chart2) | E38: =OFFSET(offsetstart_chart2,35,offset_chart2+1) -> 85.4 | F38: 82.3 | G38: =OFFSET(offsetstart_chart2,35,offset_chart2+2) | K38: 3070 Medium/high qualified employment in 2020 (% of total) | L38: =IFERROR(C38*100/D38," ") | M38: =IFERROR(E38*100/F38, " ") -> 103.76671 | N38: =IFERROR(G38*100/H38," ")

Sheet raw data
D1: Austria | E1: Belgium | F1: Bulgaria | G1: Croatia | H1: Cyprus | I1: Czech Republic | J1: Denmark | K1: Estonia | L1: Finland | M1: France | N1: FYROM | O1: Germany | P1: Greece | Q1: Hungary | R1: Iceland | S1: Ireland | T1: Italy | U1: Latvia | V1: Lithuania | W1: Luxembourg | X1: Malta | Y1: Netherlands | Z1: Norway | AA1: Poland | AB1: Portugal | AC1: Romania | AD1: Slovakia | AE1: Slovenia | AF1: Spain | AG1: Sweden | AH1: Switzerland | AI1: Turkey | AJ1: United Kingdom
B2: Access, attractiveness and flexibility
C3: 1010 IVET-students of all upper secondary students (%) | D3: 151 | E3: 145 | F3: 104 | G3: 142 | H3: 25 | I3: 145 | J3: 92 | K3: 68 | L3: 138 | M3: 89 | N3: 119 | O3: 97 | P3: 63 | Q3: 52 | R3: 68 | S3: 68 | T3: 119 | U3: 75 | V3: 56 | W3: 122 | X3: 77 | Y3: 137 | Z3: 105 | AA3: 96 | AB3: 84 | AC3: 125 | AD3: 141 | AE3: 130 | AF3: 90 | AG3: 112 | AH3: 129 | AI3: 87 | AJ3: 72
C4: 1020 IVET work-based students in upper secondary IVET (%) | D4: 169 | E4: 16 | I4: 161 | J4: 358 | K4: 3 | L4: 62 | M4: 99 | O4: 327 | Q4: 235 | R4: 171 | W4: 85 | Z4: 102 | AA4: 51 | AD4: 151 | AE4: 1 | AF4: 16 | AH4: 340
C5: 1030 Employees participating in CVT courses (%) | D5: 87 | E5: 137 | F5: 58 | G5: 61 | H5: 97 | I5: 161 | K5: 82 | L5: 105 | M5: 118 | O5: 103 | Q5: 50 | T5: 95 | U5: 63 | V5: 50 | W5: 134 | X5: 95 | Y5: 103 | AA5: 82 | AB5: 105 | AC5: 47 | AD5: 116 | AE5: 113 | AF5: 126 | AG5: 124 | AJ5: 82
C6: 1040 Employees participating in on-the-job training (%) | D6: 57 | E6: 100 | F6: 95 | G6: 71 | H6: 86 | I6: 148 | K6: 67 | L6: 57 | M6: 67 | O6: 133 | Q6: 57 | T6: 52 | U6: 100 | V6: 119 | W6: 95 | X6: 71 | Y6: 67 | AA6: 52 | AB6: 95 | AC6: 48 | AD6: 100 | AE6: 119 | AF6: 95 | AG6: 114 | AJ6: 143
C7: 1050 Adults in lifelong learning (%) | D7: 157 | E7: 73 | F7: 17 | G7: 27 | H7: 82 | I7: 120 | J7: 351 | K7: 143 | L7: 272 | M7: 63 | N7: 44 | O7: 88 | P7: 32 | Q7: 31 | R7: 303 | S7: 79 | T7: 73 | U7: 78 | V7: 58 | W7: 154 | X7: 78 | Y7: 183 | Z7: 222 | AA7: 50 | AB7: 118 | AC7: 16 | AD7: 34 | AE7: 153 | AF7: 119 | AG7: 297 | AH7: 332 | AI7: 36 | AJ7: 176
C8: 1060 Enterprises providing training (%) | D8: 132 | E8: 118 | F8: 47 | G8: 86 | H8: 109 | I8: 109 | K8: 103 | L8: 112 | M8: 115 | O8: 111 | Q8: 74 | T8: 85 | U8: 61 | V8: 79 | W8: 108 | X8: 82 | Y8: 120 | AA8: 33 | AB8: 98 | AC8: 36 | AD8: 105 | AE8: 103 | AF8: 114 | AG8: 132 | AJ8: 121
C9: 1070 Female IVET students of all female upper secondary students (%) | D9: 159 | E9: 163 | F9: 96 | G9: 144 | H9: 10 | I9: 150 | J9: 91 | K9: 54 | L9: 150 | M9: 88 | N9: 123 | O9: 89 | P9: 54 | Q9: 46 | R9: 66 | S9: 78 | T9: 110 | U9: 67 | V9: 46 | W9: 131 | X9: 61 | Y9: 151 | Z9: 102 | AA9: 83 | AB9: 86 | AC9: 123 | AD9: 146 | AE9: 130 | AF9: 94 | AG9: 119 | AH9: 131 | AI9: 93 | AJ9: 81
C10: 1080 Young VET graduates in further education and training (%) | D10: 107 | E10: 101 | F10: 79 | I10: 100 | J10: 190 | L10: 96 | O10: 53 | P10: 54 | Q10: 105 | S10: 53 | T10: 105 | W10: 110 | Y10: 150 | AA10: 125 | AB10: 107 | AC10: 130 | AD10: 90 | AE10: 185 | AF10: 93 | AG10: 142 | AH10: 82 | AI10: 116 | AJ10: 101
C11: 1090 Older adults in lifelong learning (%) | D11: 157 | E11: 81 | H11: 60 | I11: 115 | J11: 472 | K11: 120 | L11: 314 | M11: 60 | N11: 14 | O11: 69 | P11: 18 | Q11: 13 | R11: 399 | S11: 74 | T11: 67 | U11: 77 | V11: 48 | W11: 142 | X11: 63 | Y11: 196 | Z11: 253 | AA11: 21 | AB11: 93 | AD11: 25 | AE11: 133 | AF11: 112 | AG11: 385 | AH11: 472 | AI11: 7 | AJ11: 225
C12: 1100 Low-educated adults in lifelong learning (%) | D12: 128 | E12: 69 | H12: 33 | I12: 62 | J12: 574 | K12: 103 | L12: 290 | M12: 64 | N12: 8 | O12: 79 | P12: 10 | Q12: 15 | R12: 446 | S12: 79 | T12: 41 | U12: 72 | W12: 133 | X12: 67 | Y12: 256 | Z12: 313 | AA12: 18 | AB12: 159 | AE12: 67 | AF12: 118 | AG12: 464 | AH12: 244 | AI12: 38 | AJ12: 195
C13: 1110 Unemployed adults in lifelong learning (%) | D13: 206 | E13: 102 | H13: 72 | I13: 68 | J13: 363 | K13: 131 | L13: 202 | M13: 59 | N13: 31 | O13: 62 | P13: 30 | Q13: 21 | R13: 323 | S13: 80 | T13: 69 | U13: 81 | W13: 194 | Y13: 180 | Z13: 253 | AA13: 51 | AB13: 154 | AD13: 12 | AE13: 149 | AF13: 141 | AG13: 472 | AH13: 252 | AI13: 64 | AJ13: 167
C14: 1120 Individuals who wanted to participate in training but did not (%) | D14: 72 | E14: 124 | F14: 57 | H14: 228 | I14: 44 | J14: 136 | K14: 147 | M14: 127 | N14: 145 | P14: 178 | Q14: 88 | T14: 164 | U14: 130 | V14: 76 | W14: 125 | X14: 217 | Y14: 86 | Z14: 68 | AA14: 91 | AB14: 74 | AC14: 401 | AD14: 89 | AE14: 110 | AF14: 94 | AG14: 67 | AH14: 102
C15: 1130 Job-related non-formal education and training (%) | D15: 95 | E15: 110 | F15: 116 | H15: 98 | I15: 104 | J15: 109 | K15: 101 | M15: 101 | O15: 93 | P15: 88 | Q15: 110 | T15: 90 | U15: 97 | V15: 107 | W15: 97 | X15: 122 | Y15: 110 | Z15: 121 | AA15: 105 | AB15: 103 | AC15: 101 | AD15: 111 | AE15: 89 | AF15: 103 | AG15: 108 | AH15: 101 | AJ15: 103
B16: Skill development and labour market relevance
C17: 2010 IVET Public expenditure (% of GDP) | D17: 146 | F17: 79 | H17: 48 | I17: 112 | K17: 117 | L17: 186 | O17: 86 | Q17: 45 | U17: 60 | V17: 48 | W17: 83 | X17: 66 | Y17: 118 | AA17: 78 | AD17: 108 | AG17: 132 | AH17: 89 | AI17: 57
C18: 2020 IVET Public expenditure (EUR per student) | E18: 113 | F18: 36 | H18: 183 | I18: 60 | K18: 77 | L18: 102 | M18: 173 | O18: 92 | Q18: 40 | U18: 41 | V18: 43 | W18: 183 | Y18: 105 | AA18: 46 | AD18: 49 | AG18: 136 | AH18: 103 | AI18: 25
C19: 2030 Enterprise expenditure on CVT courses (% of total labour cost) | D19: 100 | E19: 108 | F19: 75 | G19: 50 | H19: 138 | I19: 75 | K19: 63 | L19: 100 | M19: 200 | O19: 100 | Q19: 163 | T19: 50 | U19: 50 | V19: 63 | W19: 75 | X19: 175 | Y19: 150 | AA19: 63 | AB19: 88 | AC19: 50 | AD19: 113 | AE19: 75 | AF19: 100 | AG19: 113 | AJ19: 88
C20: 2040 Average number of foreign languages learned in IVET | D20: 100 | E20: 65 | F20: 117 | G20: 108 | H20: 92 | I20: 108 | M20: 108 | O20: 33 | Q20: 67 | R20: 58 | S20: 83 | T20: 117 | U20: 100 | V20: 67 | W20: 167 | X20: 83 | Z20: 42 | AA20: 133 | AB20: 83 | AC20: 158 | AD20: 133 | AE20: 33 | AG20: 100 | AI20: 83
C21: 2050 STEM graduates from upper secondary IVET (% of total) | E21: 229 | F21: 149 | H21: 210 | I21: 124 | J21: 67 | K21: 155 | L21: 99 | M21: 94 | N21: 120 | O21: 106 | Q21: 121 | U21: 128 | V21: 99 | W21: 90 | Y21: 60 | Z21: 120 | AA21: 136 | AD21: 106 | AE21: 115 | AF21: 91 | AG21: 111 | AH21: 89 | AI21: 186
C22: 2060 30-34 year-olds with tertiary VET attainment (%) | D22: 71 | E22: 145 | F22: 18 | G22: 102 | H22: 154 | I22: 38 | J22: 70 | K22: 144 | L22: 19 | M22: 195 | N22: 11 | O22: 116 | P22: 122 | Q22: 12 | R22: 29 | S22: 204 | T22: 3 | V22: 147 | W22: 136 | Y22: 33 | Z22: 33 | AB22: 17 | AC22: 20 | AD22: 17 | AE22: 174 | AF22: 154 | AG22: 101 | AH22: 119 | AJ22: 193
C23: 2070 Innovative enterprises with supportive training practices (%) | D23: 143 | E23: 107 | F23: 82 | G23: 131 | H23: 219 | I23: 114 | J23: 71 | K23: 127 | L23: 84 | M23: 145 | Q23: 91 | T23: 77 | U23: 86 | V23: 146 | W23: 164 | X23: 89 | Y23: 94 | Z23: 141 | AA23: 134 | AB23: 137 | AC23: 88 | AD23: 148 | AE23: 107 | AF23: 57 | AG23: 57 | AI23: 101
C24: 2080 Employment rate for IVET graduates (20-34 year-olds) | D24: 111 | E24: 199 | F24: 102 | H24: 111 | I24: 100 | J24: 112 | K24: 85 | L24: 99 | M24: 97 | O24: 106 | P24: 100 | Q24: 93 | R24: 101 | S24: 91 | T24: 94 | U24: 92 | V24: 91 | W24: 114 | X24: 113 | Y24: 115 | AA24: 93 | AB24: 106 | AC24: 104 | AD24: 94 | AE24: 109 | AF24: 91 | AG24: 107 | AH24: 109 | AI24: 81 | AJ24: 99
C25: 2090 Employment premium for IVET graduates (over general stream) | D25: 91 | E25: 154 | F25: 141 | H25: 75 | I25: 190 | J25: 108 | K25: 0 | L25: 54 | M25: 11 | O25: 469 | P25: 83 | Q25: 113 | R25: 20 | S25: 33 | T25: 139 | U25: 193 | V25: 225 | W25: 152 | X25: 0 | Y25: 84 | AA25: 86 | AB25: 0 | AC25: 74 | AD25: 68 | AE25: 218 | AF25: 59 | AG25: 67 | AH25: 128 | AI25: 200 | AJ25: 0
C26: 2100 Employment premium for IVET graduates (over low-educated) | D26: 152 | E26: 97 | F26: 144 | H26: 76 | I26: 203 | J26: 84 | K26: 79 | L26: 111 | M26: 97 | O26: 171 | P26: 34 | Q26: 167 | R26: 67 | S26: 120 | T26: 78 | U26: 158 | V26: 109 | W26: 90 | X26: 123 | Y26: 79 | AA26: 113 | AB26: 15 | AC26: 87 | AD26: 254 | AE26: 97 | AF26: 60 | AG26: 138 | AH26: 87 | AI26: 55 | AJ26: 71
C27: 2110 Workers helped to improve their work by training (%) | D27: 106 | E27: 111 | G27: 104 | H27: 107 | I27: 97 | J27: 100 | K27: 101 | L27: 100 | M27: 95 | N27: 107 | O27: 99 | Q27: 102 | S27: 106 | T27: 103 | U27: 106 | V27: 106 | W27: 100 | X27: 108 | Y27: 91 | Z27: 102 | AA27: 101 | AB27: 105 | AC27: 109 | AD27: 98 | AE27: 99 | AF27: 106 | AG27: 89 | AJ27: 102
C28: 2120 Workers with skills matched to their duties (%) | D28: 106 | F28: 116 | G28: 92 | H28: 85 | I28: 111 | J28: 108 | K28: 95 | L28: 115 | M28: 108 | N28: 112 | O28: 92 | P28: 81 | Q28: 85 | S28: 100 | T28: 112 | U28: 85 | V28: 109 | W28: 98 | X28: 100 | Y28: 102 | Z28: 111 | AA28: 108 | AB28: 123 | AC28: 73 | AD28: 95 | AE28: 86 | AF28: 96 | AG28: 96 | AI28: 117 | AJ28: 95
B29: Overall transitions and labour market trends | E29: 94
C30: 3010 Early leavers from education and training (%) | D30: 59 | E30: 123 | F30: 98 | G30: 33 | H30: 89 | I30: 43 | J30: 71 | K30: 82 | L30: 70 | M30: 91 | N30: 91 | O30: 82 | P30: 89 | Q30: 90 | R30: 157 | S30: 76 | T30: 138 | U30: 82 | V30: 51 | W30: 63 | X30: 177 | Y30: 69 | Z30: 116 | AA30: 45 | AB30: 163 | AC30: 136 | AD30: 41 | AE30: 34 | AF30: 195 | AG30: 59 | AH30: 43 | AI30: 309 | AJ30: 105
C31: 3020 30-34 year-olds with tertiary attainment (%) | D31: 73 | E31: 88 | F31: 75 | G31: 66 | H31: 139 | I31: 72 | J31: 120 | K31: 109 | L31: 128 | M31: 122 | N31: 61 | O31: 89 | P31: 86 | Q31: 84 | R31: 120 | S31: 143 | T31: 61 | U31: 103 | V31: 136 | W31: 139 | X31: 63 | Y31: 118 | Z31: 133 | AA31: 109 | AB31: 76 | AC31: 61 | AD31: 66 | AE31: 109 | AF31: 112 | AG31: 134 | AH31: 122 | AI31: 50 | AJ31: 132
C32: 3030 NEET rate for 18-24 year-olds (%) | D32: 46 | E32: 80 | F32: 153 | G32: 131 | H32: 132 | I32: 66 | J32: 52 | K32: 90 | L32: 69 | M32: 95 | N32: 190 | O32: 58 | P32: 167 | Q32: 115 | R32: 39 | S32: 140 | T32: 159 | U32: 102 | V32: 88 | W32: 46 | X32: 69 | Y32: 34 | Z32: 41 | AA32: 94 | AB32: 110 | AC32: 120 | AD32: 106 | AE32: 68 | AF32: 140 | AG32: 62 | AH32: 49 | AI32: 206 | AJ32: 106
C33: 3040 Unemployment rate for 20-34 year-olds (%) | D33: 40 | E33: 110 | F33: 112 | G33: 180 | H33: 112 | I33: 66 | J33: 72 | K33: 90 | L33: 66 | M33: 97 | N33: 275 | O33: 45 | P33: 247 | Q33: 102 | R33: 58 | S33: 127 | T33: 128 | U33: 113 | V33: 112 | W33: 56 | X33: 43 | Y33: 39 | Z33: 32 | AA33: 97 | AB33: 149 | AC33: 76 | AD33: 130 | AE33: 94 | AF33: 224 | AG33: 78 | AH33: 42 | AI33: 76 | AJ33: 72
C34: 3050 Adults with lower level of educational attainment (%) | D34: 66 | E34: 98 | F34: 74 | G34: 80 | H34: 88 | I34: 29 | J34: 86 | K34: 40 | L34: 59 | M34: 107 | N34: 136 | O34: 53 | P34: 133 | Q34: 69 | R34: 112 | S34: 98 | T34: 166 | U34: 42 | V34: 26 | W34: 84 | X34: 240 | Y34: 104 | Z34: 69 | AA34: 40 | AB34: 242 | AC34: 93 | AD34: 32 | AE34: 58 | AF34: 177 | AG34: 68 | AH34: 53 | AI34: 268 | AJ34: 86
C35: 3060 Employment rate for 20-64 year-olds (%) | D35: 110 | E35: 103 | F35: 92 | G35: 81 | H35: 102 | I35: 104 | J35: 110 | K35: 105 | L35: 108 | M35: 101 | N35: 70 | O35: 112 | P35: 81 | Q35: 91 | R35: 119 | S35: 93 | T35: 89 | U35: 100 | V35: 100 | W35: 104 | X35: 92 | Y35: 113 | Z35: 117 | AA35: 94 | AB35: 97 | AC35: 93 | AD35: 95 | AE35: 100 | AF35: 87 | AG35: 116 | AH35: 120 | AI35: 77 | AJ35: 108
C36: 3070 Medium/high qualified employment in 2020 (% of total) | D36: 104 | F36: 105 | G36: 105 | H36: 101 | I36: 116 | J36: 83 | K36: 107 | L36: 107 | M36: 101 | O36: 105 | P36: 91 | Q36: 110 | R36: 85 | S36: 106 | T36: 87 | U36: 102 | V36: 112 | W36: 101 | X36: 74 | Y36: 96 | Z36: 84 | AA36: 108 | AB36: 59 | AC36: 96 | AD36: 117 | AE36: 106 | AF36: 91 | AG36: 100 | AH36: 101 | AJ36: 108

Sheet table_data
A2: Indicator label | C2: 2006 | D2: 2006 | E2: 2006 | F2: 2006 | G2: 2006 | H2: 2006 | I2: 2006 | J2: 2006 | K2: 2006 | L2: 2006 | M2: 2006 | N2: 2006 | O2: 2006 | P2: 2006 | Q2: 2006 | R2: 2006 | S2: 2006 | T2: 2006 | U2: 2006 | V2: 2006 | W2: 2006 | X2: 2006 | Y2: 2006 | Z2: 2006 | AA2: 2006 | AB2: 2006 | AC2: 2006 | AD2: 2006 | AE2: 2006 | AF2: 2006 | AG2: 2006 | AH2: 2006 | AI2: 2006 | AJ2: 2010 | AK2: 2010 | AL2: 2010 | AM2: 2010 | AN2: 2010 | AO2: 2010 | AP2: 2010 | AQ2: 2010 | AR2: 2010 | AS2: 2010 | AT2: 2010 | AU2: 2010 | AV2: 2010 | AW2: 2010 | AX2: 2010 | AY2: 2010 | AZ2: 2010 | BA2: 2010 | BB2: 2010 | BC2: 2010 | BD2: 2010 | BE2: 2010 | BF2: 2010 | BG2: 2010 | BH2: 2010 | BI2: 2010 | BJ2: 2010 | BK2: 2010 | BL2: 2010 | BM2: 2010 | BN2: 2010 | BO2: 2010 | BP2: 2010 | BQ2: Change 2006-10 | BR2: Change 2006-10 | BS2: Change 2006-10 | BT2: Change 2006-10 | BU2: Change 2006-10 | BV2: Change 2006-10 | BW2: Change 2006-10 | BX2: Change 2006-10 | BY2: Change 2006-10 | BZ2: Change 2006-10 | CA2: Change 2006-10 | CB2: Change 2006-10 | CC2: Change 2006-10 | CD2: Change 2006-10 | CE2: Change 2006-10 | CF2: Change 2006-10 | CG2: Change 2006-10 | CH2: Change 2006-10 | CI2: Change 2006-10 | CJ2: Change 2006-10 | CK2: Change 2006-10 | CL2: Change 2006-10 | CM2: Change 2006-10 | CN2: Change 2006-10 | CO2: Change 2006-10 | CP2: Change 2006-10 | CQ2: Change 2006-10 | CR2: Change 2006-10 | CS2: Change 2006-10 | CT2: Change 2006-10 | CU2: Change 2006-10 | CV2: Change 2006-10 | CW2: Change 2006-10 | CX2: 2011/12 updates | CY2: 2011/12 updates | CZ2: 2011/12 updates | DA2: 2011/12 updates | DB2: 2011/12 updates | DC2: 2011/12 updates | DD2: 2011/12 updates | DE2: 2011/12 updates | DF2: 2011/12 updates | DG2: 2011/12 updates | DH2: 2011/12 updates | DI2: 2011/12 updates | DJ2: 2011/12 updates | DK2: 2011/12 updates | DL2: 2011/12 updates | DM2: 2011/12 updates | DN2: 2011/12 updates | DO2: 2011/12 updates | DP2: 2011/12 updates | DQ2: 2011/12 updates | DR2: 2011/12 updates | DS2: 2011/12 updates | DT2: 2011/12 updates | DU2: 2011/12 updates | DV2: 2011/12 updates | DW2: 2011/12 updates | DX2: 2011/12 updates | DY2: 2011/12 updates | DZ2: 2011/12 updates | EA2: 2011/12 updates | EB2: 2011/12 updates | EC2: 2011/12 updates | ED2: 2011/12 updates
C3: Austria | D3: Belgium | E3: Bulgaria | F3: Croatia | G3: Cyprus | H3: Czech Republic | I3: Denmark | J3: Estonia | K3: Finland | L3: France | M3: FYROM | N3: Germany | O3: Greece | P3: Hungary | Q3: Iceland | R3: Ireland | S3: Italy | T3: Latvia | U3: Lithuania | V3: Luxembourg | W3: Malta | X3: Netherlands | Y3: Norway | Z3: Poland | AA3: Portugal | AB3: Romania | AC3: Slovakia | AD3: Slovenia | AE3: Spain | AF3: Sweden | AG3: Switzerland | AH3: Turkey | AI3: United Kingdom | AJ3: Austria | AK3: Belgium | AL3: Bulgaria | AM3: Croatia | AN3: Cyprus | AO3: Czech Republic | AP3: Denmark | AQ3: Estonia | AR3: Finland | AS3: France | AT3: FYROM | AU3: Germany | AV3: Greece | AW3: Hungary | AX3: Iceland | AY3: Ireland | AZ3: Italy | BA3: Latvia | BB3: Lithuania | BC3: Luxembourg | BD3: Malta | BE3: Netherlands | BF3: Norway | BG3: Poland | BH3: Portugal | BI3: Romania | BJ3: Slovakia | BK3: Slovenia | BL3: Spain | BM3: Sweden | BN3: Switzerland | BO3: Turkey | BP3: United Kingdom | BQ3: Austria | BR3: Belgium | BS3: Bulgaria | BT3: Croatia | BU3: Cyprus | BV3: Czech Republic | BW3: Denmark | BX3: Estonia | BY3: Finland | BZ3: France | CA3: FYROM | CB3: Germany | CC3: Greece | CD3: Hungary | CE3: Iceland | CF3: Ireland | CG3: Italy | CH3: Latvia | CI3: Lithuania | CJ3: Luxembourg | CK3: Malta | CL3: Netherlands | CM3: Norway | CN3: Poland | CO3: Portugal | CP3: Romania | CQ3: Slovakia | CR3: Slovenia | CS3: Spain | CT3: Sweden | CU3: Switzerland | CV3: Turkey | CW3: United Kingdom | CX3: Austria | CY3: Belgium | CZ3: Bulgaria | DA3: Croatia | DB3: Cyprus | DC3: Czech Republic | DD3: Denmark | DE3: Estonia | DF3: Finland | DG3: France | DH3: FYROM | DI3: Germany | DJ3: Greece | DK3: Hungary | DL3: Iceland | DM3: Ireland | DN3: Italy | DO3: Latvia | DP3: Lithuania | DQ3: Luxembourg | DR3: Malta | DS3: Netherlands | DT3: Norway | DU3: Poland | DV3: Portugal | DW3: Romania | DX3: Slovakia | DY3: Slovenia | DZ3: Spain | EA3: Sweden | EB3: Switzerland | EC3: Turkey | ED3: United Kingdom
C4: AT | D4: BE | E4: BG | F4: HR | G4: CY | H4: CZ | I4: DK | J4: EE | K4: FI | L4: FR | M4: MK | N4: DE | O4: EL | P4: HU | Q4: IS | R4: IE | S4: IT | T4: LV | U4: LT | V4: LU | W4: MT | X4: NL | Y4: NO | Z4: PL | AA4: PT | AB4: RO | AC4: SK | AD4: SI | AE4: ES | AF4: SE | AG4: CH | AH4: TR | AI4: UK | AJ4: AT | AK4: BE | AL4: BG | AM4: HR | AN4: CY | AO4: CZ | AP4: DK | AQ4: EE | AR4: FI | AS4: FR | AT4: MK | AU4: DE | AV4: EL | AW4: HU | AX4: IS | AY4: IE | AZ4: IT | BA4: LV | BB4: LT | BC4: LU | BD4: MT | BE4: NL | BF4: NO | BG4: PL | BH4: PT | BI4: RO | BJ4: SK | BK4: SI | BL4: ES | BM4: SE | BN4: CH | BO4: TR | BP4: UK | BQ4: AT | BR4: BE | BS4: BG | BT4: HR | BU4: CY | BV4: CZ | BW4: DK | BX4: EE | BY4: FI | BZ4: FR | CA4: MK | CB4: DE | CC4: EL | CD4: HU | CE4: IS | CF4: IE | CG4: IT | CH4: LV | CI4: LT | CJ4: LU | CK4: MT | CL4: NL | CM4: NO | CN4: PL | CO4: PT | CP4: RO | CQ4: SK | CR4: SI | CS4: ES | CT4: SE | CU4: CH | CV4: TR | CW4: UK | CX4: AT | CY4: BE | CZ4: BG | DA4: HR | DB4: CY | DC4: CZ | DD4: DK | DE4: EE | DF4: FI | DG4: FR | DH4: MK | DI4: DE | DJ4: EL | DK4: HU | DL4: IS | DM4: IE | DN4: IT | DO4: LV | DP4: LT | DQ4: LU | DR4: MT | DS4: NL | DT4: NO | DU4: PL | DV4: PT | DW4: RO | DX4: SK | DY4: SI | DZ4: ES | EA4: SE | EB4: CH | EC4: TR | ED4: UK
A5: Access, attractiveness and flexibility
A6: 1010 | B6: IVET-students as % of all upper secondary students | C6: 77.9 | D6: 69.5 | E6: 54 | F6: 73.6 | G6: 13.3 | H6: 79.3 | I6: 47.8 | J6: 30.9 | K6: 65.4 | L6: 43.1 | M6: 59.6 | N6: 59.4 | O6: 33.9 | P6: 23.7 | Q6: 36.7 | R6: 33.4 | S6: 60.5 | T6: 34.3 | U6: 25.7 | V6: 62.9 | W6: 46.9 | X6: 67.5 | Y6: 60 | Z6: 44 | AA6: 31.5 | AB6: 64.9 | AC6: 73.7 | AD6: 66.2 | AE6: 42.5 | AF6: 55.1 | AG6: 64.2 | AH6: 36.3 | AI6: 41.7 | AJ6: 76.8 | AK6: 73 | AL6: 52.2 | AM6: 72.1 | AN6: 13.2 | AO6: 73.1 | AP6: 46.5 | AQ6: 34.2 | AR6: 69.7 | AS6: 44.3 | AT6: 60 | AU6: 51.5 | AV6: 30.7 | AW6: 25.8 | AX6: 34.3 | AY6: 37.5 | AZ6: 60 | BA6: 36 | BB6: 27.7 | BC6: 61.5 | BD6: 49.3 | BE6: 67 | BF6: 53.9 | BG6: 48.2 | BH6: 38.8 | BI6: 63.8 | BJ6: 71.3 | BK6: 64.6 | BL6: 44.6 | BM6: 56.1 | BN6: 66.2 | BO6: 42.9 | BP6: 32.1 | BQ6: -1.1 | BR6: 3.5 | BS6: -1.8 | BT6: -1.5 | BU6: -0.1 | BV6: -6.2 | BW6: -1.3 | BX6: 3.3 | BY6: 4.3 | BZ6: 1.2 | CA6: 0.4 | CB6: -7.9 | CC6: -3.2 | CD6: 2.1 | CE6: -2.4 | CF6: 4.1 | CG6: -0.5 | CH6: 1.7 | CI6: 2 | CJ6: -1.4 | CK6: 2.4 | CL6: -0.5 | CM6: -6.1 | CN6: 4.2 | CO6: 7.3 | CP6: -1.1 | CQ6: -2.4 | CR6: -1.6 | CS6: 2.1 | CT6: 1 | CU6: 2 | CV6: 6.6 | CW6: -9.6 | CX6: 76.1 | CY6: 72.8 | CZ6: 52.2 | DA6: 71.5 | DB6: 12.7 | DC6: 73 | DD6: 46.1 | DE6: 34.4 | DF6: 69.6 | DG6: 44.6 | DH6: 60.1 | DI6: 48.6 | DJ6: 31.7 | DK6: 26.2 | DL6: 34.3 | DM6: 34 | DN6: 60 | DO6: 37.8 | DP6: 28.4 | DQ6: 61.4 | DR6: 38.9(p) | DS6: 69.1 | DT6: 52.6 | DU6: 48.3 | DV6: 42.4 | DW6: 63.1 | DX6: 70.9 | DZ6: 45.3 | EA6: 56.3 | EB6: 65.1 | EC6: 43.6 | ED6: 36
A7: 1020 | B7: IVET work-based students as % of upper secondary IVET | C7: 42.4 | D7: 5 | H7: 43.9 | I7: 99.7 | K7: 16.6 | L7: 26.9 | N7: 74.4 | P7: 54.6 | Q7: 48.1 | R7: 7.3 | V7: 22 | X7: 27.1 | Y7: 23.2 | Z7: 14.3 | AC7: 41.9 | AE7: 5.1 | AG7: 90.1 | AJ7: 45.1 | AK7: 4.3 | AO7: 43.7 | AP7: 97.4 | AQ7: 0.8 | AR7: 19.2 | AS7: 27.6 | AU7: 88.4 | AW7: 59.6 | AX7: 46.6 | AY7: 13.4 | BC7: 23.5 | BE7: 31.2 | BF7: 28.4 | BG7: 13.7 | BJ7: 40.5 | BK7: 0.4 | BL7: 5 | BN7: 91.6 | BQ7: 2.7 | BR7: -0.7 | BV7: -0.2 | BW7: -2.3 | BY7: 2.6 | BZ7: 0.7 | CB7: 14 | CD7: 5 | CE7: -1.5 | CF7: 6.1 | CJ7: 1.5 | CL7: 4.1 | CM7: 5.2 | CN7: -0.6 | CQ7: -1.4 | CS7: -0.1 | CU7: 1.5 | CX7: 45.7 | CY7: 4.3 | DC7: 43.6 | DD7: 96.8 | DE7: 0.8 | DF7: 16.8 | DG7: 26.9 | DI7: 88.2 | DK7: 63.4 | DL7: 46.1 | DQ7: 22.9 | DT7: 27.6 | DU7: 13.7 | DX7: 40.8 | DZ7: 4.3 | EB7: 91.8
A8: 1030 | B8: Employees participating in CVT courses (%) | C8: 33 | D8: 40 | E8: 15 | G8: 30 | H8: 59 | I8: 35 | J8: 24 | K8: 39 | L8: 46 | N8: 30 | O8: 14 | P8: 16 | R8: 49 | S8: 29 | T8: 15 | U8: 15 | V8: 49 | W8: 32 | X8: 34 | Z8: 21 | AA8: 28 | AB8: 17 | AC8: 38 | AD8: 50 | AE8: 33 | AF8: 46 | AJ8: 33 | AK8: 52 | AL8: 22 | AM8: 23 | AN8: 37 | AO8: 61 | AQ8: 31 | AR8: 40 | AS8: 45 | AU8: 39 | AW8: 19 | AZ8: 36 | BA8: 24 | BB8: 19 | BC8: 51 | BD8: 36 | BE8: 39 | BG8: 31 | BH8: 40 | BI8: 18 | BJ8: 44 | BK8: 43 | BL8: 48 | BM8: 47 | BP8: 31 | BQ8: 0 | BR8: 12 | BS8: 7 | BU8: 7 | BV8: 2 | BX8: 7 | BY8: 1 | BZ8: -1 | CB8: 9 | CD8: 3 | CG8: 7 | CH8: 9 | CI8: 4 | CJ8: 2 | CK8: 4 | CL8: 5 | CN8: 10 | CO8: 12 | CP8: 1 | CQ8: 6 | CR8: -7 | CS8: 15 | CT8: 1
A9: 1040 | B9: Employees participating in on-the-job training (%) | C9: 9 | D9: 21 | E9: 12 | G9: 6 | H9: 32 | I9: 25 | J9: 16 | K9: 16 | L9: 7 | N9: 26 | O9: 4 | P9: 13 | S9: 7 | T9: 7 | U9: 11 | V9: 23 | W9: 17 | X9: 11 | Z9: 15 | AA9: 9 | AB9: 14 | AC9: 20 | AD9: 20 | AE9: 19 | AF9: 21 | AJ9: 12 | AK9: 21 | AL9: 20 | AM9: 15 | AN9: 18 | AO9: 31 | AQ9: 14 | AR9: 12 | AS9: 14 | AU9: 28 | AW9: 12 | AZ9: 11 | BA9: 21 | BB9: 25 | BC9: 20 | BD9: 15 | BE9: 14 | BG9: 11 | BH9: 20 | BI9: 10 | BJ9: 21 | BK9: 25 | BL9: 20 | BM9: 24 | BP9: 30 | BQ9: 3 | BR9: 0 | BS9: 8 | BU9: 12 | BV9: -1 | BX9: -2 | BY9: -4 | BZ9: 7 | CB9: 2 | CD9: -1 | CG9: 4 | CH9: 14 | CI9: 14 | CJ9: -3 | CK9: -2 | CL9: 3 | CN9: -4 | CO9: 11 | CP9: -4 | CQ9: 1 | CR9: 5 | CS9: 1 | CT9: 3 | DA9: 15 | DG9: 39.3
A10: 1050 | B10: Adults in lifelong learning (%) | C10: 13.1 | D10: 7.5 | E10: 1.3 | F10: 2.9 | G10: 7.1 | I10: 29.2 | J10: 6.5 | K10: 23.1 | L10: 6.4 | M10: 2.3 | N10: 7.5 | O10: 1.9 | P10: 3.8 | Q10: 27.9 | R10: 7.3 | S10: 6.1 | U10: 4.9 | W10: 5.4 | Y10: 18.7 | Z10: 4.7 | AB10: 1.3 | AC10: 4.1 | AD10: 15 | AE10: 10.4 | AH10: 1.8 | AJ10: 13.7 | AK10: 7.2 | AL10: 1.2 | AM10: 2.2 | AN10: 7.7 | AP10: 32.5 | AQ10: 10.9 | AR10: 23 | AS10: 5 | AT10: 3.2 | AU10: 7.7 | AV10: 3 | AW10: 2.8 | AX10: 25.2 | AY10: 6.8 | AZ10: 6.2 | BB10: 4 | BC10: 13.4 | BD10: 6.2 | BE10: 16.6 | BF10: 17.8 | BG10: 5.3 | BI10: 1.3 | BJ10: 2.8 | BK10: 16.2 | BL10: 10.8 | BM10: 24.4 | BN10: 30.6 | BO10: 2.5 | BP10: 19.4 | BQ10: 0.6 | BR10: -0.3 | BS10: -0.1 | BT10: -0.7 | BU10: 0.6 | BW10: 3.3 | BX10: 4.4 | BY10: -0.1 | BZ10: -1.4 | CA10: 0.9 | CB10: 0.2 | CC10: 1.1 | CD10: -1 | CE10: -2.7 | CF10: -0.5 | CG10: 0.1 | CI10: -0.9 | CJ10: (b) | CK10: 0.8 | CL10: (b) | CM10: -0.9 | CN10: 0.6 | CP10: 0 | CQ10: -1.3 | CR10: 1.2 | CS10: 0.4 | CT10: (b) | CU10: (d) | CV10: 0.7 | CW10: (b) | CX10: 14.1 | CY10: 6.6 | CZ10: 1.5 | DA10: 2.4 | DB10: 7.4 | DC10: 10.8(b) | DD10: 31.6 | DE10: 12.9 | DF10: 24.5 | DG10: 5.7 | DH10: 4 | DI10: 7.9 | DJ10: 2.9 | DK10: 2.8 | DL10: 27.3 | DM10: 7.1 | DN10: 6.6 | DO10: 7.0(b) | DP10: 5.2 | DQ10: 13.9 | DR10: 7 | DS10: 16.5(p) | DT10: 20 | DU10: 4.5(p) | DV10: 10.6(b) | DW10: 1.4 | DX10: 3.1 | DY10: 13.8 | DZ10: 10.7 | EA10: 26.7 | EB10: 29.9 | EC10: 3.2 | ED10: 15.8
A11: 1060 | B11: Enterprises providing training (%) | C11: 81 | D11: 63 | E11: 29 | G11: 51 | H11: 72 | I11: 85 | J11: 67 | K11: 77 | L11: 74 | N11: 69 | O11: 21 | P11: 49 | R11: 67 | S11: 32 | T11: 36 | U11: 46 | V11: 72 | W11: 46 | X11: 75 | Z11: 35 | AA11: 44 | AB11: 40 | AC11: 60 | AD11: 73 | AE11: 47 | AF11: 78 | AJ11: 87 | AK11: 78 | AL11: 31 | AM11: 57 | AN11: 72 | AO11: 72 | AQ11: 68 | AR11: 74 | AS11: 76 | AU11: 73 | AW11: 49 | AZ11: 56 | BA11: 40 | BB11: 52 | BC11: 71 | BD11: 54 | BE11: 79 | BG11: 22 | BH11: 65 | BI11: 24 | BJ11: 69 | BK11: 68 | BL11: 75 | BM11: 87 | BP11: 80 | BQ11: 6 | BR11: 15 | BS11: 2 | BU11: 21 | BV11: 0 | BX11: 1 | BY11: -3 | BZ11: 2 | CB11: 4 | CD11: 0 | CG11: 24 | CH11: 4 | CI11: 6 | CJ11: -1 | CK11: 8 | CL11: 4 | CN11: -13 | CO11: 21 | CP11: -16 | CQ11: 9 | CR11: -5 | CS11: 28 | CT11: 9
A12: 1070 | B12: Female IVET students as % of all female upper secondary students | C12: 73.3 | D12: 68.3 | E12: 43 | F12: 66.9 | G12: 4.5 | H12: 74.7 | I12: 40.7 | J12: 20.4 | K12: 62.5 | L12: 37.3 | M12: 53.3 | N12: 53.2 | O12: 26.1 | P12: 18.5 | Q12: 30.3 | R12: 35.2 | S12: 49.4 | T12: 27 | U12: 19.5 | V12: 59.4 | W12: 36.6 | X12: 65.6 | Y12: 53.4 | Z12: 33 | AA12: 26 | AB12: 57.6 | AC12: 68.6 | AD12: 59.7 | AE12: 40.2 | AF12: 52 | AG12: 56.2 | AH12: 32.1 | AI12: 42.8 | AJ12: 71.9 | AK12: 72.9 | AL12: 42.9 | AM12: 66.1 | AN12: 4.4 | AO12: 67.3 | AP12: 40 | AQ12: 24 | AR12: 66.7 | AS12: 39.2 | AT12: 55 | AU12: 43.1 | AV12: 22.7 | AW12: 20.4 | AX12: 29.4 | AY12: 39 | AZ12: 49.1 | BA12: 28.9 | BB12: 20 | BC12: 58.6 | BD12: 39.8 | BE12: 65.2 | BF12: 46.5 | BG12: 36.9 | BH12: 36 | BI12: 56 | BJ12: 65.9 | BK12: 56.8 | BL12: 41.2 | BM12: 53 | BN12: 59.7 | BO12: 40.5 | BP12: 31.5 | BQ12: -1.4 | BR12: 4.6 | BS12: -0.1 | BT12: -0.8 | BU12: -0.1 | BV12: -7.4 | BW12: -0.7 | BX12: 3.6 | BY12: 4.2 | BZ12: 1.9 | CA12: 1.7 | CB12: -10.1 | CC12: -3.4 | CD12: 1.9 | CE12: -0.9 | CF12: 3.8 | CG12: -0.3 | CH12: 1.9 | CI12: 0.5 | CJ12: -0.8 | CK12: 3.2 | CL12: -0.4 | CM12: -6.9 | CN12: 3.9 | CO12: 10 | CP12: -1.6 | CQ12: -2.7 | CR12: -2.9 | CS12: 1 | CT12: 1 | CU12: 3.5 | CV12: 8.4 | CW12: -11.3 | CX12: 71.1 | CY12: 72.9 | CZ12: 42.9 | DA12: 64.4 | DB12: 4.3 | DC12: 67.1 | DD12: 40.9 | DE12: 24.1 | DF12: 66.9 | DH12: 55.1 | DI12: 40 | DJ12: 24.3 | DK12: 20.8 | DL12: 29.6 | DM12: 34.7 | DN12: 49.2 | DO12: 30.1 | DP12: 20.5 | DQ12: 58.5 | DR12: 27.3 | DS12: 67.5 | DT12: 45.7 | DU12: 37.2 | DV12: 38.4 | DW12: 54.9 | DX12: 65.2 | DY12: 57.9 | DZ12: 41.8 | EA12: 53.4 | EB12: 58.8 | EC12: 41.4 | ED12: 36.1
A13: 1080 | B13: Young VET graduates in further education and training (%) | AJ13: 32.8 | AK13: 31 | AL13: 24.3 | AN13: 16.5(u) | AO13: 30.7 | AP13: 58.2 | AQ13: 17.6(u) | AR13: 29.6 | AS13: 32.9 | AU13: 16.4 | AV13: 16.6 | AW13: 32.2 | AY13: 16.3 | AZ13: 32.2 | BC13: 33.9 | BE13: 46.2 | BG13: 38.4 | BH13: 32.8 | BI13: 40.1 | BJ13: 27.6 | BK13: 56.9 | BL13: 28.7 | BM13: 43.7 | BN13: 25.3 | BO13: 35.6 | BP13: 30.9
A14: 1090 | B14: Older adults in lifelong learning (%) | C14: 7.8 | D14: 4.5 | E14: (u) | F14: 0.6(u) | G14: 3.7 | I14: 23.3 | J14: 2.6 | K14: 15.8 | L14: 3 | M14: 0.4 | N14: 3.3 | O14: 0.3 | P14: 0.7 | Q14: 21 | S14: 2.4 | Y14: 12.9 | AD14: 6.6 | AE14: 5.3 | AH14: 0.1 | AJ14: 8.2 | AK14: 4.6 | AL14: (u) | AM14: 0.2(u) | AN14: 3.8 | AP14: 26.7 | AQ14: 5.9 | AR14: 15.3 | AS14: 2.6 | AT14: 0.7 | AU14: 3.7 | AV14: 0.8 | AW14: 0.6 | AX14: 18.7 | AY14: 3.9 | AZ14: 3 | BC14: 7.5 | BD14: 3.3 | BE14: 10.1 | BF14: 12.1 | BK14: 7.8 | BL14: 5.7 | BM14: 18.3 | BN14: 25.9 | BO14: 0.3 | BQ14: 0.4 | BR14: 0.1 | BT14: -0.4 | BU14: 0.1 | BW14: 3.4 | BX14: 3.3 | BY14: -0.5 | BZ14: -0.4 | CA14: 0.3 | CB14: 0.4 | CC14: 0.5 | CD14: -0.1 | CE14: -2.3 | CF14: (b) | CG14: 0.6 | CJ14: (b) | CK14: (b) | CL14: (b) | CM14: -0.8 | CR14: 1.2 | CS14: 0.4 | CT14: (b) | CU14: (d) | CV14: 0.2 | CW14: (b) | CX14: 8.3 | CY14: 4.3 | CZ14: (u) | DA14: 0.3(u) | DB14: 3.2 | DC14: 6.1(b) | DD14: 25 | DE14: 6.4 | DF14: 16.7 | DG14: 3.2 | DH14: 0.7 | DI14: 3.7 | DJ14: 0.9 | DK14: 0.7 | DL14: 21.2 | DM14: 3.9 | DN14: 3.6 | DO14: 4.1(b) | DP14: 2.5(b) | DQ14: 7.6 | DR14: 3.3 | DS14: 10.4(p) | DT14: 13.4 | DU14: 1.1(b) | DV14: 4.9(b) | DW14: 0.3(u) | DX14: 1.3(b) | DY14: 7.1 | DZ14: 5.9 | EA14: 20.4 | EB14: 25.1 | EC14: 0.4 | ED14: 12.0(b)
A15: 1100 | B15: Low-educated adults in lifelong learning (%) | C15: 4.6 | D15: 3 | G15: 1.2 | I15: 18.4 | K15: 10.6 | L15: 2.7 | M15: 0.1(u) | N15: 2.6 | O15: 0.3 | P15: 0.7 | Q15: 17 | R15: 2.7 | S15: 1.1 | W15: 2.8 | Y15: 10.3 | Z15: 0.6 | AD15: 3.8 | AE15: 4.3 | AH15: 0.5 | AJ15: 4.5 | AK15: 3.1 | AN15: 1.1(u) | AP15: 23.5 | AQ15: 2.1(u) | AR15: 9.8 | AS15: 2.3 | AT15: 0.1(u) | AU15: 2.9 | AV15: 0.5 | AW15: 0.7 | AX15: 16 | AY15: 2.7 | AZ15: 1.3 | BC15: 4.7 | BD15: 3.4 | BE15: 9.3 | BF15: 10.1 | BG15: 0.9 | BK15: 3.4 | BL15: 4.9 | BM15: 15.8 | BN15: 10.3 | BO15: 1.1 | BP15: 9.6 | BQ15: -0.1 | BR15: 0.1 | BU15: -0.1 | BW15: 5.1 | BY15: -0.8 | BZ15: -0.4 | CA15: 0 | CB15: 0.3 | CC15: 0.2 | CD15: 0 | CE15: -1 | CF15: 0 | CG15: 0.2 | CJ15: (b) | CK15: 0.6 | CL15: (b) | CM15: -0.2 | CN15: 0.3 | CR15: -0.4 | CS15: 0.6 | CT15: (b) | CU15: (d) | CV15: 0.6 | CW15: (b) | CX15: 5 | CY15: 2.7 | CZ15: 0.5(u) | DB15: 1.3(u) | DC15: 2.4(b) | DD15: 22.4 | DE15: 4 | DF15: 11.3 | DG15: 2.5 | DH15: 0.3 | DI15: 3.1 | DJ15: 0.4 | DK15: 0.6 | DL15: 17.4 | DM15: 3.1 | DN15: 1.6 | DO15: 2.8(b) | DQ15: 5.2 | DR15: 2.6 | DS15: 10.0(p) | DT15: 12.2 | DU15: 0.7(p) | DV15: 6.2(b) | DY15: 2.6 | DZ15: 4.6 | EA15: 18.1 | EB15: 9.5 | EC15: 1.5 | ED15: 7.6
A16: 1110 | B16: Unemployed adults in lifelong learning (%) | C16: 18.6 | D16: 10.4 | F16: 3.2(u) | G16: 5.2(u) | I16: 31.7 | K16: 17.9 | L16: 6.7 | M16: 0.9 | N16: 4.4 | O16: 2.2 | P16: 3.6 | Q16: 30 | R16: 6.9 | S16: 6.7 | W16: 11.0(u) | Y16: 19.7 | Z16: 3.7 | AC16: 1.6 | AD16: 19.9 | AE16: 15.2 | AH16: 2.4 | AJ16: 19.4 | AK16: 9 | AM16: 2.3(u) | AN16: 5.4(u) | AP16: 33.5 | AQ16: 7.1 | AR16: 16.8 | AS16: 4.9 | AT16: 1.5 | AU16: 5.6 | AV16: 3.4 | AW16: 2.4 | AX16: 27.1 | AY16: 7.1 | AZ16: 6.2 | BB16: 3.2(u) | BC16: 17.2 | BD16: 14.9 | BE16: 17.6 | BF16: 18.5 | BG16: 5.9 | BI16: 1.4(u) | BJ16: 1.6 | BK16: 18.4 | BL16: 13.1 | BM16: 40.3 | BN16: 24.7 | BO16: 4.7 | BP16: 18.3 | BQ16: 0.8 | BR16: -1.4 | BT16: -0.9 | BU16: 0.2 | BW16: 1.8 | BY16: -1.1 | BZ16: -1.8 | CA16: 0.6 | CB16: 1.2 | CC16: 1.2 | CD16: -1.2 | CE16: -2.9 | CF16: 0.2 | CG16: -0.5 | CJ16: (b) | CK16: 3.9 | CL16: (b) | CM16: -1.2 | CN16: 2.2 | CQ16: 0 | CR16: -1.5 | CS16: -2.1 | CT16: (b) | CU16: (d) | CV16: 2.3 | CW16: (b) | CX16: 18.5 | CY16: 9.2 | CZ16: 1.4(u) | DA16: 1.6(u) | DB16: 6.5 | DC16: 6.1(b) | DD16: 32.7 | DE16: 11.8 | DF16: 18.2 | DG16: 5.3 | DH16: 2.8 | DI16: 5.6 | DJ16: 2.7 | DK16: 1.9 | DL16: 29.1 | DM16: 7.2 | DN16: 6.2 | DO16: 7.3 | DP16: 2.8(u) | DQ16: 17.5 | DR16: 8.8(u) | DS16: 16.2(p) | DT16: 22.8 | DU16: 4.6(p) | DV16: 13.9(b) | DW16: 2.1 (u) | DX16: 1.1 | DY16: 13.4 | DZ16: 12.7 | EA16: 42.5 | EB16: 22.7 | EC16: 5.8 | ED16: 15
A17: 1120 | B17: Individuals who wanted to participate in training but did not (%) | C17: 9.2 | D17: 17.2 | E17: 5.4 | F17: 14.8 | G17: 32.9 | H17: 12.8 | J17: 12.6 | K17: 11.5 | N17: 7 | O17: 17.7 | S17: 20.6 | T17: 12.2 | U17: 10.6 | W17: 27.4 | X17: 11.2 | Y17: 10.7 | Z17: 9 | AA17: 6.5 | AB17: 9 | AC17: 13.1 | AD17: 13.1 | AE17: 8.5 | AF17: 7.8 | AH17: 12.9 | AI17: 25 | AJ17: 7.9 | AK17: 13.5 | AL17: 6.2 | AN17: 24.8 | AO17: 4.8 | AP17: 14.8 | AQ17: 16 | AS17: 13.8 | AT17: 15.8 | AU17: 5.8 | AV17: 19.4 | AW17: 9.6 | AZ17: 17.9 | BA17: 14.2 | BB17: 8.3 | BC17: 13.6 | BD17: 23.6 | BE17: 9.4 | BF17: 7.4 | BG17: 9.9 | BH17: 8.1 | BI17: 43.7 | BJ17: 9.7 | BK17: 12 | BL17: 10.2 | BM17: 7.3 | BN17: 11.1 | BQ17: -1.3 | BR17: -3.7 | BS17: 0.8 | BU17: -8.1 | BV17: -8 | BX17: 3.4 | BZ17: (b) | CB17: -1.2 | CC17: 1.7 | CD17: (b) | CG17: -2.7 | CH17: 2 | CI17: -2.3 | CK17: -3.8 | CL17: -1.8 | CM17: -3.3 | CN17: 0.9 | CO17: 1.6 | CP17: 34.7 | CQ17: -3.4 | CR17: -1.1 | CS17: 1.7 | CT17: -0.5
A18: 1130 | B18: Job-related non-formal education and training (%) | C18: 82.1 | D18: 86 | E18: 96.3 | F18: 84.1 | G18: 80.9 | H18: 93.9 | I18: 93.1 | J18: 90.5 | K18: 86.1 | N18: 88 | O18: 84.3 | S18: 72.7 | T18: 85.5 | U18: 89.3 | W18: 71 | X18: 85.8 | Y18: 93 | Z18: 88.8 | AA18: 84 | AB18: 82.9 | AC18: 92 | AD18: 70.8 | AE18: 73.1 | AF18: 88.3 | AH18: 72.7 | AI18: 80 | AJ18: 77.3 | AK18: 89.9 | AL18: 94.4 | AN18: 80.1 | AO18: 85 | AP18: 88.6 | AQ18: 82.6 | AS18: 82.3 | AU18: 76 | AV18: 71.8 | AW18: 89.5 | AZ18: 73.4 | BA18: 78.9 | BB18: 86.9 | BC18: 79.1 | BD18: 99.3 | BE18: 89.4 | BF18: 98.9 | BG18: 85.1 | BH18: 84 | BI18: 82.1 | BJ18: 90.7 | BK18: 72.4 | BL18: 84.1 | BM18: 87.9 | BN18: 82.2 | BP18: 83.9 | BQ18: -4.8 | BR18: 3.9 | BS18: -1.9 | BU18: -0.8 | BV18: -8.9 | BW18: -4.5 | BX18: -7.9 | BZ18: (b) | CB18: -12 | CC18: -12.5 | CD18: (b) | CG18: 0.7 | CH18: -6.6 | CI18: -2.4 | CK18: 28.3 | CL18: 3.6 | CM18: 5.9 | CN18: -3.7 | CO18: 0 | CP18: -0.8 | CQ18: -1.3 | CR18: 1.6 | CS18: 11 | CT18: -0.4 | CW18: 3.9
A19: Skill development and labour market relevance
A20: 2010 | B20: IVET public expenditure (% of GDP) | C20: 0.97 | E20: 0.58 | G20: 0.34 | H20: 0.87 | J20: 0.58 | K20: 1.09 | N20: 0.58 | P20: 0.4 | R20: 0.35 | T20: 0.42 | U20: 0.27 | V20: 0.54 | W20: 0.38 | X20: 0.77 | Z20: 0.57 | AC20: 0.69 | AF20: 0.84 | AG20: 0.66 | AH20: 0.31 | AJ20: 1.04 | AL20: 0.56 | AN20: 0.34 | AO20: 0.8 | AQ20: 0.83 | AR20: 1.32 | AU20: 0.61 | AW20: 0.32 | BA20: 0.43 | BB20: 0.34 | BC20: 0.59 | BD20: 0.47 | BE20: 0.84 | BG20: 0.55 | BJ20: 0.77 | BM20: 0.94 | BN20: 0.63 | BO20: 0.4 | BQ20: 0.07 | BS20: -0.02 | BU20: 0 | BV20: -0.07 | BX20: 0.25 | BY20: 0.23 | CB20: 0.03 | CD20: -0.08 | CH20: 0.01 | CI20: 0.07 | CJ20: 0.05 | CK20: 0.09 | CL20: 0.07 | CN20: 0.02 | CQ20: 0.08 | CT20: 0.1 | CU20: -0.03 | CV20: 0.09
A21: 2020 | B21: IVET public expenditure (EUR perstudent) | E21: 2101 | G21: 13165 | H21: 4728 | J21: 4442 | K21: 7548 | L21: 12735 | N21: 6457 | P21: 3771 | R21: 5339 | T21: 3103 | U21: 2957 | V21: 15854 | W21: 5481 | X21: 8552 | Z21: 3046 | AC21: 2718 | AF21: 9154 | AG21: 9090 | AH21: 1907 | AL21: 3048 | AN21: 15613 | AO21: 5164 | AQ21: 6605 | AR21: 8702 | AS21: 14813 | AU21: 7847 | AW21: 3383 | AY21: 10896 | BA21: 3512 | BB21: 3635 | BC21: 15614 | BE21: 9006 | BG21: 3971 | BJ21: 4210 | BM21: 10812 | BN21: 8809 | BO21: 2104 | BS21: 947 | BU21: 2448 | BV21: 436 | BX21: 2163 | BY21: 1154 | BZ21: 2078 | CB21: 1390 | CD21: -388 | CF21: 5557 | CH21: 409 | CI21: 678 | CJ21: -240 | CL21: 454 | CN21: 925 | CQ21: 1492 | CT21: 1658 | CU21: -281 | CV21: 197
A22: 2030 | B22: Enterprise expenditure on CVT courses as % of total labour cost | C22: 0.8 | D22: 0.6 | E22: 0.7 | G22: 0.8 | H22: 0.9 | I22: 1.7 | J22: 1.1 | K22: 0.8 | L22: 1.4 | N22: 0.6 | O22: 0.3 | P22: 1.3 | R22: 1.5 | S22: 0.6 | T22: 0.4 | U22: 0.7 | V22: 0.8 | W22: 1 | X22: 1 | Z22: 0.7 | AA22: 0.5 | AB22: 0.7 | AC22: 0.8 | AD22: 1 | AE22: 0.6 | AF22: 0.9 | AJ22: 0.8 | AK22: 0.9 | AL22: 0.6 | AM22: 0.4 | AN22: 1.1 | AO22: 0.6 | AQ22: 0.5 | AR22: 0.8 | AS22: 1.6 | AU22: 0.8 | AW22: 1.3 | AZ22: 0.4 | BA22: 0.4 | BB22: 0.5 | BC22: 0.6 | BD22: 1.4 | BE22: 1.2 | BG22: 0.5 | BH22: 0.7 | BI22: 0.4 | BJ22: 0.9 | BK22: 0.6 | BL22: 0.8 | BM22: 0 | BP22: 0.7 | BQ22: 0 | BR22: 0.3 | BS22: -0.1 | BU22: 0.3 | BV22: -0.3 | BX22: -0.6 | BY22: 0 | BZ22: 0.2 | CB22: 0.2 | CD22: 0 | CG22: -0.2 | CH22: 0 | CI22: -0.2 | CJ22: -0.2 | CK22: 0.4 | CL22: 0.2 | CN22: -0.2 | CO22: 0.2 | CP22: -0.1 | CQ22: 0.1 | CR22: -0.4 | CS22: 0.2 | CT22: 0
A23: 2040 | B23: Average number of foreign languages learned in IVET | C23: 1.3 | D23: 1.3 | E23: 1.2 | F23: 1.2 | G23: 1.2 | H23: 1.3 | I23: 0.9 | J23: 1.8 | L23: 1.1 | N23: 0.5 | O23: 0.8 | P23: 0.7 | Q23: 0.7 | R23: 0.9 | S23: 1.4 | U23: 0.9 | V23: 1.9 | Y23: 1 | AA23: 0.9 | AB23: 1.4 | AC23: 1.3 | AD23: 1.4 | AE23: 1 | AF23: 1.1 | AH23: 0.8 | AJ23: 1.2 | AK23: 1.3 | AL23: 1.4 | AM23: 1.3 | AN23: 1.1 | AO23: 1.3 | AP23: 0.9 | AS23: 1.2 | AU23: 0.4 | AV23: 0.7 | AW23: 0.8 | AX23: 0.6 | AY23: 1 | AZ23: 1.4 | BA23: 1.2 | BB23: 1.1 | BC23: 2 | BD23: 1 | BF23: 0.5 | BG23: 1.6 | BH23: 0.7 | BI23: 1.8 | BJ23: 1.5 | BK23: 1.3 | BM23: 1.1 | BO23: 0.9 | BQ23: -0.1 | BR23: 0 | BS23: 0.2 | BT23: 0.1 | BU23: -0.1 | BV23: 0 | BW23: 0 | BZ23: 0.1 | CB23: -0.1 | CC23: -0.1 | CD23: 0.1 | CE23: -0.1 | CF23: 0.1 | CG23: 0 | CI23: 0.2 | CJ23: 0.1 | CM23: -0.5 | CO23: -0.2 | CP23: 0.4 | CQ23: 0.2 | CR23: -0.1 | CT23: 0 | CV23: 0.1 | CX23: 1.2 | CY23: 1.3 | CZ23: 1.4 | DA23: 1.3 | DB23: 1.1 | DC23: 1.3 | DG23: 1.3 | DI23: 0.4 | DK23: 0.8 | DL23: 0.7 | DM23: 1 | DN23: 1.4 | DO23: 1.2 | DP23: 0.8 | DQ23: 2 | DR23: 1 | DT23: 0.5 | DU23: 1.6 | DV23: 1 | DW23: 1.9 | DX23: 1.6 | DY23: 0.4 | EA23: 1.2 | EC23: 1
A24: 2050 | B24: STEM graduates from upper secondary VET (% of total) | D24: 23.5 | E24: 51.8 | G24: 52.7 | H24: 36.5 | I24: 19.9 | J24: 49.3 | K24: 29 | L24: 30.9 | M24: 43.5 | N24: 29.6 | P24: 36.4 | Q24: 26.3 | T24: 41.7 | U24: 43.8 | V24: 26.2 | W24: 26.5 | X24: 18.9 | Y24: 29.6 | Z24: 46 | AB24: 57.1 | AC24: 38 | AD24: 30.6 | AE24: 28.9 | AF24: 31 | AG24: 28 | AH24: 55.6 | AK24: 19.1 | AL24: 48 | AN24: 57.7 | AO24: 35 | AP24: 20.6 | AR24: 28.8 | AS24: 26 | AT24: 34.7 | AU24: 29.6 | AW24: 35.3 | AX24: 21.2 | BA24: 36.3 | BB24: 32.5 | BC24: 25.4 | BE24: 15.6 | BF24: 36.5 | BG24: 40.7 | BI24: 55.3 | BJ24: 31.5 | BK24: 35.8 | BL24: 28.9 | BM24: 32.4 | BN24: 26.5 | BO24: 57.2 | BR24: -4.4 | BS24: -3.8 | BU24: 5 | BV24: -1.5 | BW24: 0.7 | BY24: -0.2 | BZ24: -4.9 | CA24: -8.8 | CB24: 0 | CD24: -1.1 | CE24: -5.1 | CH24: -5.4 | CI24: -11.3 | CJ24: -0.8 | CL24: -3.3 | CM24: 6.9 | CN24: -5.3 | CP24: -1.8 | CQ24: -6.5 | CR24: 5.2 | CS24: 0 | CT24: 1.4 | CU24: -1.5 | CV24: 1.6 | CY24: 19.1 | CZ24: 43.7 | DB24: 61.7 | DC24: 36.3 | DD24: 19.7 | DE24: 45.6 | DF24: 29 | DG24: 27.7 | DH24: 35.3 | DI24: 31 | DK24: 35.5 | DO24: 37.4 | DP24: 29 | DQ24: 26.3 | DS24: 17.7 | DT24: 35.4 | DU24: 39.8 | DX24: 31.1 | DY24: 33.7 | DZ24: 26.6 | EA24: 32.4 | EB24: 26 | EC24: 54.8
A25: 2060 | B25: 30-34 year-olds with tertiary VET attainment (%) | C25: 7.3 | D25: 22 | F25: 6.2(u) | G25: 20.3 | H25: 0.9 | J25: 8.6 | K25: 15.3 | L25: 16.5 | M25: 1.8 | N25: 7.8 | O25: 7.8 | P25: 0.3(u) | Q25: 4.8 | S25: 0.7 | U25: 18.9 | AB25: 2.3 | AC25: 0.8 | AD25: 11.5 | AE25: 12.6 | AF25: 8.3 | AG25: 9.6 | AH25: 3.5(u) | AJ25: 6.2 | AK25: 20.7 | AL25: 1.6(u) | AM25: 7.6 | AN25: 14.1 | AO25: 1.9 | AP25: 7.4 | AQ25: 14 | AR25: 4.9 | AS25: 18.1 | AT25: 1.3 | AU25: 8 | AV25: 8.9 | AW25: 1 | AX25: 2.4(u) | AY25: 20 | AZ25: 0.3 | BB25: 11.9 | BC25: 18.7 | BE25: 2.9 | BF25: 3.3 | BI25: 1.8 | BJ25: 0.8 | BK25: 13.2 | BL25: 12.8 | BM25: 7.5 | BN25: 11.3 | BQ25: -1.1 | BR25: -1.3 | BS25: (d) | BT25: 1.4 | BU25: -6.2 | BV25: 1 | BW25: (b) | BX25: 5.4 | BY25: -10.4 | BZ25: 1.6 | CA25: -0.5 | CB25: 0.2 | CC25: 1.1 | CD25: 0.7 | CE25: -2.4 | CF25: (b) | CG25: -0.4 | CI25: -7 | CJ25: (b) | CL25: (b) | CM25: (b) | CP25: -0.5 | CQ25: 0 | CR25: 1.7 | CS25: 0.2 | CT25: -0.8 | CU25: 1.7 | CX25: 6.2 | CY25: 19.8 | CZ25: 1.6 | DA25: 8.8 | DB25: 13.3 | DC25: 3.3 | DD25: 6.1 | DE25: 12.4 | DF25: 1.6 | DG25: 16.8 | DH25: 1 | DI25: 10 | DJ25: 10.6 | DK25: 1 | DL25: 2.5 | DM25: 17.7 | DN25: 0.3 | DO25: 1.7(b) | DP25: 12.7 | DQ25: 11.7 | DS25: 2.9 | DT25: 2.8 | DV25: 1.4(d) | DW25: 1.8 | DX25: 1.5 | DY25: 15 | DZ25: 13.3 | EA25: 8.7 | EB25: 10.3 | ED25: 16.7(b)
A26: 2070 | B26: Innovative enterprises with supportive training practices (%) | C26: 61.6 | D26: 63.3 | E26: 23.4 | F26: 61.9 | G26: 97.8 | H26: 48.8 | J26: 46 | K26: 39.4 | L26: 54.5 | N26: 54.9 | P26: 47.3 | S26: 45.1 | T26: 35.8 | U26: 47.9 | V26: 84.5 | W26: 38.1 | X26: 39.2 | Y26: 26 | Z26: 54.4 | AA26: 54.6 | AB26: 37.1 | AC26: 55.3 | AD26: 49 | AE26: 10.4 | AF26: 33.6 | AJ26: 59.1 | AK26: 60 | AL26: 34 | AM26: 54.3 | AN26: 90.7 | AO26: 47.1 | AP26: 29.5 | AQ26: 52.6 | AR26: 34.7 | AS26: 60.3 | AW26: 37.6 | AZ26: 31.9 | BA26: 35.7 | BB26: 60.6 | BC26: 68.2 | BD26: 36.9 | BE26: 39.2 | BF26: 58.5 | BG26: 55.4 | BH26: 56.6 | BI26: 36.3 | BJ26: 61.3 | BK26: 44.4 | BL26: 23.5 | BM26: 23.5 | BO26: 42 | BQ26: -2.5 | BR26: -3.3 | BS26: 10.6 | BT26: -7.2 | BU26: -7.1 | BV26: -1.7 | BX26: 6.6 | BY26: -4.7 | BZ26: 5.8 | CD26: -9.7 | CG26: -13.2 | CH26: -0.1 | CI26: 12.7 | CJ26: -16.3 | CK26: -1.2 | CL26: 0 | CM26: 32.5 | CN26: 1 | CO26: 2 | CP26: -0.8 | CQ26: 6 | CR26: -4.6 | CS26: 13.1 | CT26: -10.1
A27: 2080 | B27: Employment rate for IVET graduates (20-34 year-olds) | AJ27: 88 | AK27: 85 | AL27: 80.9 | AN27: 88.1 | AO27: 78.7 | AP27: 88.5 | AQ27: 67.3 | AR27: 78.6 | AS27: 76.6 | AU27: 83.9 | AV27: 78.7 | AW27: 73.4 | AX27: 80.1 | AY27: 71.6 | AZ27: 74.6 | BA27: 73 | BB27: 71.9 | BC27: 89.8 | BD27: 89.7 | BE27: 90.6 | BG27: 73.8 | BH27: 83.5 | BI27: 82.1 | BJ27: 74.7 | BK27: 85.8 | BL27: 72.2 | BM27: 84.3 | BN27: 86.4 | BO27: 63.7 | BP27: 78.2
A28: 2090 | B28: Employment premium for IVET graduates (over general stream) | AJ28: 5.1 | AK28: 11.2 | AL28: 7.9 | AN28: 4.2 | AO28: 10.6 | AP28: 6 | AQ28: -3.5 | AR28: 3 | AS28: 0.6 | AU28: 26.2 | AV28: 4.6 | AW28: 6.3 | AX28: 1.1 | AY28: 1.8 | AZ28: 7.8 | BA28: 10.8 | BB28: 12.6 | BC28: 8.5 | BD28: -3.6 | BE28: 4.7 | BG28: 4.8 | BH28: -1.4 | BI28: 4.1 | BJ28: 3.8 | BK28: 12.2 | BL28: 3.3 | BM28: 3.7 | BN28: 7.2 | BO28: 11.2 | BP28: -2.4
A29: 2100 | B29: Employment premium for IVET graduates (over low-educated) | AJ29: 26.4 | AK29: 26.9 | AL29: 25.1 | AN29: 13.3 | AO29: 35.2 | AP29: 14.6 | AQ29: 13.7 | AR29: 19.4 | AS29: 16.9 | AU29: 29.7 | AV29: 5.9 | AW29: 29.1 | AX29: 11.6 | AY29: 20.9 | AZ29: 13.6 | BA29: 27.5 | BB29: 19 | BC29: 15.6 | BD29: 21.4 | BE29: 13.7 | BG29: 19.6 | BH29: 2.6 | BI29: 15.1 | BJ29: 44.2 | BK29: 16.9 | BL29: 10.4 | BM29: 24 | BN29: 15.2 | BO29: 9.6 | BP29: 12.3
A30: 2110 | B30: Workers helped to improve their work by training (%) | AJ30: 94.9 | AK30: 87 | AM30: 93 | AN30: 95.9 | AO30: 86.9 | AP30: 89.5 | AQ30: 90.7 | AR30: 89.9 | AS30: 85.5 | AT30: 95.6 | AU30: 88.7 | AW30: 91.6 | AY30: 94.9 | AZ30: 92.2 | BA30: 94.8 | BB30: 95.3 | BC30: 89.3 | BD30: 96.7 | BE30: 81.3 | BF30: 91.4 | BG30: 91 | BH30: 94.1 | BI30: 97.7 | BJ30: 88.1 | BK30: 89.2 | BL30: 95 | BM30: 79.5 | BP30: 91.2
A31: 2120 | B31: Workers with skills matched to their duties (%) | AJ31: 58.5 | AK31: 61.2 | AL31: 64.3 | AM31: 50.9 | AN31: 46.8 | AO31: 61.4 | AP31: 59.6 | AQ31: 52.6 | AR31: 63.4 | AS31: 59.9 | AT31: 62 | AU31: 50.7 | AV31: 44.6 | AW31: 47 | AY31: 55.3 | AZ31: 62.1 | BA31: 47.2 | BB31: 60.5 | BC31: 54.1 | BD31: 55.3 | BE31: 56.3 | BF31: 61.6 | BG31: 59.6 | BH31: 67.8 | BI31: 40.3 | BJ31: 52.4 | BK31: 47.7 | BL31: 53.1 | BM31: 53.2 | BO31: 64.5 | BP31: 52.5
A32: Overall transitions and labour market trends
A33: 3010 | B33: Early leavers from education and training (%) | C33: 9.8 | D33: 12.6 | E33: 17.3 | F33: 4.7(u) | G33: 14.9 | H33: 5.1 | J33: 13.5 | L33: 12.4 | M33: 22.8 | N33: 13.7 | O33: 15.5 | P33: 12.6 | Q33: 25.6 | R33: 12.1 | S33: 20.6 | U33: 8.2 | Y33: 17.8 | Z33: 5.4 | AA33: 39.1 | AB33: 17.9 | AC33: 6.6 | AD33: 5.6 | AE33: 30.5 | AF33: 8.6 | AH33: 48.8 | AJ33: 8.3 | AK33: 11.9 | AL33: 13.9 | AM33: 3.7 | AN33: 12.7 | AO33: 4.9 | AP33: 11 | AQ33: 11.6 | AS33: 12.6 | AT33: 15.5 | AU33: 11.9 | AV33: 13.7 | AW33: 10.5 | AX33: 22.6 | AY33: 11.5 | AZ33: 18.8 | BB33: 8.1 | BC33: 7.1 | BD33: 24.8 | BE33: 10 | BF33: 17.4 | BG33: 5.4(p) | BH33: 28.7 | BI33: 18.4 | BJ33: 4.7 | BK33: 5 | BL33: 28.4 | BM33: 6.5 | BN33: 6.6 | BO33: 43.1 | BP33: 14.9 | BQ33: -1.5 | BR33: -0.7 | BS33: -3.4 | BT33: -1 | BU33: -2.2 | BV33: -0.2 | BW33: (b) | BX33: -1.9 | BY33: (d) | BZ33: 0.2 | CA33: -7.3 | CB33: -1.8 | CC33: -1.8 | CD33: -2.1 | CE33: -3 | CF33: -0.6 | CG33: -1.8 | CI33: -0.1 | CJ33: (b) | CK33: (b) | CL33: (b) | CM33: -0.4 | CN33: 0 | CO33: -10.4 | CP33: 0.5 | CQ33: -1.9 | CR33: -0.6 | CS33: -2.1 | CT33: -2.1 | CU33: (d) | CV33: -5.7 | CW33: (b) | CX33: 7.6 | CY33: 12 | CZ33: 12.5 | DA33: 4.2 | DB33: 11.4 | DC33: 5.5 | DD33: 9.1 | DE33: 10.5 | DF33: 8.9 | DG33: 11.6 | DH33: 11.7 | DI33: 10.5(p) | DJ33: 11.4 | DK33: 11.5 | DL33: 20.1 | DM33: 9.7 | DN33: 17.6 | DO33: 10.5(b) | DP33: 6.5 | DQ33: 8.1(p) | DR33: 22.6 | DS33: 8.8(p) | DT33: 14.8 | DU33: 5.7(p) | DV33: 20.8 | DW33: 17.4 | DX33: 5.3 | DY33: 4.4 | DZ33: 24.9 | EA33: 7.5 | EB33: 5.5 | EC33: 39.6 | ED33: 13.5
A34: 3020 | B34: 30-34 year-olds with tertiary attainment (%) | C34: 21.2 | D34: 41.4 | F34: 16.7 | G34: 46.1 | H34: 13.1 | J34: 32.5 | K34: 46.2 | L34: 39.7 | M34: 11.6 | N34: 25.8 | O34: 26.7 | P34: 19 | Q34: 36.4 | R34: 41.3 | S34: 17.7 | U34: 39.4 | W34: 21.6 | Y34: 41.9 | Z34: 24.7 | AB34: 12.4 | AC34: 14.4 | AD34: 28.1 | AE34: 38.1 | AF34: 39.5 | AG34: 35 | AH34: 11.9 | AI34: 36.5 | AJ34: 23.5 | AK34: 44.4 | AL34: 25.3 | AM34: 24.3 | AN34: 45.3 | AO34: 20.4 | AP34: 41.2 | AQ34: 40 | AR34: 45.7 | AS34: 43.5 | AT34: 17.1 | AU34: 29.8 | AV34: 28.4 | AW34: 25.7 | AX34: 40.9 | AY34: 50.1 | AZ34: 19.8 | BB34: 43.8 | BC34: 46.1 | BD34: 21.5 | BE34: 41.4 | BF34: 47.3 | BG34: 35.3(p) | BI34: 18.1 | BJ34: 22.1 | BK34: 34.8 | BL34: 40.6 | BM34: 45.3 | BN34: 44.2 | BO34: 15.5 | BP34: 43 | BQ34: 2.3 | BR34: 3 | BS34: (d) | BT34: 7.6 | BU34: -0.8 | BV34: 7.3 | BW34: (b) | BX34: 7.5 | BY34: -0.5 | BZ34: 3.8 | CA34: 5.5 | CB34: 4 | CC34: 1.7 | CD34: 6.7 | CE34: 4.5 | CF34: 8.8 | CG34: 2.1 | CI34: 4.4 | CJ34: (b) | CK34: -0.1 | CL34: (b) | CM34: 5.4 | CN34: 10.6 | CP34: 5.7 | CQ34: 7.7 | CR34: 6.7 | CS34: 2.5 | CT34: 5.8 | CU34: 9.2 | CV34: 3.6 | CW34: 6.5 | CX34: 26.3 | CY34: 43.9 | CZ34: 26.9 | DA34: 23.7 | DB34: 49.9 | DC34: 25.6 | DD34: 43 | DE34: 39.1 | DF34: 45.8 | DG34: 43.6 | DH34: 21.7 | DI34: 31.9 | DJ34: 30.9 | DK34: 29.9 | DL34: 42.8 | DM34: 51.1 | DN34: 21.7 | DO34: 37.0(b) | DP34: 48.7 | DQ34: 49.6 | DR34: 22.4 | DS34: 42.3(p) | DT34: 47.6 | DU34: 39.1(p) | DV34: 27.2(d) | DW34: 21.8 | DX34: 23.7 | DY34: 39.2 | DZ34: 40.1 | EA34: 47.9 | EB34: 43.8 | EC34: 18 | ED34: 47.1
A35: 3030 | B35: NEET rate for 18-24 year-olds (%) | C35: 9.3 | D35: 14.6 | E35: 28 | F35: 18.6 | G35: 14.5 | H35: 12.3 | J35: 11.4 | L35: 14.7 | M35: 47.1 | N35: 13.8 | O35: 16.1 | P35: 16.3 | Q35: 5.1 | R35: 11.8 | S35: 20.6 | U35: 11.4 | Y35: 6.5 | Z35: 17.2 | AA35: 12.4 | AB35: 18.2 | AC35: 18.6 | AD35: 10.4 | AE35: 13.6 | AF35: 12.3 | AH35: 45.2 | AJ35: 8.8 | AK35: 14.3 | AL35: 27.8 | AM35: 19.3 | AN35: 16.7 | AO35: 11.4 | AP35: 8.3 | AQ35: 19.1 | AS35: 16.3 | AT35: 33.1 | AU35: 11.4 | AV35: 20.6 | AW35: 16.5 | AX35: 8.4 | AY35: 24.1 | AZ35: 24.2 | BB35: 18.2 | BC35: 6.9 | BD35: 10.6 | BE35: 5.8 | BF35: 6.9 | BG35: 14.5(p) | BH35: 14.8 | BI35: 20 | BJ35: 18.6 | BK35: 8.9 | BL35: 22.4 | BM35: 10.6 | BN35: 7.9 | BO35: 39.2 | BP35: 17.7 | BQ35: -0.5 | BR35: -0.3 | BS35: -0.2 | BT35: 0.7 | BU35: 2.2 | BV35: -0.9 | BW35: (b) | BX35: 7.7 | BY35: (d) | BZ35: 1.6 | CA35: -14 | CB35: -2.4 | CC35: 4.5 | CD35: 0.2 | CE35: 3.3 | CF35: 12.3 | CG35: 3.6 | CI35: 6.8 | CJ35: (b) | CK35: (b) | CL35: (b) | CM35: 0.4 | CN35: -2.7 | CO35: 2.4 | CP35: 1.8 | CQ35: 0 | CR35: -1.5 | CS35: 8.8 | CT35: -1.7 | CU35: (d) | CV35: -6 | CW35: (b) | CX35: 7.8 | CY35: 15 | CZ35: 26 | DA35: 22.2 | DB35: 22.4 | DC35: 11.3 | DD35: 8.8 | DE35: 15.3 | DF35: 11.8 | DG35: 16.2 | DH35: 32.3 | DI35: 9.8(p) | DJ35: 28.4 | DK35: 19.5 | DL35: 6.7 | DM35: 23.8 | DN35: 27 | DO35: 17.4(b) | DP35: 14.9 | DQ35: 7.8(p) | DR35: 11.7 | DS35: 5.7(p) | DT35: 7 | DU35: 15.9(p) | DV35: 18.7 | DW35: 20.4 | DX35: 18.1 | DY35: 11.5 | DZ35: 23.8 | EA35: 10.5 | EB35: 8.3 | EC35: 35 | ED35: 18.1
A36: 3040 | B36: Unemployment rate for 20-34 year-olds (%) | C36: 5.7 | D36: 11.5 | F36: 16.1 | I36: 4.6 | J36: 6 | K36: 9.3 | L36: 12.1 | M36: 45.5 | N36: 11.4 | O36: 14.2 | P36: 9.6 | S36: 11.2 | V36: 6.7 | W36: 7 | Y36: 4.8 | AB36: 10.1 | AD36: 9.1 | AE36: 10.4 | AF36: 9.7 | AH36: 11.5 | AI36: 6.7 | AJ36: 6.2 | AK36: 12.2 | AM36: 18.4 | AN36: 8.8 | AP36: 9.7 | AQ36: 19.6 | AR36: 10.3 | AS36: 13.3 | AT36: 39.7 | AU36: 8.4 | AV36: 19.4 | AW36: 14.6 | AX36: 11.3 | AY36: 17.5 | AZ36: 14.5 | BC36: 6.2 | BD36: 6.3 | BE36: 4.9 | BF36: 5.4 | BI36: 10.9 | BK36: 10.9 | BL36: 25.3 | BM36: 11.7 | BN36: 6.4 | BO36: 13.9 | BP36: 9.9 | BQ36: 0.5 | BR36: 0.7 | BT36: 2.3 | BU36: (b) | BW36: 5.1 | BX36: 13.6 | BY36: 1 | BZ36: 1.2 | CA36: -5.8 | CB36: -3 | CC36: 5.2 | CD36: 5 | CF36: (b) | CG36: 3.3 | CJ36: -0.5 | CK36: -0.7 | CL36: (b) | CM36: 0.6 | CP36: 0.8 | CR36: 1.8 | CS36: 14.9 | CT36: 2 | CU36: (b) | CV36: 2.4 | CW36: 3.2 | CX36: 5.8 | CY36: 11.5 | CZ36: 16.1(b) | DA36: 26 | DB36: 16.2 | DC36: 9.5(b) | DD36: 10.4 | DE36: 13.1 | DF36: 9.5 | DG36: 14 | DH36: 39.7 | DI36: 6.5 | DJ36: 35.8 | DK36: 14.7 | DL36: 8.3 | DM36: 18.4 | DN36: 18.5 | DO36: 16.4(b) | DP36: 16.1(b) | DQ36: 8 | DR36: 6.3 | DS36: 5.6 | DT36: 4.6 | DU36: 14.0(b) | DV36: 21.5(b) | DW36: 11 | DX36: 18.8(b) | DY36: 13.6 | DZ36: 32.4 | EA36: 11.3 | EB36: 6.1 | EC36: 11.1 | ED36: 10.3
A37: 3050 | B37: Adults with lower level of educational attainment (%) | C37: 19.7 | D37: 33.1 | F37: 25.9 | G37: 30.5 | H37: 9.7 | J37: 11.5 | K37: 20.4 | L37: 32.7 | M37: 42.4 | N37: 16.8 | O37: 41 | P37: 21.9 | Q37: 36.7 | R37: 33.4 | S37: 48.7 | U37: 11.7 | Y37: 21.5 | Z37: 14.2 | AB37: 25.8 | AC37: 11.2 | AD37: 18.4 | AE37: 50.6 | AF37: 21.1 | AH37: 73.9 | AI37: 27.3 | AJ37: 17.5 | AK37: 29.5 | AL37: 20.6 | AM37: 23.3 | AN37: 26 | AO37: 8.1 | AP37: 24.4 | AQ37: 10.8 | AR37: 17 | AS37: 29.2 | AT37: 37.5 | AU37: 14.2 | AV37: 37.5 | AW37: 18.7 | AX37: 33.5 | AY37: 27.2 | AZ37: 44.8 | BB37: 8 | BC37: 22.3 | BD37: 64.8 | BE37: 27.7 | BF37: 19.1 | BG37: 11.3 | BI37: 25.7 | BJ37: 9 | BK37: 16.7 | BL37: 47.4 | BM37: 18.8 | BN37: 14.2 | BO37: 71.6 | BP37: 23.9 | BQ37: -2.2 | BR37: -3.6 | BS37: (d) | BT37: -2.6 | BU37: -4.5 | BV37: -1.6 | BW37: (b) | BX37: -0.7 | BY37: -3.4 | BZ37: -3.5 | CA37: -4.9 | CB37: -2.6 | CC37: -3.5 | CD37: -3.2 | CE37: -3.2 | CF37: -6.2 | CG37: -3.9 | CI37: -3.7 | CJ37: (b) | CK37: (b) | CL37: (b) | CM37: -2.4 | CN37: -2.9 | CP37: -0.1 | CQ37: -2.2 | CR37: -1.7 | CS37: -3.2 | CT37: -2.3 | CU37: -0.6 | CV37: -2.3 | CW37: -3.4 | CX37: 16.9 | CY37: 28.4 | CZ37: 19 | DA37: 20.7 | DB37: 22.6 | DC37: 7.5 | DD37: 22.1 | DE37: 10.2 | DF37: 15.2 | DG37: 27.5 | DH37: 35.1 | DI37: 13.7 | DJ37: 34.3 | DK37: 17.9 | DL37: 29 | DM37: 25.4 | DN37: 42.8 | DO37: 10.9(b) | DP37: 6.6 | DQ37: 21.7 | DR37: 61.9 | DS37: 26.8(p) | DT37: 17.9 | DU37: 10.4(p) | DV37: 62.4(d) | DW37: 24.1 | DX37: 8.3 | DY37: 15 | DZ37: 45.6 | EA37: 17.6 | EB37: 13.7 | EC37: 69.1 | ED37: 22.1
A38: 3060 | B38: Employment rate for 20-64 year-olds (%) | C38: 73.2 | D38: 66.5 | F38: 60.6 | I38: 79.4 | J38: 75.8 | K38: 73.9 | L38: 69.3 | M38: 43.9 | N38: 71.1 | O38: 65.7 | P38: 62.6 | Q38: 86.3 | S38: 62.5 | V38: 69.1 | W38: 57.6 | Y38: 79.5 | AB38: 64.8 | AD38: 71.5 | AE38: 68.7 | AF38: 78.8 | AH38: 48.2 | AI38: 75.2 | AJ38: 74.9 | AK38: 67.6 | AM38: 58.7 | AN38: 75 | AP38: 75.8 | AQ38: 66.7 | AR38: 73 | AS38: 69.2 | AT38: 48.1 | AU38: 74.9 | AV38: 64 | AW38: 60.4 | AX38: 80.4 | AY38: 64.6 | AZ38: 61.1 | BC38: 70.7 | BD38: 60.1 | BE38: 76.8 | BF38: 79.6 | BI38: 63.3 | BK38: 70.3 | BL38: 62.5 | BM38: 78.1 | BN38: 81.1 | BO38: 50 | BP38: 73.6 | BQ38: 1.7 | BR38: 1.1 | BT38: -1.9 | BU38: (b) | BW38: -3.6 | BX38: -9.1 | BY38: -0.9 | BZ38: -0.1 | CA38: 4.2 | CB38: 3.8 | CC38: -1.7 | CD38: -2.2 | CE38: -5.9 | CF38: (b) | CG38: -1.4 | CJ38: 1.6 | CK38: 2.5 | CL38: (b) | CM38: 0.1 | CP38: -1.5 | CR38: -1.2 | CS38: -6.2 | CT38: -0.7 | CU38: (b) | CV38: 1.8 | CW38: -1.6 | CX38: 75.6 | CY38: 67.2 | CZ38: 63.0(b) | DA38: 55.3 | DB38: 70.2 | DC38: 71.5(b) | DD38: 75.4 | DE38: 72.1 | DF38: 74 | DG38: 69.3 | DH38: 48.2 | DI38: 76.7 | DJ38: 55.3 | DK38: 62.1 | DL38: 81.8 | DM38: 63.7 | DN38: 61 | DO38: 68.2(b) | DP38: 68.7(b) | DQ38: 71.4 | DR38: 63.1 | DS38: 77.2 | DT38: 79.9 | DU38: 64.7(b) | DV38: 66.5(b) | DW38: 63.8 | DX38: 65.1(b) | DY38: 68.3 | DZ38: 59.3 | EA38: 79.4 | EB38: 82 | EC38: 52.8 | ED38: 74.2
A39: 3070 | B39: Medium/high-qualified employment in 2020 (% of total) | AJ39: 85.4 | AK39: 85 | AL39: 86 | AM39: 86.2 | AN39: 83 | AO39: 95.2 | AP39: 68.2 | AQ39: 88.1 | AR39: 88.3 | AS39: 82.7 | AU39: 86.6 | AV39: 75.1 | AW39: 90.1 | AX39: 70.2 | AY39: 86.9 | AZ39: 71.3 | BA39: 83.6 | BB39: 92.4 | BC39: 83.2 | BD39: 61 | BE39: 78.7 | BF39: 69.4 | BG39: 88.8 | BH39: 48.6 | BI39: 78.8 | BJ39: 95.9 | BK39: 87.3 | BL39: 75.2 | BM39: 82.1 | BN39: 83.1 | BP39: 88.5

Sheet chart2_data
A2: Indicator label | C2: 2006 | D2: 2010 | E2: 2011/12 updates | F2: 2006 | G2: 2010 | H2: 2011/12 updates | I2: 2006 | J2: 2010 | K2: 2011/12 updates | L2: 2006 | M2: 2010 | N2: 2011/12 updates | O2: 2006 | P2: 2010 | Q2: 2011/12 updates | R2: 2006 | S2: 2010 | T2: 2011/12 updates | U2: 2006 | V2: 2010 | W2: 2011/12 updates | X2: 2006 | Y2: 2010 | Z2: 2011/12 updates | AA2: 2006 | AB2: 2010 | AC2: 2011/12 updates | AD2: 2006 | AE2: 2010 | AF2: 2011/12 updates | AG2: 2006 | AH2: 2010 | AI2: 2011/12 updates | AJ2: 2006 | AK2: 2010 | AL2: 2011/12 updates | AM2: 2006 | AN2: 2010 | AO2: 2011/12 updates | AP2: 2006 | AQ2: 2010 | AR2: 2011/12 updates | AS2: 2006 | AT2: 2010 | AU2: 2011/12 updates | AV2: 2006 | AW2: 2010 | AX2: 2011/12 updates | AY2: 2006 | AZ2: 2010 | BA2: 2011/12 updates | BB2: 2006 | BC2: 2010 | BD2: 2011/12 updates | BE2: 2006 | BF2: 2010 | BG2: 2011/12 updates | BH2: 2006 | BI2: 2010 | BJ2: 2011/12 updates | BK2: 2006 | BL2: 2010 | BM2: 2011/12 updates | BN2: 2006 | BO2: 2010 | BP2: 2011/12 updates | BQ2: 2006 | BR2: 2010 | BS2: 2011/12 updates | BT2: 2006 | BU2: 2010 | BV2: 2011/12 updates | BW2: 2006 | BX2: 2010 | BY2: 2011/12 updates | BZ2: 2006 | CA2: 2010 | CB2: 2011/12 updates | CC2: 2006 | CD2: 2010 | CE2: 2011/12 updates | CF2: 2006 | CG2: 2010 | CH2: 2011/12 updates | CI2: 2006 | CJ2: 2010 | CK2: 2011/12 updates | CL2: 2006 | CM2: 2010 | CN2: 2011/12 updates | CO2: 2006 | CP2: 2010 | CQ2: 2011/12 updates | CR2: 2006 | CS2: 2010 | CT2: 2011/12 updates | CU2: 2006 | CV2: 2010 | CW2: 2011/12 updates
C3: Austria | D3: Austria | E3: Austria | F3: Belgium | G3: Belgium | H3: Belgium | I3: Bulgaria | J3: Bulgaria | K3: Bulgaria | L3: Croatia | M3: Croatia | N3: Croatia | O3: Cyprus | P3: Cyprus | Q3: Cyprus | R3: Czech Republic | S3: Czech Republic | T3: Czech Republic | U3: Denmark | V3: Denmark | W3: Denmark | X3: Estonia | Y3: Estonia | Z3: Estonia | AA3: Finland | AB3: Finland | AC3: Finland | AD3: France | AE3: France | AF3: France | AG3: FYROM | AH3: FYROM | AI3: FYROM | AJ3: Germany | AK3: Germany | AL3: Germany | AM3: Greece | AN3: Greece | AO3: Greece | AP3: Hungary | AQ3: Hungary | AR3: Hungary | AS3: Iceland | AT3: Iceland | AU3: Iceland | AV3: Ireland | AW3: Ireland | AX3: Ireland | AY3: Italy | AZ3: Italy | BA3: Italy | BB3: Latvia | BC3: Latvia | BD3: Latvia | BE3: Lithuania | BF3: Lithuania | BG3: Lithuania | BH3: Luxembourg | BI3: Luxembourg | BJ3: Luxembourg | BK3: Malta | BL3: Malta | BM3: Malta | BN3: Netherlands | BO3: Netherlands | BP3: Netherlands | BQ3: Norway | BR3: Norway | BS3: Norway | BT3: Poland | BU3: Poland | BV3: Poland | BW3: Portugal | BX3: Portugal | BY3: Portugal | BZ3: Romania | CA3: Romania | CB3: Romania | CC3: Slovakia | CD3: Slovakia | CE3: Slovakia | CF3: Slovenia | CG3: Slovenia | CH3: Slovenia | CI3: Spain | CJ3: Spain | CK3: Spain | CL3: Sweden | CM3: Sweden | CN3: Sweden | CO3: Switzerland | CP3: Switzerland | CQ3: Switzerland | CR3: Turkey | CS3: Turkey | CT3: Turkey | CU3: United Kingdom | CV3: United Kingdom | CW3: United Kingdom
C4: AT | D4: AT | E4: AT | F4: BE | G4: BE | H4: BE | I4: BG | J4: BG | K4: BG | L4: HR | M4: HR | N4: HR | O4: CY | P4: CY | Q4: CY | R4: CZ | S4: CZ | T4: CZ | U4: DK | V4: DK | W4: DK | X4: EE | Y4: EE | Z4: EE | AA4: FI | AB4: FI | AC4: FI | AD4: FR | AE4: FR | AF4: FR | AG4: MK | AH4: MK | AI4: MK | AJ4: DE | AK4: DE | AL4: DE | AM4: EL | AN4: EL | AO4: EL | AP4: HU | AQ4: HU | AR4: HU | AS4: IS | AT4: IS | AU4: IS | AV4: IE | AW4: IE | AX4: IE | AY4: IT | AZ4: IT | BA4: IT | BB4: LV | BC4: LV | BD4: LV | BE4: LT | BF4: LT | BG4: LT | BH4: LU | BI4: LU | BJ4: LU | BK4: MT | BL4: MT | BM4: MT | BN4: NL | BO4: NL | BP4: NL | BQ4: NO | BR4: NO | BS4: NO | BT4: PL | BU4: PL | BV4: PL | BW4: PT | BX4: PT | BY4: PT | BZ4: RO | CA4: RO | CB4: RO | CC4: SK | CD4: SK | CE4: SK | CF4: SI | CG4: SI | CH4: SI | CI4: ES | CJ4: ES | CK4: ES | CL4: SE | CM4: SE | CN4: SE | CO4: CH | CP4: CH | CQ4: CH | CR4: TR | CS4: TR | CT4: TR | CU4: UK | CV4: UK | CW4: UK
A5: Access, attractiveness and flexibility
A6: 1010 | B6: IVET-students as % of all upper secondary students | C6: 77.9 | D6: 76.8 | E6: 76.1 | F6: 69.5 | G6: 73 | H6: 72.8 | I6: 54 | J6: 52.2 | K6: 52.2 | L6: 73.6 | M6: 72.1 | N6: 71.5 | O6: 13.3 | P6: 13.2 | Q6: 12.7 | R6: 79.3 | S6: 73.1 | T6: 73 | U6: 47.8 | V6: 46.5 | W6: 46.1 | X6: 30.9 | Y6: 34.2 | Z6: 34.4 | AA6: 65.4 | AB6: 69.7 | AC6: 69.6 | AD6: 43.1 | AE6: 44.3 | AF6: 44.6 | AG6: 59.6 | AH6: 60 | AI6: 60.1 | AJ6: 59.4 | AK6: 51.5 | AL6: 48.6 | AM6: 33.9 | AN6: 30.7 | AO6: 31.7 | AP6: 23.7 | AQ6: 25.8 | AR6: 26.2 | AS6: 36.7 | AT6: 34.3 | AU6: 34.3 | AV6: 33.4 | AW6: 37.5 | AX6: 34 | AY6: 60.5 | AZ6: 60 | BA6: 60 | BB6: 34.3 | BC6: 36 | BD6: 37.8 | BE6: 25.7 | BF6: 27.7 | BG6: 28.4 | BH6: 62.9 | BI6: 61.5 | BJ6: 61.4 | BK6: 46.9 | BL6: 49.3 | BM6: 38.9 | BN6: 67.5 | BO6: 67 | BP6: 69.1 | BQ6: 60 | BR6: 53.9 | BS6: 52.6 | BT6: 44 | BU6: 48.2 | BV6: 48.3 | BW6: 31.5 | BX6: 38.8 | BY6: 42.4 | BZ6: 64.9 | CA6: 63.8 | CB6: 63.1 | CC6: 73.7 | CD6: 71.3 | CE6: 70.9 | CF6: 66.2 | CG6: 64.6 | CI6: 42.5 | CJ6: 44.6 | CK6: 45.3 | CL6: 55.1 | CM6: 56.1 | CN6: 56.3 | CO6: 64.2 | CP6: 66.2 | CQ6: 65.1 | CR6: 36.3 | CS6: 42.9 | CT6: 43.6 | CU6: 41.7 | CV6: 32.1 | CW6: 36
A7: 1020 | B7: IVET work-based students as % of upper secondary IVET | C7: 42.4 | D7: 45.1 | E7: 45.7 | F7: 5 | G7: 4.3 | H7: 4.3 | R7: 43.9 | S7: 43.7 | T7: 43.6 | U7: 99.7 | V7: 97.4 | W7: 96.8 | Y7: 0.8 | Z7: 0.8 | AA7: 16.6 | AB7: 19.2 | AC7: 16.8 | AD7: 26.9 | AE7: 27.6 | AF7: 26.9 | AJ7: 74.4 | AK7: 88.4 | AL7: 88.2 | AP7: 54.6 | AQ7: 59.6 | AR7: 63.4 | AS7: 48.1 | AT7: 46.6 | AU7: 46.1 | AV7: 7.3 | AW7: 13.4 | BH7: 22 | BI7: 23.5 | BJ7: 22.9 | BN7: 27.1 | BO7: 31.2 | BQ7: 23.2 | BR7: 28.4 | BS7: 27.6 | BT7: 14.3 | BU7: 13.7 | BV7: 13.7 | CC7: 41.9 | CD7: 40.5 | CE7: 40.8 | CG7: 0.4 | CI7: 5.1 | CJ7: 5 | CK7: 4.3 | CO7: 90.1 | CP7: 91.6 | CQ7: 91.8
A8: 1030 | B8: Employees participating in CVT courses (%) | C8: 33 | D8: 33 | F8: 40 | G8: 52 | I8: 15 | J8: 22 | M8: 23 | O8: 30 | P8: 37 | R8: 59 | S8: 61 | U8: 35 | X8: 24 | Y8: 31 | AA8: 39 | AB8: 40 | AD8: 46 | AE8: 45 | AJ8: 30 | AK8: 39 | AM8: 14 | AP8: 16 | AQ8: 19 | AV8: 49 | AY8: 29 | AZ8: 36 | BB8: 15 | BC8: 24 | BE8: 15 | BF8: 19 | BH8: 49 | BI8: 51 | BK8: 32 | BL8: 36 | BN8: 34 | BO8: 39 | BT8: 21 | BU8: 31 | BW8: 28 | BX8: 40 | BZ8: 17 | CA8: 18 | CC8: 38 | CD8: 44 | CF8: 50 | CG8: 43 | CI8: 33 | CJ8: 48 | CL8: 46 | CM8: 47 | CV8: 31
A9: 1040 | B9: Employees participating in on-the-job training (%) | C9: 9 | D9: 12 | F9: 21 | G9: 21 | I9: 12 | J9: 20 | M9: 15 | N9: 15 | O9: 6 | P9: 18 | R9: 32 | S9: 31 | U9: 25 | X9: 16 | Y9: 14 | AA9: 16 | AB9: 12 | AD9: 7 | AE9: 14 | AF9: 39.3 | AJ9: 26 | AK9: 28 | AM9: 4 | AP9: 13 | AQ9: 12 | AY9: 7 | AZ9: 11 | BB9: 7 | BC9: 21 | BE9: 11 | BF9: 25 | BH9: 23 | BI9: 20 | BK9: 17 | BL9: 15 | BN9: 11 | BO9: 14 | BT9: 15 | BU9: 11 | BW9: 9 | BX9: 20 | BZ9: 14 | CA9: 10 | CC9: 20 | CD9: 21 | CF9: 20 | CG9: 25 | CI9: 19 | CJ9: 20 | CL9: 21 | CM9: 24 | CV9: 30
A10: 1050 | B10: Adults in lifelong learning (%) | C10: 13.1 | D10: 13.7 | E10: 14.1 | F10: 7.5 | G10: 7.2 | H10: 6.6 | I10: 1.3 | J10: 1.2 | K10: 1.5 | L10: 2.9 | M10: 2.2 | N10: 2.4 | O10: 7.1 | P10: 7.7 | Q10: 7.4 | T10: 10.8 | U10: 29.2 | V10: 32.5 | W10: 31.6 | X10: 6.5 | Y10: 10.9 | Z10: 12.9 | AA10: 23.1 | AB10: 23 | AC10: 24.5 | AD10: 6.4 | AE10: 5 | AF10: 5.7 | AG10: 2.3 | AH10: 3.2 | AI10: 4 | AJ10: 7.5 | AK10: 7.7 | AL10: 7.9 | AM10: 1.9 | AN10: 3 | AO10: 2.9 | AP10: 3.8 | AQ10: 2.8 | AR10: 2.8 | AS10: 27.9 | AT10: 25.2 | AU10: 27.3 | AV10: 7.3 | AW10: 6.8 | AX10: 7.1 | AY10: 6.1 | AZ10: 6.2 | BA10: 6.6 | BD10: 7 | BE10: 4.9 | BF10: 4 | BG10: 5.2 | BI10: 13.4 | BJ10: 13.9 | BK10: 5.4 | BL10: 6.2 | BM10: 7 | BO10: 16.6 | BP10: 16.5 | BQ10: 18.7 | BR10: 17.8 | BS10: 20 | BT10: 4.7 | BU10: 5.3 | BV10: 4.5 | BY10: 10.6 | BZ10: 1.3 | CA10: 1.3 | CB10: 1.4 | CC10: 4.1 | CD10: 2.8 | CE10: 3.1 | CF10: 15 | CG10: 16.2 | CH10: 13.8 | CI10: 10.4 | CJ10: 10.8 | CK10: 10.7 | CM10: 24.4 | CN10: 26.7 | CP10: 30.6 | CQ10: 29.9 | CR10: 1.8 | CS10: 2.5 | CT10: 3.2 | CV10: 19.4 | CW10: 15.8
A11: 1060 | B11: Enterprises providing training (%) | C11: 81 | D11: 87 | F11: 63 | G11: 78 | I11: 29 | J11: 31 | M11: 57 | O11: 51 | P11: 72 | R11: 72 | S11: 72 | U11: 85 | X11: 67 | Y11: 68 | AA11: 77 | AB11: 74 | AD11: 74 | AE11: 76 | AJ11: 69 | AK11: 73 | AM11: 21 | AP11: 49 | AQ11: 49 | AV11: 67 | AY11: 32 | AZ11: 56 | BB11: 36 | BC11: 40 | BE11: 46 | BF11: 52 | BH11: 72 | BI11: 71 | BK11: 46 | BL11: 54 | BN11: 75 | BO11: 79 | BT11: 35 | BU11: 22 | BW11: 44 | BX11: 65 | BZ11: 40 | CA11: 24 | CC11: 60 | CD11: 69 | CF11: 73 | CG11: 68 | CI11: 47 | CJ11: 75 | CL11: 78 | CM11: 87 | CV11: 80
A12: 1070 | B12: Female IVET students as % of all female upper secondary students | C12: 73.3 | D12: 71.9 | E12: 71.1 | F12: 68.3 | G12: 72.9 | H12: 72.9 | I12: 43 | J12: 42.9 | K12: 42.9 | L12: 66.9 | M12: 66.1 | N12: 64.4 | O12: 4.5 | P12: 4.4 | Q12: 4.3 | R12: 74.7 | S12: 67.3 | T12: 67.1 | U12: 40.7 | V12: 40 | W12: 40.9 | X12: 20.4 | Y12: 24 | Z12: 24.1 | AA12: 62.5 | AB12: 66.7 | AC12: 66.9 | AD12: 37.3 | AE12: 39.2 | AG12: 53.3 | AH12: 55 | AI12: 55.1 | AJ12: 53.2 | AK12: 43.1 | AL12: 40 | AM12: 26.1 | AN12: 22.7 | AO12: 24.3 | AP12: 18.5 | AQ12: 20.4 | AR12: 20.8 | AS12: 30.3 | AT12: 29.4 | AU12: 29.6 | AV12: 35.2 | AW12: 39 | AX12: 34.7 | AY12: 49.4 | AZ12: 49.1 | BA12: 49.2 | BB12: 27 | BC12: 28.9 | BD12: 30.1 | BE12: 19.5 | BF12: 20 | BG12: 20.5 | BH12: 59.4 | BI12: 58.6 | BJ12: 58.5 | BK12: 36.6 | BL12: 39.8 | BM12: 27.3 | BN12: 65.6 | BO12: 65.2 | BP12: 67.5 | BQ12: 53.4 | BR12: 46.5 | BS12: 45.7 | BT12: 33 | BU12: 36.9 | BV12: 37.2 | BW12: 26 | BX12: 36 | BY12: 38.4 | BZ12: 57.6 | CA12: 56 | CB12: 54.9 | CC12: 68.6 | CD12: 65.9 | CE12: 65.2 | CF12: 59.7 | CG12: 56.8 | CH12: 57.9 | CI12: 40.2 | CJ12: 41.2 | CK12: 41.8 | CL12: 52 | CM12: 53 | CN12: 53.4 | CO12: 56.2 | CP12: 59.7 | CQ12: 58.8 | CR12: 32.1 | CS12: 40.5 | CT12: 41.4 | CU12: 42.8 | CV12: 31.5 | CW12: 36.1
A13: 1080 | B13: Young VET graduates in further education and training (%) | D13: 32.8 | G13: 31 | J13: 24.3 | P13: 16.5 | S13: 30.7 | V13: 58.2 | Y13: 17.6 | AB13: 29.6 | AE13: 32.9 | AK13: 16.4 | AN13: 16.6 | AQ13: 32.2 | AW13: 16.3 | AZ13: 32.2 | BI13: 33.9 | BO13: 46.2 | BU13: 38.4 | BX13: 32.8 | CA13: 40.1 | CD13: 27.6 | CG13: 56.9 | CJ13: 28.7 | CM13: 43.7 | CP13: 25.3 | CS13: 35.6 | CV13: 30.9
A14: 1090 | B14: Older adults in lifelong learning (%) | C14: 7.8 | D14: 8.2 | E14: 8.3 | F14: 4.5 | G14: 4.6 | H14: 4.3 | L14: 0.6 | M14: 0.2 | N14: 0.3 | O14: 3.7 | P14: 3.8 | Q14: 3.2 | T14: 6.1 | U14: 23.3 | V14: 26.7 | W14: 25 | X14: 2.6 | Y14: 5.9 | Z14: 6.4 | AA14: 15.8 | AB14: 15.3 | AC14: 16.7 | AD14: 3 | AE14: 2.6 | AF14: 3.2 | AG14: 0.4 | AH14: 0.7 | AI14: 0.7 | AJ14: 3.3 | AK14: 3.7 | AL14: 3.7 | AM14: 0.3 | AN14: 0.8 | AO14: 0.9 | AP14: 0.7 | AQ14: 0.6 | AR14: 0.7 | AS14: 21 | AT14: 18.7 | AU14: 21.2 | AW14: 3.9 | AX14: 3.9 | AY14: 2.4 | AZ14: 3 | BA14: 3.6 | BD14: 4.1 | BG14: 2.5 | BI14: 7.5 | BJ14: 7.6 | BL14: 3.3 | BM14: 3.3 | BO14: 10.1 | BP14: 10.4 | BQ14: 12.9 | BR14: 12.1 | BS14: 13.4 | BV14: 1.1 | BY14: 4.9 | CB14: 0.3 | CE14: 1.3 | CF14: 6.6 | CG14: 7.8 | CH14: 7.1 | CI14: 5.3 | CJ14: 5.7 | CK14: 5.9 | CM14: 18.3 | CN14: 20.4 | CP14: 25.9 | CQ14: 25.1 | CR14: 0.1 | CS14: 0.3 | CT14: 0.4 | CW14: 12
A15: 1100 | B15: Low-educated adults in lifelong learning (%) | C15: 4.6 | D15: 4.5 | E15: 5 | F15: 3 | G15: 3.1 | H15: 2.7 | K15: 0.5 | O15: 1.2 | P15: 1.1 | Q15: 1.3 | T15: 2.4 | U15: 18.4 | V15: 23.5 | W15: 22.4 | Y15: 2.1 | Z15: 4 | AA15: 10.6 | AB15: 9.8 | AC15: 11.3 | AD15: 2.7 | AE15: 2.3 | AF15: 2.5 | AG15: 0.1 | AH15: 0.1 | AI15: 0.3 | AJ15: 2.6 | AK15: 2.9 | AL15: 3.1 | AM15: 0.3 | AN15: 0.5 | AO15: 0.4 | AP15: 0.7 | AQ15: 0.7 | AR15: 0.6 | AS15: 17 | AT15: 16 | AU15: 17.4 | AV15: 2.7 | AW15: 2.7 | AX15: 3.1 | AY15: 1.1 | AZ15: 1.3 | BA15: 1.6 | BD15: 2.8 | BI15: 4.7 | BJ15: 5.2 | BK15: 2.8 | BL15: 3.4 | BM15: 2.6 | BO15: 9.3 | BP15: 10 | BQ15: 10.3 | BR15: 10.1 | BS15: 12.2 | BT15: 0.6 | BU15: 0.9 | BV15: 0.7 | BY15: 6.2 | CF15: 3.8 | CG15: 3.4 | CH15: 2.6 | CI15: 4.3 | CJ15: 4.9 | CK15: 4.6 | CM15: 15.8 | CN15: 18.1 | CP15: 10.3 | CQ15: 9.5 | CR15: 0.5 | CS15: 1.1 | CT15: 1.5 | CV15: 9.6 | CW15: 7.6
A16: 1110 | B16: Unemployed adults in lifelong learning (%) | C16: 18.6 | D16: 19.4 | E16: 18.5 | F16: 10.4 | G16: 9 | H16: 9.2 | K16: 1.4 | L16: 3.2 | M16: 2.3 | N16: 1.6 | O16: 5.2 | P16: 5.4 | Q16: 6.5 | T16: 6.1 | U16: 31.7 | V16: 33.5 | W16: 32.7 | Y16: 7.1 | Z16: 11.8 | AA16: 17.9 | AB16: 16.8 | AC16: 18.2 | AD16: 6.7 | AE16: 4.9 | AF16: 5.3 | AG16: 0.9 | AH16: 1.5 | AI16: 2.8 | AJ16: 4.4 | AK16: 5.6 | AL16: 5.6 | AM16: 2.2 | AN16: 3.4 | AO16: 2.7 | AP16: 3.6 | AQ16: 2.4 | AR16: 1.9 | AS16: 30 | AT16: 27.1 | AU16: 29.1 | AV16: 6.9 | AW16: 7.1 | AX16: 7.2 | AY16: 6.7 | AZ16: 6.2 | BA16: 6.2 | BD16: 7.3 | BF16: 3.2 | BG16: 2.8 | BI16: 17.2 | BJ16: 17.5 | BK16: 11 | BL16: 14.9 | BM16: 8.8 | BO16: 17.6 | BP16: 16.2 | BQ16: 19.7 | BR16: 18.5 | BS16: 22.8 | BT16: 3.7 | BU16: 5.9 | BV16: 4.6 | BY16: 13.9 | CA16: 1.4 | CB16: 2.1 | CC16: 1.6 | CD16: 1.6 | CE16: 1.1 | CF16: 19.9 | CG16: 18.4 | CH16: 13.4 | CI16: 15.2 | CJ16: 13.1 | CK16: 12.7 | CM16: 40.3 | CN16: 42.5 | CP16: 24.7 | CQ16: 22.7 | CR16: 2.4 | CS16: 4.7 | CT16: 5.8 | CV16: 18.3 | CW16: 15
A17: 1120 | B17: Individuals who wanted to participate in training but did not (%) | C17: 9.2 | D17: 7.9 | F17: 17.2 | G17: 13.5 | I17: 5.4 | J17: 6.2 | L17: 14.8 | O17: 32.9 | P17: 24.8 | R17: 12.8 | S17: 4.8 | V17: 14.8 | X17: 12.6 | Y17: 16 | AA17: 11.5 | AE17: 13.8 | AH17: 15.8 | AJ17: 7 | AK17: 5.8 | AM17: 17.7 | AN17: 19.4 | AQ17: 9.6 | AY17: 20.6 | AZ17: 17.9 | BB17: 12.2 | BC17: 14.2 | BE17: 10.6 | BF17: 8.3 | BI17: 13.6 | BK17: 27.4 | BL17: 23.6 | BN17: 11.2 | BO17: 9.4 | BQ17: 10.7 | BR17: 7.4 | BT17: 9 | BU17: 9.9 | BW17: 6.5 | BX17: 8.1 | BZ17: 9 | CA17: 43.7 | CC17: 13.1 | CD17: 9.7 | CF17: 13.1 | CG17: 12 | CI17: 8.5 | CJ17: 10.2 | CL17: 7.8 | CM17: 7.3 | CP17: 11.1 | CR17: 12.9 | CU17: 25
A18: 1130 | B18: Job-related non-formal education and training (%) | C18: 82.1 | D18: 77.3 | F18: 86 | G18: 89.9 | I18: 96.3 | J18: 94.4 | L18: 84.1 | O18: 80.9 | P18: 80.1 | R18: 93.9 | S18: 85 | U18: 93.1 | V18: 88.6 | X18: 90.5 | Y18: 82.6 | AA18: 86.1 | AE18: 82.3 | AJ18: 88 | AK18: 76 | AM18: 84.3 | AN18: 71.8 | AQ18: 89.5 | AY18: 72.7 | AZ18: 73.4 | BB18: 85.5 | BC18: 78.9 | BE18: 89.3 | BF18: 86.9 | BI18: 79.1 | BK18: 71 | BL18: 99.3 | BN18: 85.8 | BO18: 89.4 | BQ18: 93 | BR18: 98.9 | BT18: 88.8 | BU18: 85.1 | BW18: 84 | BX18: 84 | BZ18: 82.9 | CA18: 82.1 | CC18: 92 | CD18: 90.7 | CF18: 70.8 | CG18: 72.4 | CI18: 73.1 | CJ18: 84.1 | CL18: 88.3 | CM18: 87.9 | CP18: 82.2 | CR18: 72.7 | CU18: 80 | CV18: 83.9
A19: Skill development and labour market relevance
A20: 2010 | B20: IVET public expenditure (% of GDP) | C20: 0.97 | D20: 1.04 | I20: 0.58 | J20: 0.56 | O20: 0.34 | P20: 0.34 | R20: 0.87 | S20: 0.8 | X20: 0.58 | Y20: 0.83 | AA20: 1.09 | AB20: 1.32 | AJ20: 0.58 | AK20: 0.61 | AP20: 0.4 | AQ20: 0.32 | AV20: 0.35 | BB20: 0.42 | BC20: 0.43 | BE20: 0.27 | BF20: 0.34 | BH20: 0.54 | BI20: 0.59 | BK20: 0.38 | BL20: 0.47 | BN20: 0.77 | BO20: 0.84 | BT20: 0.57 | BU20: 0.55 | CC20: 0.69 | CD20: 0.77 | CL20: 0.84 | CM20: 0.94 | CO20: 0.66 | CP20: 0.63 | CR20: 0.31 | CS20: 0.4
A21: 2020 | B21: IVET public expenditure (EUR per student) | I21: 2101 | J21: 3048 | O21: 13165 | P21: 15613 | R21: 4728 | S21: 5164 | X21: 4442 | Y21: 6605 | AA21: 7548 | AB21: 8702 | AD21: 12735 | AE21: 14813 | AJ21: 6457 | AK21: 7847 | AP21: 3771 | AQ21: 3383 | AV21: 5339 | AW21: 10896 | BB21: 3103 | BC21: 3512 | BE21: 2957 | BF21: 3635 | BH21: 15854 | BI21: 15614 | BK21: 5481 | BN21: 8552 | BO21: 9006 | BT21: 3046 | BU21: 3971 | CC21: 2718 | CD21: 4210 | CL21: 9154 | CM21: 10812 | CO21: 9090 | CP21: 8809 | CR21: 1907 | CS21: 2104
A22: 2030 | B22: Enterprise expenditure on CVT courses as % of total labour cost | C22: 0.8 | D22: 0.8 | F22: 0.6 | G22: 0.9 | I22: 0.7 | J22: 0.6 | M22: 0.4 | O22: 0.8 | P22: 1.1 | R22: 0.9 | S22: 0.6 | U22: 1.7 | X22: 1.1 | Y22: 0.5 | AA22: 0.8 | AB22: 0.8 | AD22: 1.4 | AE22: 1.6 | AJ22: 0.6 | AK22: 0.8 | AM22: 0.3 | AP22: 1.3 | AQ22: 1.3 | AV22: 1.5 | AY22: 0.6 | AZ22: 0.4 | BB22: 0.4 | BC22: 0.4 | BE22: 0.7 | BF22: 0.5 | BH22: 0.8 | BI22: 0.6 | BK22: 1 | BL22: 1.4 | BN22: 1 | BO22: 1.2 | BT22: 0.7 | BU22: 0.5 | BW22: 0.5 | BX22: 0.7 | BZ22: 0.7 | CA22: 0.4 | CC22: 0.8 | CD22: 0.9 | CF22: 1 | CG22: 0.6 | CI22: 0.6 | CJ22: 0.8 | CL22: 0.9 | CM22: 0 | CV22: 0.7
A23: 2040 | B23: Average number of foreign languages learned in IVET | C23: 1.3 | D23: 1.2 | E23: 1.2 | F23: 1.3 | G23: 1.3 | H23: 1.3 | I23: 1.2 | J23: 1.4 | K23: 1.4 | L23: 1.2 | M23: 1.3 | N23: 1.3 | O23: 1.2 | P23: 1.1 | Q23: 1.1 | R23: 1.3 | S23: 1.3 | T23: 1.3 | U23: 0.9 | V23: 0.9 | X23: 1.8 | AD23: 1.1 | AE23: 1.2 | AF23: 1.3 | AJ23: 0.5 | AK23: 0.4 | AL23: 0.4 | AM23: 0.8 | AN23: 0.7 | AP23: 0.7 | AQ23: 0.8 | AR23: 0.8 | AS23: 0.7 | AT23: 0.6 | AU23: 0.7 | AV23: 0.9 | AW23: 1 | AX23: 1 | AY23: 1.4 | AZ23: 1.4 | BA23: 1.4 | BC23: 1.2 | BD23: 1.2 | BE23: 0.9 | BF23: 1.1 | BG23: 0.8 | BH23: 1.9 | BI23: 2 | BJ23: 2 | BL23: 1 | BM23: 1 | BQ23: 1 | BR23: 0.5 | BS23: 0.5 | BU23: 1.6 | BV23: 1.6 | BW23: 0.9 | BX23: 0.7 | BY23: 1 | BZ23: 1.4 | CA23: 1.8 | CB23: 1.9 | CC23: 1.3 | CD23: 1.5 | CE23: 1.6 | CF23: 1.4 | CG23: 1.3 | CH23: 0.4 | CI23: 1 | CL23: 1.1 | CM23: 1.1 | CN23: 1.2 | CR23: 0.8 | CS23: 0.9 | CT23: 1
A24: 2050 | B24: STEM graduates from upper secondary VET (% of total) | F24: 23.5 | G24: 19.1 | H24: 19.1 | I24: 51.8 | J24: 48 | K24: 43.7 | O24: 52.7 | P24: 57.7 | Q24: 61.7 | R24: 36.5 | S24: 35 | T24: 36.3 | U24: 19.9 | V24: 20.6 | W24: 19.7 | X24: 49.3 | Z24: 45.6 | AA24: 29 | AB24: 28.8 | AC24: 29 | AD24: 30.9 | AE24: 26 | AF24: 27.7 | AG24: 43.5 | AH24: 34.7 | AI24: 35.3 | AJ24: 29.6 | AK24: 29.6 | AL24: 31 | AP24: 36.4 | AQ24: 35.3 | AR24: 35.5 | AS24: 26.3 | AT24: 21.2 | BB24: 41.7 | BC24: 36.3 | BD24: 37.4 | BE24: 43.8 | BF24: 32.5 | BG24: 29 | BH24: 26.2 | BI24: 25.4 | BJ24: 26.3 | BK24: 26.5 | BN24: 18.9 | BO24: 15.6 | BP24: 17.7 | BQ24: 29.6 | BR24: 36.5 | BS24: 35.4 | BT24: 46 | BU24: 40.7 | BV24: 39.8 | BZ24: 57.1 | CA24: 55.3 | CC24: 38 | CD24: 31.5 | CE24: 31.1 | CF24: 30.6 | CG24: 35.8 | CH24: 33.7 | CI24: 28.9 | CJ24: 28.9 | CK24: 26.6 | CL24: 31 | CM24: 32.4 | CN24: 32.4 | CO24: 28 | CP24: 26.5 | CQ24: 26 | CR24: 55.6 | CS24: 57.2 | CT24: 54.8
A25: 2060 | B25: 30-34 year-olds with tertiary VET attainment (%) | C25: 7.3 | D25: 6.2 | E25: 6.2 | F25: 22 | G25: 20.7 | H25: 19.8 | J25: 1.6 | K25: 1.6 | L25: 6.2 | M25: 7.6 | N25: 8.8 | O25: 20.3 | P25: 14.1 | Q25: 13.3 | R25: 0.9 | S25: 1.9 | T25: 3.3 | V25: 7.4 | W25: 6.1 | X25: 8.6 | Y25: 14 | Z25: 12.4 | AA25: 15.3 | AB25: 4.9 | AC25: 1.6 | AD25: 16.5 | AE25: 18.1 | AF25: 16.8 | AG25: 1.8 | AH25: 1.3 | AI25: 1 | AJ25: 7.8 | AK25: 8 | AL25: 10 | AM25: 7.8 | AN25: 8.9 | AO25: 10.6 | AP25: 0.3 | AQ25: 1 | AR25: 1 | AS25: 4.8 | AT25: 2.4 | AU25: 2.5 | AW25: 20 | AX25: 17.7 | AY25: 0.7 | AZ25: 0.3 | BA25: 0.3 | BD25: 1.7 | BE25: 18.9 | BF25: 11.9 | BG25: 12.7 | BI25: 18.7 | BJ25: 11.7 | BO25: 2.9 | BP25: 2.9 | BR25: 3.3 | BS25: 2.8 | BY25: 1.4 | BZ25: 2.3 | CA25: 1.8 | CB25: 1.8 | CC25: 0.8 | CD25: 0.8 | CE25: 1.5 | CF25: 11.5 | CG25: 13.2 | CH25: 15 | CI25: 12.6 | CJ25: 12.8 | CK25: 13.3 | CL25: 8.3 | CM25: 7.5 | CN25: 8.7 | CO25: 9.6 | CP25: 11.3 | CQ25: 10.3 | CR25: 3.5 | CW25: 16.7
A26: 2070 | B26: Innovative enterprises with supportive training practices (%) | C26: 61.6 | D26: 59.1 | F26: 63.3 | G26: 60 | I26: 23.4 | J26: 34 | L26: 61.9 | M26: 54.3 | O26: 97.8 | P26: 90.7 | R26: 48.8 | S26: 47.1 | V26: 29.5 | X26: 46 | Y26: 52.6 | AA26: 39.4 | AB26: 34.7 | AD26: 54.5 | AE26: 60.3 | AJ26: 54.9 | AP26: 47.3 | AQ26: 37.6 | AY26: 45.1 | AZ26: 31.9 | BB26: 35.8 | BC26: 35.7 | BE26: 47.9 | BF26: 60.6 | BH26: 84.5 | BI26: 68.2 | BK26: 38.1 | BL26: 36.9 | BN26: 39.2 | BO26: 39.2 | BQ26: 26 | BR26: 58.5 | BT26: 54.4 | BU26: 55.4 | BW26: 54.6 | BX26: 56.6 | BZ26: 37.1 | CA26: 36.3 | CC26: 55.3 | CD26: 61.3 | CF26: 49 | CG26: 44.4 | CI26: 10.4 | CJ26: 23.5 | CL26: 33.6 | CM26: 23.5 | CS26: 42
A27: 2080 | B27: Employment rate for IVET graduates (20-34 year-olds) | D27: 88 | G27: 85 | J27: 80.9 | P27: 88.1 | S27: 78.7 | V27: 88.5 | Y27: 67.3 | AB27: 78.6 | AE27: 76.6 | AK27: 83.9 | AN27: 78.7 | AQ27: 73.4 | AT27: 80.1 | AW27: 71.6 | AZ27: 74.6 | BC27: 73 | BF27: 71.9 | BI27: 89.8 | BL27: 89.7 | BO27: 90.6 | BU27: 73.8 | BX27: 83.5 | CA27: 82.1 | CD27: 74.7 | CG27: 85.8 | CJ27: 72.2 | CM27: 84.3 | CP27: 86.4 | CS27: 63.7 | CV27: 78.2
A28: 2090 | B28: Employment premium for IVET graduates (over general stream) | D28: 5.1 | G28: 11.2 | J28: 7.9 | P28: 4.2 | S28: 10.6 | V28: 6 | Y28: -3.5 | AB28: 3 | AE28: 0.6 | AK28: 26.2 | AN28: 4.6 | AQ28: 6.3 | AT28: 1.1 | AW28: 1.8 | AZ28: 7.8 | BC28: 10.8 | BF28: 12.6 | BI28: 8.5 | BL28: -3.6 | BO28: 4.7 | BU28: 4.8 | BX28: -1.4 | CA28: 4.1 | CD28: 3.8 | CG28: 12.2 | CJ28: 3.3 | CM28: 3.7 | CP28: 7.2 | CS28: 11.2 | CV28: -2.4
A29: 2100 | B29: Employment premium for IVET graduates (over low-educated) | D29: 26.4 | G29: 26.9 | J29: 25.1 | P29: 13.3 | S29: 35.2 | V29: 14.6 | Y29: 13.7 | AB29: 19.4 | AE29: 16.9 | AK29: 29.7 | AN29: 5.9 | AQ29: 29.1 | AT29: 11.6 | AW29: 20.9 | AZ29: 13.6 | BC29: 27.5 | BF29: 19 | BI29: 15.6 | BL29: 21.4 | BO29: 13.7 | BU29: 19.6 | BX29: 2.6 | CA29: 15.1 | CD29: 44.2 | CG29: 16.9 | CJ29: 10.4 | CM29: 24 | CP29: 15.2 | CS29: 9.6 | CV29: 12.3
A30: 2110 | B30: Workers helped to improve their work by training (%) | D30: 94.9 | G30: 87 | M30: 93 | P30: 95.9 | S30: 86.9 | V30: 89.5 | Y30: 90.7 | AB30: 89.9 | AE30: 85.5 | AH30: 95.6 | AK30: 88.7 | AQ30: 91.6 | AW30: 94.9 | AZ30: 92.2 | BC30: 94.8 | BF30: 95.3 | BI30: 89.3 | BL30: 96.7 | BO30: 81.3 | BR30: 91.4 | BU30: 91 | BX30: 94.1 | CA30: 97.7 | CD30: 88.1 | CG30: 89.2 | CJ30: 95 | CM30: 79.5 | CV30: 91.2
A31: 2120 | B31: Workers with skills matched to their duties (%) | D31: 58.5 | G31: 61.2 | J31: 64.3 | M31: 50.9 | P31: 46.8 | S31: 61.4 | V31: 59.6 | Y31: 52.6 | AB31: 63.4 | AE31: 59.9 | AH31: 62 | AK31: 50.7 | AN31: 44.6 | AQ31: 47 | AW31: 55.3 | AZ31: 62.1 | BC31: 47.2 | BF31: 60.5 | BI31: 54.1 | BL31: 55.3 | BO31: 56.3 | BR31: 61.6 | BU31: 59.6 | BX31: 67.8 | CA31: 40.3 | CD31: 52.4 | CG31: 47.7 | CJ31: 53.1 | CM31: 53.2 | CS31: 64.5 | CV31: 52.5
A32: Overall transitions and labour market trends
A33: 3010 | B33: Early leavers from education and training (%) | C33: 9.8 | D33: 8.3 | E33: 7.6 | F33: 12.6 | G33: 11.9 | H33: 12 | I33: 17.3 | J33: 13.9 | K33: 12.5 | L33: 4.7 | M33: 3.7 | N33: 4.2 | O33: 14.9 | P33: 12.7 | Q33: 11.4 | R33: 5.1 | S33: 4.9 | T33: 5.5 | V33: 11 | W33: 9.1 | X33: 13.5 | Y33: 11.6 | Z33: 10.5 | AC33: 8.9 | AD33: 12.4 | AE33: 12.6 | AF33: 11.6 | AG33: 22.8 | AH33: 15.5 | AI33: 11.7 | AJ33: 13.7 | AK33: 11.9 | AL33: 10.5 | AM33: 15.5 | AN33: 13.7 | AO33: 11.4 | AP33: 12.6 | AQ33: 10.5 | AR33: 11.5 | AS33: 25.6 | AT33: 22.6 | AU33: 20.1 | AV33: 12.1 | AW33: 11.5 | AX33: 9.7 | AY33: 20.6 | AZ33: 18.8 | BA33: 17.6 | BD33: 10.5 | BE33: 8.2 | BF33: 8.1 | BG33: 6.5 | BI33: 7.1 | BJ33: 8.1 | BL33: 24.8 | BM33: 22.6 | BO33: 10 | BP33: 8.8 | BQ33: 17.8 | BR33: 17.4 | BS33: 14.8 | BT33: 5.4 | BU33: 5.4 | BV33: 5.7 | BW33: 39.1 | BX33: 28.7 | BY33: 20.8 | BZ33: 17.9 | CA33: 18.4 | CB33: 17.4 | CC33: 6.6 | CD33: 4.7 | CE33: 5.3 | CF33: 5.6 | CG33: 5 | CH33: 4.4 | CI33: 30.5 | CJ33: 28.4 | CK33: 24.9 | CL33: 8.6 | CM33: 6.5 | CN33: 7.5 | CP33: 6.6 | CQ33: 5.5 | CR33: 48.8 | CS33: 43.1 | CT33: 39.6 | CV33: 14.9 | CW33: 13.5
A34: 3020 | B34: 30-34 year-olds with tertiary attainment (%) | C34: 21.2 | D34: 23.5 | E34: 26.3 | F34: 41.4 | G34: 44.4 | H34: 43.9 | J34: 25.3 | K34: 26.9 | L34: 16.7 | M34: 24.3 | N34: 23.7 | O34: 46.1 | P34: 45.3 | Q34: 49.9 | R34: 13.1 | S34: 20.4 | T34: 25.6 | V34: 41.2 | W34: 43 | X34: 32.5 | Y34: 40 | Z34: 39.1 | AA34: 46.2 | AB34: 45.7 | AC34: 45.8 | AD34: 39.7 | AE34: 43.5 | AF34: 43.6 | AG34: 11.6 | AH34: 17.1 | AI34: 21.7 | AJ34: 25.8 | AK34: 29.8 | AL34: 31.9 | AM34: 26.7 | AN34: 28.4 | AO34: 30.9 | AP34: 19 | AQ34: 25.7 | AR34: 29.9 | AS34: 36.4 | AT34: 40.9 | AU34: 42.8 | AV34: 41.3 | AW34: 50.1 | AX34: 51.1 | AY34: 17.7 | AZ34: 19.8 | BA34: 21.7 | BD34: 37 | BE34: 39.4 | BF34: 43.8 | BG34: 48.7 | BI34: 46.1 | BJ34: 49.6 | BK34: 21.6 | BL34: 21.5 | BM34: 22.4 | BO34: 41.4 | BP34: 42.3 | BQ34: 41.9 | BR34: 47.3 | BS34: 47.6 | BT34: 24.7 | BU34: 35.3 | BV34: 39.1 | BY34: 27.2 | BZ34: 12.4 | CA34: 18.1 | CB34: 21.8 | CC34: 14.4 | CD34: 22.1 | CE34: 23.7 | CF34: 28.1 | CG34: 34.8 | CH34: 39.2 | CI34: 38.1 | CJ34: 40.6 | CK34: 40.1 | CL34: 39.5 | CM34: 45.3 | CN34: 47.9 | CO34: 35 | CP34: 44.2 | CQ34: 43.8 | CR34: 11.9 | CS34: 15.5 | CT34: 18 | CU34: 36.5 | CV34: 43 | CW34: 47.1
A35: 3030 | B35: NEET rate for 18-24 year-olds (%) | C35: 9.3 | D35: 8.8 | E35: 7.8 | F35: 14.6 | G35: 14.3 | H35: 15 | I35: 28 | J35: 27.8 | K35: 26 | L35: 18.6 | M35: 19.3 | N35: 22.2 | O35: 14.5 | P35: 16.7 | Q35: 22.4 | R35: 12.3 | S35: 11.4 | T35: 11.3 | V35: 8.3 | W35: 8.8 | X35: 11.4 | Y35: 19.1 | Z35: 15.3 | AC35: 11.8 | AD35: 14.7 | AE35: 16.3 | AF35: 16.2 | AG35: 47.1 | AH35: 33.1 | AI35: 32.3 | AJ35: 13.8 | AK35: 11.4 | AL35: 9.8 | AM35: 16.1 | AN35: 20.6 | AO35: 28.4 | AP35: 16.3 | AQ35: 16.5 | AR35: 19.5 | AS35: 5.1 | AT35: 8.4 | AU35: 6.7 | AV35: 11.8 | AW35: 24.1 | AX35: 23.8 | AY35: 20.6 | AZ35: 24.2 | BA35: 27 | BD35: 17.4 | BE35: 11.4 | BF35: 18.2 | BG35: 14.9 | BI35: 6.9 | BJ35: 7.8 | BL35: 10.6 | BM35: 11.7 | BO35: 5.8 | BP35: 5.7 | BQ35: 6.5 | BR35: 6.9 | BS35: 7 | BT35: 17.2 | BU35: 14.5 | BV35: 15.9 | BW35: 12.4 | BX35: 14.8 | BY35: 18.7 | BZ35: 18.2 | CA35: 20 | CB35: 20.4 | CC35: 18.6 | CD35: 18.6 | CE35: 18.1 | CF35: 10.4 | CG35: 8.9 | CH35: 11.5 | CI35: 13.6 | CJ35: 22.4 | CK35: 23.8 | CL35: 12.3 | CM35: 10.6 | CN35: 10.5 | CP35: 7.9 | CQ35: 8.3 | CR35: 45.2 | CS35: 39.2 | CT35: 35 | CV35: 17.7 | CW35: 18.1
A36: 3040 | B36: Unemployment rate for 20-34 year-olds (%) | C36: 5.7 | D36: 6.2 | E36: 5.8 | F36: 11.5 | G36: 12.2 | H36: 11.5 | K36: 16.1 | L36: 16.1 | M36: 18.4 | N36: 26 | P36: 8.8 | Q36: 16.2 | T36: 9.5 | U36: 4.6 | V36: 9.7 | W36: 10.4 | X36: 6 | Y36: 19.6 | Z36: 13.1 | AA36: 9.3 | AB36: 10.3 | AC36: 9.5 | AD36: 12.1 | AE36: 13.3 | AF36: 14 | AG36: 45.5 | AH36: 39.7 | AI36: 39.7 | AJ36: 11.4 | AK36: 8.4 | AL36: 6.5 | AM36: 14.2 | AN36: 19.4 | AO36: 35.8 | AP36: 9.6 | AQ36: 14.6 | AR36: 14.7 | AT36: 11.3 | AU36: 8.3 | AW36: 17.5 | AX36: 18.4 | AY36: 11.2 | AZ36: 14.5 | BA36: 18.5 | BD36: 16.4 | BG36: 16.1 | BH36: 6.7 | BI36: 6.2 | BJ36: 8 | BK36: 7 | BL36: 6.3 | BM36: 6.3 | BO36: 4.9 | BP36: 5.6 | BQ36: 4.8 | BR36: 5.4 | BS36: 4.6 | BV36: 14 | BY36: 21.5 | BZ36: 10.1 | CA36: 10.9 | CB36: 11 | CE36: 18.8 | CF36: 9.1 | CG36: 10.9 | CH36: 13.6 | CI36: 10.4 | CJ36: 25.3 | CK36: 32.4 | CL36: 9.7 | CM36: 11.7 | CN36: 11.3 | CP36: 6.4 | CQ36: 6.1 | CR36: 11.5 | CS36: 13.9 | CT36: 11.1 | CU36: 6.7 | CV36: 9.9 | CW36: 10.3
A37: 3050 | B37: Adults with lower level of educational attainment (%) | C37: 19.7 | D37: 17.5 | E37: 16.9 | F37: 33.1 | G37: 29.5 | H37: 28.4 | J37: 20.6 | K37: 19 | L37: 25.9 | M37: 23.3 | N37: 20.7 | O37: 30.5 | P37: 26 | Q37: 22.6 | R37: 9.7 | S37: 8.1 | T37: 7.5 | V37: 24.4 | W37: 22.1 | X37: 11.5 | Y37: 10.8 | Z37: 10.2 | AA37: 20.4 | AB37: 17 | AC37: 15.2 | AD37: 32.7 | AE37: 29.2 | AF37: 27.5 | AG37: 42.4 | AH37: 37.5 | AI37: 35.1 | AJ37: 16.8 | AK37: 14.2 | AL37: 13.7 | AM37: 41 | AN37: 37.5 | AO37: 34.3 | AP37: 21.9 | AQ37: 18.7 | AR37: 17.9 | AS37: 36.7 | AT37: 33.5 | AU37: 29 | AV37: 33.4 | AW37: 27.2 | AX37: 25.4 | AY37: 48.7 | AZ37: 44.8 | BA37: 42.8 | BD37: 10.9 | BE37: 11.7 | BF37: 8 | BG37: 6.6 | BI37: 22.3 | BJ37: 21.7 | BL37: 64.8 | BM37: 61.9 | BO37: 27.7 | BP37: 26.8 | BQ37: 21.5 | BR37: 19.1 | BS37: 17.9 | BT37: 14.2 | BU37: 11.3 | BV37: 10.4 | BY37: 62.4 | BZ37: 25.8 | CA37: 25.7 | CB37: 24.1 | CC37: 11.2 | CD37: 9 | CE37: 8.3 | CF37: 18.4 | CG37: 16.7 | CH37: 15 | CI37: 50.6 | CJ37: 47.4 | CK37: 45.6 | CL37: 21.1 | CM37: 18.8 | CN37: 17.6 | CP37: 14.2 | CQ37: 13.7 | CR37: 73.9 | CS37: 71.6 | CT37: 69.1 | CU37: 27.3 | CV37: 23.9 | CW37: 22.1
A38: 3060 | B38: Employment rate for 20-64 year-olds (%) | C38: 73.2 | D38: 74.9 | E38: 75.6 | F38: 66.5 | G38: 67.6 | H38: 67.2 | K38: 63 | L38: 60.6 | M38: 58.7 | N38: 55.3 | P38: 75 | Q38: 70.2 | T38: 71.5 | U38: 79.4 | V38: 75.8 | W38: 75.4 | X38: 75.8 | Y38: 66.7 | Z38: 72.1 | AA38: 73.9 | AB38: 73 | AC38: 74 | AD38: 69.3 | AE38: 69.2 | AF38: 69.3 | AG38: 43.9 | AH38: 48.1 | AI38: 48.2 | AJ38: 71.1 | AK38: 74.9 | AL38: 76.7 | AM38: 65.7 | AN38: 64 | AO38: 55.3 | AP38: 62.6 | AQ38: 60.4 | AR38: 62.1 | AS38: 86.3 | AT38: 80.4 | AU38: 81.8 | AW38: 64.6 | AX38: 63.7 | AY38: 62.5 | AZ38: 61.1 | BA38: 61 | BD38: 68.2 | BG38: 68.7 | BH38: 69.1 | BI38: 70.7 | BJ38: 71.4 | BK38: 57.6 | BL38: 60.1 | BM38: 63.1 | BO38: 76.8 | BP38: 77.2 | BQ38: 79.5 | BR38: 79.6 | BS38: 79.9 | BV38: 64.7 | BY38: 66.5 | BZ38: 64.8 | CA38: 63.3 | CB38: 63.8 | CE38: 65.1 | CF38: 71.5 | CG38: 70.3 | CH38: 68.3 | CI38: 68.7 | CJ38: 62.5 | CK38: 59.3 | CL38: 78.8 | CM38: 78.1 | CN38: 79.4 | CP38: 81.1 | CQ38: 82 | CR38: 48.2 | CS38: 50 | CT38: 52.8 | CU38: 75.2 | CV38: 73.6 | CW38: 74.2
A39: 3070 | B39: Medium/high-qualified employment in 2020 (% of total) | D39: 85.4 | G39: 85 | J39: 86 | M39: 86.2 | P39: 83 | S39: 95.2 | V39: 68.2 | Y39: 88.1 | AB39: 88.3 | AE39: 82.7 | AK39: 86.6 | AN39: 75.1 | AQ39: 90.1 | AT39: 70.2 | AW39: 86.9 | AZ39: 71.3 | BC39: 83.6 | BF39: 92.4 | BI39: 83.2 | BL39: 61 | BO39: 78.7 | BR39: 69.4 | BU39: 88.8 | BX39: 48.6 | CA39: 78.8 | CD39: 95.9 | CG39: 87.3 | CJ39: 75.2 | CM39: 82.1 | CP39: 83.1 | CV39: 88.5
